BEGIN:VCALENDAR
VERSION:2.0
PRODID:-//Parafia pw. Wniebowzięcia NMP w Czerwonej Wodzie - ECPv6.8.1//NONSGML v1.0//EN
CALSCALE:GREGORIAN
METHOD:PUBLISH
X-ORIGINAL-URL:http://parafia.czerwonawoda.pl
X-WR-CALDESC:Events for Parafia pw. Wniebowzięcia NMP w Czerwonej Wodzie
REFRESH-INTERVAL;VALUE=DURATION:PT1H
X-Robots-Tag:noindex
X-PUBLISHED-TTL:PT1H
BEGIN:VTIMEZONE
TZID:Europe/Helsinki
BEGIN:DAYLIGHT
TZOFFSETFROM:+0200
TZOFFSETTO:+0300
TZNAME:EEST
DTSTART:20210328T010000
END:DAYLIGHT
BEGIN:STANDARD
TZOFFSETFROM:+0300
TZOFFSETTO:+0200
TZNAME:EET
DTSTART:20211031T010000
END:STANDARD
END:VTIMEZONE
BEGIN:VEVENT
DTSTART;TZID=Europe/Helsinki:20210112T170000
DTEND;TZID=Europe/Helsinki:20210112T170000
DTSTAMP:20260421T215311
CREATED:20210109T192353Z
LAST-MODIFIED:20210109T192353Z
UID:6444-1610470800-1610470800@parafia.czerwonawoda.pl
SUMMARY:Msza Święta Kolędowa – W intencji Parafian z ulicy Czerwionki i Lubańskiej
DESCRIPTION:
URL:http://parafia.czerwonawoda.pl/event/msza-swieta-koledowa-w-intencji-parafian-z-ulicy-czerwionki-i-lubanskiej/
END:VEVENT
END:VCALENDAR