BEGIN:VCALENDAR
VERSION:2.0
PRODID:-//Parafia pw. Wniebowzięcia NMP w Czerwonej Wodzie - ECPv6.8.1//NONSGML v1.0//EN
CALSCALE:GREGORIAN
METHOD:PUBLISH
X-ORIGINAL-URL:http://parafia.czerwonawoda.pl
X-WR-CALDESC:Events for Parafia pw. Wniebowzięcia NMP w Czerwonej Wodzie
REFRESH-INTERVAL;VALUE=DURATION:PT1H
X-Robots-Tag:noindex
X-PUBLISHED-TTL:PT1H
BEGIN:VTIMEZONE
TZID:Europe/Helsinki
BEGIN:DAYLIGHT
TZOFFSETFROM:+0200
TZOFFSETTO:+0300
TZNAME:EEST
DTSTART:20220327T010000
END:DAYLIGHT
BEGIN:STANDARD
TZOFFSETFROM:+0300
TZOFFSETTO:+0200
TZNAME:EET
DTSTART:20221030T010000
END:STANDARD
END:VTIMEZONE
BEGIN:VEVENT
DTSTART;TZID=Europe/Helsinki:20220107T170000
DTEND;TZID=Europe/Helsinki:20220107T170000
DTSTAMP:20260421T022032
CREATED:20220101T125556Z
LAST-MODIFIED:20220101T125556Z
UID:7609-1641574800-1641574800@parafia.czerwonawoda.pl
SUMMARY:Msza Święta Kolędowa – w intencji parafian z ul. 3-go Maja i Kuźniczyska
DESCRIPTION:
URL:http://parafia.czerwonawoda.pl/event/msza-swieta-koledowa-w-intencji-parafian-z-ul-3-go-maja-i-kuzniczyska/
END:VEVENT
END:VCALENDAR