BEGIN:VCALENDAR
VERSION:2.0
PRODID:-//Parafia pw. Wniebowzięcia NMP w Czerwonej Wodzie - ECPv6.8.1//NONSGML v1.0//EN
CALSCALE:GREGORIAN
METHOD:PUBLISH
X-ORIGINAL-URL:http://parafia.czerwonawoda.pl
X-WR-CALDESC:Events for Parafia pw. Wniebowzięcia NMP w Czerwonej Wodzie
REFRESH-INTERVAL;VALUE=DURATION:PT1H
X-Robots-Tag:noindex
X-PUBLISHED-TTL:PT1H
BEGIN:VTIMEZONE
TZID:Europe/Helsinki
BEGIN:DAYLIGHT
TZOFFSETFROM:+0200
TZOFFSETTO:+0300
TZNAME:EEST
DTSTART:20230326T010000
END:DAYLIGHT
BEGIN:STANDARD
TZOFFSETFROM:+0300
TZOFFSETTO:+0200
TZNAME:EET
DTSTART:20231029T010000
END:STANDARD
END:VTIMEZONE
BEGIN:VEVENT
DTSTART;VALUE=DATE:20230326
DTEND;VALUE=DATE:20230402
DTSTAMP:20260420T034119
CREATED:20230321T195023Z
LAST-MODIFIED:20230321T195023Z
UID:9299-1679788800-1680393599@parafia.czerwonawoda.pl
SUMMARY:Parafialna Świąteczna Zbiórka Żywności
DESCRIPTION:
URL:http://parafia.czerwonawoda.pl/event/parafialna-swiateczna-zbiorka-zywnosci-2/
END:VEVENT
BEGIN:VEVENT
DTSTART;TZID=Europe/Helsinki:20230401T074500
DTEND;TZID=Europe/Helsinki:20230401T074500
DTSTAMP:20260420T034119
CREATED:20230325T203630Z
LAST-MODIFIED:20230325T203630Z
UID:9314-1680335100-1680335100@parafia.czerwonawoda.pl
SUMMARY:Modlitwy wynagradzające Niepokalanemu Sercu Maryi
DESCRIPTION:
URL:http://parafia.czerwonawoda.pl/event/modlitwy-wynagradzajace-niepokalanemu-sercu-maryi/
END:VEVENT
BEGIN:VEVENT
DTSTART;TZID=Europe/Helsinki:20230401T100000
DTEND;TZID=Europe/Helsinki:20230401T100000
DTSTAMP:20260420T034119
CREATED:20230325T203659Z
LAST-MODIFIED:20230325T203659Z
UID:9316-1680343200-1680343200@parafia.czerwonawoda.pl
SUMMARY:Zbiórka wszystkich kandydatów na ministrantów\, ministrantów i lektorów. Obecność obowiązkowa!!!
DESCRIPTION:
URL:http://parafia.czerwonawoda.pl/event/zbiorka-wszystkich-kandydatow-na-ministrantow-ministrantow-i-lektorow-obecnosc-obowiazkowa/
END:VEVENT
END:VCALENDAR