BEGIN:VCALENDAR
VERSION:2.0
PRODID:-//Parafia pw. Wniebowzięcia NMP w Czerwonej Wodzie - ECPv6.8.1//NONSGML v1.0//EN
CALSCALE:GREGORIAN
METHOD:PUBLISH
X-ORIGINAL-URL:http://parafia.czerwonawoda.pl
X-WR-CALDESC:Events for Parafia pw. Wniebowzięcia NMP w Czerwonej Wodzie
REFRESH-INTERVAL;VALUE=DURATION:PT1H
X-Robots-Tag:noindex
X-PUBLISHED-TTL:PT1H
BEGIN:VTIMEZONE
TZID:Europe/Helsinki
BEGIN:DAYLIGHT
TZOFFSETFROM:+0200
TZOFFSETTO:+0300
TZNAME:EEST
DTSTART:20230326T010000
END:DAYLIGHT
BEGIN:STANDARD
TZOFFSETFROM:+0300
TZOFFSETTO:+0200
TZNAME:EET
DTSTART:20231029T010000
END:STANDARD
END:VTIMEZONE
BEGIN:VEVENT
DTSTART;TZID=Europe/Helsinki:20230524T153000
DTEND;TZID=Europe/Helsinki:20230524T153000
DTSTAMP:20260420T022949
CREATED:20230521T154130Z
LAST-MODIFIED:20230521T154130Z
UID:9913-1684942200-1684942200@parafia.czerwonawoda.pl
SUMMARY:Spotkanie dla dzieci rocznicowych i ich rodziców
DESCRIPTION:
URL:http://parafia.czerwonawoda.pl/event/spotkanie-dla-dzieci-rocznicowych-i-ich-rodzicow/
END:VEVENT
BEGIN:VEVENT
DTSTART;TZID=Europe/Helsinki:20230524T161500
DTEND;TZID=Europe/Helsinki:20230524T161500
DTSTAMP:20260420T022949
CREATED:20230521T154206Z
LAST-MODIFIED:20230521T154206Z
UID:9915-1684944900-1684944900@parafia.czerwonawoda.pl
SUMMARY:Zbiórka dla kandydatów na ministrantów
DESCRIPTION:
URL:http://parafia.czerwonawoda.pl/event/zbiorka-dla-kandydatow-na-ministrantow-2/
END:VEVENT
END:VCALENDAR