BEGIN:VCALENDAR
VERSION:2.0
PRODID:-//Parafia pw. Wniebowzięcia NMP w Czerwonej Wodzie - ECPv6.8.1//NONSGML v1.0//EN
CALSCALE:GREGORIAN
METHOD:PUBLISH
X-ORIGINAL-URL:http://parafia.czerwonawoda.pl
X-WR-CALDESC:Events for Parafia pw. Wniebowzięcia NMP w Czerwonej Wodzie
REFRESH-INTERVAL;VALUE=DURATION:PT1H
X-Robots-Tag:noindex
X-PUBLISHED-TTL:PT1H
BEGIN:VTIMEZONE
TZID:Europe/Helsinki
BEGIN:DAYLIGHT
TZOFFSETFROM:+0200
TZOFFSETTO:+0300
TZNAME:EEST
DTSTART:20240331T010000
END:DAYLIGHT
BEGIN:STANDARD
TZOFFSETFROM:+0300
TZOFFSETTO:+0200
TZNAME:EET
DTSTART:20241027T010000
END:STANDARD
END:VTIMEZONE
BEGIN:VEVENT
DTSTART;TZID=Europe/Helsinki:20240225T150000
DTEND;TZID=Europe/Helsinki:20240225T150000
DTSTAMP:20260419T201136
CREATED:20240224T173259Z
LAST-MODIFIED:20240224T173259Z
UID:11482-1708873200-1708873200@parafia.czerwonawoda.pl
SUMMARY:Wystawienie Najświętszego Sakramentu\, koronka do Bożego Miłosierdzia\, modlitwy Róż Różańcowych\, Margaretek\, Czcicieli pierwszych sobót miesiąca\, wspólnoty Krwi Chrystusa w intencji naszej Ojczyzny
DESCRIPTION:
URL:http://parafia.czerwonawoda.pl/event/wystawienie-najswietszego-sakramentu-koronka-do-bozego-milosierdzia-modlitwy-roz-rozancowych-margaretek-czcicieli-pierwszych-sobot-miesiaca-wspolnoty-krwi-chrystusa-w-intencji-naszej-ojczyzny/
END:VEVENT
BEGIN:VEVENT
DTSTART;TZID=Europe/Helsinki:20240225T163000
DTEND;TZID=Europe/Helsinki:20240225T163000
DTSTAMP:20260419T201136
CREATED:20240224T173741Z
LAST-MODIFIED:20240224T173844Z
UID:11484-1708878600-1708878600@parafia.czerwonawoda.pl
SUMMARY:Nauki przedmałżeńskie
DESCRIPTION:
URL:http://parafia.czerwonawoda.pl/event/nauki-przedmalzenskie-6/
ATTACH;FMTTYPE=image/png:http://parafia.czerwonawoda.pl/wp-content/uploads/2024/02/nauki2.png
END:VEVENT
END:VCALENDAR