BEGIN:VCALENDAR
VERSION:2.0
PRODID:-//Parafia pw. Wniebowzięcia NMP w Czerwonej Wodzie - ECPv6.8.1//NONSGML v1.0//EN
CALSCALE:GREGORIAN
METHOD:PUBLISH
X-ORIGINAL-URL:http://parafia.czerwonawoda.pl
X-WR-CALDESC:Events for Parafia pw. Wniebowzięcia NMP w Czerwonej Wodzie
REFRESH-INTERVAL;VALUE=DURATION:PT1H
X-Robots-Tag:noindex
X-PUBLISHED-TTL:PT1H
BEGIN:VTIMEZONE
TZID:Europe/Helsinki
BEGIN:DAYLIGHT
TZOFFSETFROM:+0200
TZOFFSETTO:+0300
TZNAME:EEST
DTSTART:20240331T010000
END:DAYLIGHT
BEGIN:STANDARD
TZOFFSETFROM:+0300
TZOFFSETTO:+0200
TZNAME:EET
DTSTART:20241027T010000
END:STANDARD
END:VTIMEZONE
BEGIN:VEVENT
DTSTART;TZID=Europe/Helsinki:20240507T151500
DTEND;TZID=Europe/Helsinki:20240507T151500
DTSTAMP:20260420T004815
CREATED:20240505T065859Z
LAST-MODIFIED:20240505T065859Z
UID:11765-1715094900-1715094900@parafia.czerwonawoda.pl
SUMMARY:Spotkanie dla dzieci pierwszokomunijnych
DESCRIPTION:
URL:http://parafia.czerwonawoda.pl/event/spotkanie-dla-dzieci-pierwszokomunijnych-9/
END:VEVENT
END:VCALENDAR