BEGIN:VCALENDAR
VERSION:2.0
PRODID:-//Parafia pw. Wniebowzięcia NMP w Czerwonej Wodzie - ECPv6.8.1//NONSGML v1.0//EN
CALSCALE:GREGORIAN
METHOD:PUBLISH
X-ORIGINAL-URL:http://parafia.czerwonawoda.pl
X-WR-CALDESC:Events for Parafia pw. Wniebowzięcia NMP w Czerwonej Wodzie
REFRESH-INTERVAL;VALUE=DURATION:PT1H
X-Robots-Tag:noindex
X-PUBLISHED-TTL:PT1H
BEGIN:VTIMEZONE
TZID:Europe/Helsinki
BEGIN:DAYLIGHT
TZOFFSETFROM:+0200
TZOFFSETTO:+0300
TZNAME:EEST
DTSTART:20240331T010000
END:DAYLIGHT
BEGIN:STANDARD
TZOFFSETFROM:+0300
TZOFFSETTO:+0200
TZNAME:EET
DTSTART:20241027T010000
END:STANDARD
END:VTIMEZONE
BEGIN:VEVENT
DTSTART;TZID=Europe/Helsinki:20241102T090000
DTEND;TZID=Europe/Helsinki:20241102T090000
DTSTAMP:20260420T083758
CREATED:20241019T173345Z
LAST-MODIFIED:20241019T173345Z
UID:12481-1730538000-1730538000@parafia.czerwonawoda.pl
SUMMARY:Nabożeństwo wypominkowe za zmarłych - ul. 3-go Maja i Kościelnik
DESCRIPTION:
URL:http://parafia.czerwonawoda.pl/event/nabozenstwo-wypominkowe-za-zmarlych-ul-3-go-maja-i-koscielnik/
END:VEVENT
BEGIN:VEVENT
DTSTART;TZID=Europe/Helsinki:20241102T103000
DTEND;TZID=Europe/Helsinki:20241102T103000
DTSTAMP:20260420T083758
CREATED:20241019T173431Z
LAST-MODIFIED:20241019T173431Z
UID:12483-1730543400-1730543400@parafia.czerwonawoda.pl
SUMMARY:Nabożeństwo wypominkowe za zmarłych - Bielawa Górna
DESCRIPTION:
URL:http://parafia.czerwonawoda.pl/event/nabozenstwo-wypominkowe-za-zmarlych-bielawa-gorna/
END:VEVENT
END:VCALENDAR