BEGIN:VCALENDAR
VERSION:2.0
PRODID:-//Parafia pw. Wniebowzięcia NMP w Czerwonej Wodzie - ECPv6.8.1//NONSGML v1.0//EN
CALSCALE:GREGORIAN
METHOD:PUBLISH
X-ORIGINAL-URL:http://parafia.czerwonawoda.pl
X-WR-CALDESC:Events for Parafia pw. Wniebowzięcia NMP w Czerwonej Wodzie
REFRESH-INTERVAL;VALUE=DURATION:PT1H
X-Robots-Tag:noindex
X-PUBLISHED-TTL:PT1H
BEGIN:VTIMEZONE
TZID:Europe/Helsinki
BEGIN:DAYLIGHT
TZOFFSETFROM:+0200
TZOFFSETTO:+0300
TZNAME:EEST
DTSTART:20250330T010000
END:DAYLIGHT
BEGIN:STANDARD
TZOFFSETFROM:+0300
TZOFFSETTO:+0200
TZNAME:EET
DTSTART:20251026T010000
END:STANDARD
END:VTIMEZONE
BEGIN:VEVENT
DTSTART;VALUE=DATE:20250406
DTEND;VALUE=DATE:20250413
DTSTAMP:20260420T082232
CREATED:20250406T125941Z
LAST-MODIFIED:20250406T125941Z
UID:13590-1743897600-1744502399@parafia.czerwonawoda.pl
SUMMARY:Parafialna Świąteczna Zbiórka Żywności
DESCRIPTION:
URL:http://parafia.czerwonawoda.pl/event/parafialna-swiateczna-zbiorka-zywnosci-5/
END:VEVENT
BEGIN:VEVENT
DTSTART;TZID=Europe/Helsinki:20250412T100000
DTEND;TZID=Europe/Helsinki:20250412T100000
DTSTAMP:20260420T082232
CREATED:20250406T130025Z
LAST-MODIFIED:20250406T130025Z
UID:13592-1744452000-1744452000@parafia.czerwonawoda.pl
SUMMARY:Spotkanie dla młodzieży\, która w tym roku ma przystąpić do sakramentu bierzmowania
DESCRIPTION:
URL:http://parafia.czerwonawoda.pl/event/spotkanie-dla-mlodziezy-ktora-w-tym-roku-ma-przystapic-do-sakramentu-bierzmowania-3/
END:VEVENT
BEGIN:VEVENT
DTSTART;TZID=Europe/Helsinki:20250412T113000
DTEND;TZID=Europe/Helsinki:20250412T113000
DTSTAMP:20260420T082232
CREATED:20250412T191004Z
LAST-MODIFIED:20250412T191004Z
UID:13616-1744457400-1744457400@parafia.czerwonawoda.pl
SUMMARY:Poświęcenie pokarmów - Czerwona Woda
DESCRIPTION:
URL:http://parafia.czerwonawoda.pl/event/poswiecenie-pokarmow-czerwona-woda-2/
END:VEVENT
END:VCALENDAR