BEGIN:VCALENDAR
VERSION:2.0
PRODID:-//Parafia pw. Wniebowzięcia NMP w Czerwonej Wodzie - ECPv6.8.1//NONSGML v1.0//EN
CALSCALE:GREGORIAN
METHOD:PUBLISH
X-ORIGINAL-URL:http://parafia.czerwonawoda.pl
X-WR-CALDESC:Events for Parafia pw. Wniebowzięcia NMP w Czerwonej Wodzie
REFRESH-INTERVAL;VALUE=DURATION:PT1H
X-Robots-Tag:noindex
X-PUBLISHED-TTL:PT1H
BEGIN:VTIMEZONE
TZID:Europe/Helsinki
BEGIN:DAYLIGHT
TZOFFSETFROM:+0200
TZOFFSETTO:+0300
TZNAME:EEST
DTSTART:20250330T010000
END:DAYLIGHT
BEGIN:STANDARD
TZOFFSETFROM:+0300
TZOFFSETTO:+0200
TZNAME:EET
DTSTART:20251026T010000
END:STANDARD
END:VTIMEZONE
BEGIN:VEVENT
DTSTART;TZID=Europe/Helsinki:20250102T093000
DTEND;TZID=Europe/Helsinki:20250102T093000
DTSTAMP:20260421T131601
CREATED:20241228T201541Z
LAST-MODIFIED:20241228T201541Z
UID:12796-1735810200-1735810200@parafia.czerwonawoda.pl
SUMMARY:Wizyta duszpasterska - ul. Czerwionki 1 - 26
DESCRIPTION:
URL:http://parafia.czerwonawoda.pl/event/wizyta-duszpasterska-ul-czerwionki-1-26/
CATEGORIES:Wizyta duszpasterska
END:VEVENT
END:VCALENDAR