BEGIN:VCALENDAR
VERSION:2.0
PRODID:-//Parafia pw. Wniebowzięcia NMP w Czerwonej Wodzie - ECPv6.8.1//NONSGML v1.0//EN
CALSCALE:GREGORIAN
METHOD:PUBLISH
X-ORIGINAL-URL:http://parafia.czerwonawoda.pl
X-WR-CALDESC:Events for Parafia pw. Wniebowzięcia NMP w Czerwonej Wodzie
REFRESH-INTERVAL;VALUE=DURATION:PT1H
X-Robots-Tag:noindex
X-PUBLISHED-TTL:PT1H
BEGIN:VTIMEZONE
TZID:Europe/Helsinki
BEGIN:DAYLIGHT
TZOFFSETFROM:+0200
TZOFFSETTO:+0300
TZNAME:EEST
DTSTART:20230326T010000
END:DAYLIGHT
BEGIN:STANDARD
TZOFFSETFROM:+0300
TZOFFSETTO:+0200
TZNAME:EET
DTSTART:20231029T010000
END:STANDARD
BEGIN:DAYLIGHT
TZOFFSETFROM:+0200
TZOFFSETTO:+0300
TZNAME:EEST
DTSTART:20240331T010000
END:DAYLIGHT
BEGIN:STANDARD
TZOFFSETFROM:+0300
TZOFFSETTO:+0200
TZNAME:EET
DTSTART:20241027T010000
END:STANDARD
END:VTIMEZONE
BEGIN:VEVENT
DTSTART;TZID=Europe/Helsinki:20230618T113000
DTEND;TZID=Europe/Helsinki:20230618T113000
DTSTAMP:20260420T022530
CREATED:20230611T190147Z
LAST-MODIFIED:20230611T190147Z
UID:10126-1687087800-1687087800@parafia.czerwonawoda.pl
SUMMARY:Spotkanie dla dzieci z klasy II\, które rozpoczynają bezpośrednie przygotowanie do Pierwszej Spowiedzi i Pierwszej Komunii Świętej oraz ich rodziców i opiekunów prawnych
DESCRIPTION:
URL:http://parafia.czerwonawoda.pl/event/spotkanie-dla-dzieci-z-klasy-ii-ktore-rozpoczynaja-bezposrednie-przygotowanie-do-pierwszej-spowiedzi-i-pierwszej-komunii-swietej-oraz-ich-rodzicow-i-opiekunow-prawnych/
END:VEVENT
BEGIN:VEVENT
DTSTART;TZID=Europe/Helsinki:20230618T121500
DTEND;TZID=Europe/Helsinki:20230618T121500
DTSTAMP:20260420T022530
CREATED:20230611T190229Z
LAST-MODIFIED:20230611T190229Z
UID:10128-1687090500-1687090500@parafia.czerwonawoda.pl
SUMMARY:Spotkanie w sprawie organizacji festynu parafialnego
DESCRIPTION:
URL:http://parafia.czerwonawoda.pl/event/spotkanie-w-sprawie-organizacji-festynu-parafialnego/
END:VEVENT
BEGIN:VEVENT
DTSTART;TZID=Europe/Helsinki:20230622T090000
DTEND;TZID=Europe/Helsinki:20230622T090000
DTSTAMP:20260420T022530
CREATED:20230611T190300Z
LAST-MODIFIED:20230611T190300Z
UID:10130-1687424400-1687424400@parafia.czerwonawoda.pl
SUMMARY:Msza święta na zakończenie roku szkolnego i katechetycznego
DESCRIPTION:
URL:http://parafia.czerwonawoda.pl/event/msza-swieta-na-zakonczenie-roku-szkolnego-i-katechetycznego-2/
END:VEVENT
BEGIN:VEVENT
DTSTART;TZID=Europe/Helsinki:20230702T113000
DTEND;TZID=Europe/Helsinki:20230702T113000
DTSTAMP:20260420T022530
CREATED:20230625T191505Z
LAST-MODIFIED:20230625T191505Z
UID:10272-1688297400-1688297400@parafia.czerwonawoda.pl
SUMMARY:Spotkanie w sprawie organizacji festynu parafialnego
DESCRIPTION:
URL:http://parafia.czerwonawoda.pl/event/spotkanie-w-sprawie-organizacji-festynu-parafialnego-2/
END:VEVENT
BEGIN:VEVENT
DTSTART;VALUE=DATE:20230815
DTEND;VALUE=DATE:20230816
DTSTAMP:20260420T022530
CREATED:20230625T191431Z
LAST-MODIFIED:20230625T191431Z
UID:10270-1692057600-1692143999@parafia.czerwonawoda.pl
SUMMARY:V Parafialny Festyn Rodzinny
DESCRIPTION:
URL:http://parafia.czerwonawoda.pl/event/v-parafialny-festyn-rodzinny/
END:VEVENT
BEGIN:VEVENT
DTSTART;TZID=Europe/Helsinki:20230815T130000
DTEND;TZID=Europe/Helsinki:20230815T130000
DTSTAMP:20260420T022530
CREATED:20221113T190045Z
LAST-MODIFIED:20221113T190045Z
UID:8831-1692104400-1692104400@parafia.czerwonawoda.pl
SUMMARY:Odpust parafialny
DESCRIPTION:
URL:http://parafia.czerwonawoda.pl/event/odpust-parafialny-5/
END:VEVENT
BEGIN:VEVENT
DTSTART;TZID=Europe/Helsinki:20231130T173000
DTEND;TZID=Europe/Helsinki:20231130T173000
DTSTAMP:20260420T022530
CREATED:20231125T125719Z
LAST-MODIFIED:20231125T125719Z
UID:10781-1701365400-1701365400@parafia.czerwonawoda.pl
SUMMARY:Spotkanie Rady Parafialnej
DESCRIPTION:
URL:http://parafia.czerwonawoda.pl/event/spotkanie-rady-parafialnej-3/
END:VEVENT
BEGIN:VEVENT
DTSTART;VALUE=DATE:20231203
DTEND;VALUE=DATE:20231204
DTSTAMP:20260420T022530
CREATED:20231125T125633Z
LAST-MODIFIED:20231125T125700Z
UID:10778-1701561600-1701647999@parafia.czerwonawoda.pl
SUMMARY:Adwentowy dzień skupienia pt. „Idźcie do Józefa” z wprowadzeniem i poświęceniem kopii cudownego obrazu św. Józefa Kaliskiego
DESCRIPTION:
URL:http://parafia.czerwonawoda.pl/event/adwentowy-dzien-skupienia-pt-idzcie-do-jozefa-z-wprowadzeniem-i-poswieceniem-kopii-cudownego-obrazu-sw-jozefa-kaliskiego/
END:VEVENT
BEGIN:VEVENT
DTSTART;VALUE=DATE:20231203
DTEND;VALUE=DATE:20231214
DTSTAMP:20260420T022530
CREATED:20231203T152048Z
LAST-MODIFIED:20231203T152048Z
UID:10794-1701561600-1702511999@parafia.czerwonawoda.pl
SUMMARY:Świąteczna zbiórka artykułów żywnościowych dla osób potrzebujących pomocy
DESCRIPTION:
URL:http://parafia.czerwonawoda.pl/event/swiateczna-zbiorka-artykulow-zywnosciowych-dla-osob-potrzebujacych-pomocy/
END:VEVENT
BEGIN:VEVENT
DTSTART;TZID=Europe/Helsinki:20231221T083000
DTEND;TZID=Europe/Helsinki:20231221T083000
DTSTAMP:20260420T022530
CREATED:20231203T152200Z
LAST-MODIFIED:20231216T183541Z
UID:10796-1703147400-1703147400@parafia.czerwonawoda.pl
SUMMARY:Spowiedź przed Świętami Bożego Narodzenia - Czerwona Woda
DESCRIPTION:
URL:http://parafia.czerwonawoda.pl/event/spowiedz-przed-swietami-bozego-narodzenia/
END:VEVENT
BEGIN:VEVENT
DTSTART;TZID=Europe/Helsinki:20231221T154500
DTEND;TZID=Europe/Helsinki:20231221T154500
DTSTAMP:20260420T022530
CREATED:20231216T183650Z
LAST-MODIFIED:20231216T183650Z
UID:10829-1703173500-1703173500@parafia.czerwonawoda.pl
SUMMARY:Spowiedź przed Świętami Bożego Narodzenia - Bielawa Górna
DESCRIPTION:
URL:http://parafia.czerwonawoda.pl/event/spowiedz-przed-swietami-bozego-narodzenia-bielawa-gorna/
END:VEVENT
BEGIN:VEVENT
DTSTART;TZID=Europe/Helsinki:20231221T160000
DTEND;TZID=Europe/Helsinki:20231221T170000
DTSTAMP:20260420T022530
CREATED:20231216T183618Z
LAST-MODIFIED:20231216T183618Z
UID:10827-1703174400-1703178000@parafia.czerwonawoda.pl
SUMMARY:Spowiedź przed Świętami Bożego Narodzenia - Czerwona Woda
DESCRIPTION:
URL:http://parafia.czerwonawoda.pl/event/spowiedz-przed-swietami-bozego-narodzenia-czerwona-woda/
END:VEVENT
BEGIN:VEVENT
DTSTART;TZID=Europe/Helsinki:20231231T113000
DTEND;TZID=Europe/Helsinki:20231231T113000
DTSTAMP:20260420T022530
CREATED:20231230T215607Z
LAST-MODIFIED:20231230T215607Z
UID:10854-1704022200-1704022200@parafia.czerwonawoda.pl
SUMMARY:Zbiórka ministrantów
DESCRIPTION:
URL:http://parafia.czerwonawoda.pl/event/zbiorka-ministrantow-7/
END:VEVENT
BEGIN:VEVENT
DTSTART;TZID=Europe/Helsinki:20231231T113000
DTEND;TZID=Europe/Helsinki:20231231T150000
DTSTAMP:20260420T022530
CREATED:20231230T215644Z
LAST-MODIFIED:20231230T215644Z
UID:10856-1704022200-1704034800@parafia.czerwonawoda.pl
SUMMARY:Adoracja Najświętszego Sakramentu
DESCRIPTION:
URL:http://parafia.czerwonawoda.pl/event/adoracja-najswietszego-sakramentu/
END:VEVENT
BEGIN:VEVENT
DTSTART;TZID=Europe/Helsinki:20231231T150000
DTEND;TZID=Europe/Helsinki:20231231T150000
DTSTAMP:20260420T022530
CREATED:20231230T215710Z
LAST-MODIFIED:20231230T215710Z
UID:10858-1704034800-1704034800@parafia.czerwonawoda.pl
SUMMARY:Nabożeństwo dziękczynno-błagalne na zakończenie starego roku
DESCRIPTION:
URL:http://parafia.czerwonawoda.pl/event/nabozenstwo-dziekczynno-blagalne-na-zakonczenie-starego-roku/
END:VEVENT
BEGIN:VEVENT
DTSTART;TZID=Europe/Helsinki:20240102T143000
DTEND;TZID=Europe/Helsinki:20240102T143000
DTSTAMP:20260420T022530
CREATED:20231230T215851Z
LAST-MODIFIED:20231230T215851Z
UID:10862-1704205800-1704205800@parafia.czerwonawoda.pl
SUMMARY:Wizyta duszpasterska - ul. Zgorzelecka 1-17
DESCRIPTION:
URL:http://parafia.czerwonawoda.pl/event/wizyta-duszpasterska-ul-zgorzelecka-1-17-3/
END:VEVENT
BEGIN:VEVENT
DTSTART;TZID=Europe/Helsinki:20240102T170000
DTEND;TZID=Europe/Helsinki:20240102T170000
DTSTAMP:20260420T022530
CREATED:20231230T215754Z
LAST-MODIFIED:20231230T215754Z
UID:10860-1704214800-1704214800@parafia.czerwonawoda.pl
SUMMARY:Spotkanie w sprawie organizacji Orszaku Trzech Króli
DESCRIPTION:
URL:http://parafia.czerwonawoda.pl/event/spotkanie-w-sprawie-organizacji-orszaku-trzech-kroli/
END:VEVENT
BEGIN:VEVENT
DTSTART;TZID=Europe/Helsinki:20240103T143000
DTEND;TZID=Europe/Helsinki:20240103T143000
DTSTAMP:20260420T022530
CREATED:20231230T215926Z
LAST-MODIFIED:20231230T215926Z
UID:10864-1704292200-1704292200@parafia.czerwonawoda.pl
SUMMARY:Wizyta duszpasterska - ul. Zgorzelecka 18 do końca
DESCRIPTION:
URL:http://parafia.czerwonawoda.pl/event/wizyta-duszpasterska-ul-zgorzelecka-18-do-konca-2/
END:VEVENT
BEGIN:VEVENT
DTSTART;TZID=Europe/Helsinki:20240104T143000
DTEND;TZID=Europe/Helsinki:20240104T143000
DTSTAMP:20260420T022530
CREATED:20231230T215955Z
LAST-MODIFIED:20231230T215955Z
UID:10866-1704378600-1704378600@parafia.czerwonawoda.pl
SUMMARY:Wizyta duszpasterska - ul. 5-go Grudnia 1-14
DESCRIPTION:
URL:http://parafia.czerwonawoda.pl/event/wizyta-duszpasterska-ul-5-go-grudnia-1-14-3/
END:VEVENT
BEGIN:VEVENT
DTSTART;TZID=Europe/Helsinki:20240105T143000
DTEND;TZID=Europe/Helsinki:20240105T143000
DTSTAMP:20260420T022530
CREATED:20231230T220025Z
LAST-MODIFIED:20231230T220025Z
UID:10868-1704465000-1704465000@parafia.czerwonawoda.pl
SUMMARY:Wizyta duszpasterska - ul. 5-go Grudnia 15 do końca
DESCRIPTION:
URL:http://parafia.czerwonawoda.pl/event/wizyta-duszpasterska-ul-5-go-grudnia-15-do-konca/
END:VEVENT
BEGIN:VEVENT
DTSTART;TZID=Europe/Helsinki:20240106T113000
DTEND;TZID=Europe/Helsinki:20240106T113000
DTSTAMP:20260420T022530
CREATED:20231125T125521Z
LAST-MODIFIED:20231125T125521Z
UID:10776-1704540600-1704540600@parafia.czerwonawoda.pl
SUMMARY:Orszak Trzech Króli
DESCRIPTION:
URL:http://parafia.czerwonawoda.pl/event/orszak-trzech-kroli/
END:VEVENT
BEGIN:VEVENT
DTSTART;VALUE=DATE:20240107
DTEND;VALUE=DATE:20240108
DTSTAMP:20260420T022530
CREATED:20231202T203338Z
LAST-MODIFIED:20231202T203338Z
UID:10785-1704585600-1704671999@parafia.czerwonawoda.pl
SUMMARY:Wybory do Parafialnej Rady Duszpasterskiej
DESCRIPTION:
URL:http://parafia.czerwonawoda.pl/event/wybory-do-parafialnej-rady-duszpasterskiej/
END:VEVENT
BEGIN:VEVENT
DTSTART;TZID=Europe/Helsinki:20240108T143000
DTEND;TZID=Europe/Helsinki:20240108T143000
DTSTAMP:20260420T022530
CREATED:20240107T173124Z
LAST-MODIFIED:20240107T173124Z
UID:10878-1704724200-1704724200@parafia.czerwonawoda.pl
SUMMARY:Wizyta duszpasterska - ul. Czerwionki 1-25
DESCRIPTION:
URL:http://parafia.czerwonawoda.pl/event/wizyta-duszpasterska-ul-czerwionki-1-25/
END:VEVENT
BEGIN:VEVENT
DTSTART;TZID=Europe/Helsinki:20240109T143000
DTEND;TZID=Europe/Helsinki:20240109T143000
DTSTAMP:20260420T022530
CREATED:20240107T173202Z
LAST-MODIFIED:20240107T173202Z
UID:10880-1704810600-1704810600@parafia.czerwonawoda.pl
SUMMARY:Wizyta duszpasterska - ul. Czerwionki 26 do końca
DESCRIPTION:
URL:http://parafia.czerwonawoda.pl/event/wizyta-duszpasterska-ul-czerwionki-26-do-konca/
END:VEVENT
BEGIN:VEVENT
DTSTART;TZID=Europe/Helsinki:20240110T143000
DTEND;TZID=Europe/Helsinki:20240110T143000
DTSTAMP:20260420T022530
CREATED:20240107T173232Z
LAST-MODIFIED:20240107T173232Z
UID:10882-1704897000-1704897000@parafia.czerwonawoda.pl
SUMMARY:Wizyta duszpasterska - ul. 3 Maja 1-14
DESCRIPTION:
URL:http://parafia.czerwonawoda.pl/event/wizyta-duszpasterska-ul-3-maja-1-14/
END:VEVENT
BEGIN:VEVENT
DTSTART;TZID=Europe/Helsinki:20240111T143000
DTEND;TZID=Europe/Helsinki:20240111T143000
DTSTAMP:20260420T022530
CREATED:20240107T173304Z
LAST-MODIFIED:20240107T173304Z
UID:10884-1704983400-1704983400@parafia.czerwonawoda.pl
SUMMARY:Wizyta duszpasterska - ul. 3 Maja 15-36
DESCRIPTION:
URL:http://parafia.czerwonawoda.pl/event/wizyta-duszpasterska-ul-3-maja-15-36/
END:VEVENT
BEGIN:VEVENT
DTSTART;TZID=Europe/Helsinki:20240112T143000
DTEND;TZID=Europe/Helsinki:20240112T143000
DTSTAMP:20260420T022530
CREATED:20240107T173336Z
LAST-MODIFIED:20240107T173336Z
UID:10886-1705069800-1705069800@parafia.czerwonawoda.pl
SUMMARY:Wizyta duszpasterska - ul. 3 Maja 37 do końca i Kościelnik
DESCRIPTION:
URL:http://parafia.czerwonawoda.pl/event/wizyta-duszpasterska-ul-3-maja-37-do-konca-i-koscielnik/
END:VEVENT
BEGIN:VEVENT
DTSTART;TZID=Europe/Helsinki:20240113T093000
DTEND;TZID=Europe/Helsinki:20240113T093000
DTSTAMP:20260420T022530
CREATED:20240107T173413Z
LAST-MODIFIED:20240107T173413Z
UID:10888-1705138200-1705138200@parafia.czerwonawoda.pl
SUMMARY:Wizyta duszpasterska - ul. Kuźniczyska
DESCRIPTION:
URL:http://parafia.czerwonawoda.pl/event/wizyta-duszpasterska-ul-kuzniczyska-2/
END:VEVENT
BEGIN:VEVENT
DTSTART;TZID=Europe/Helsinki:20240115T093000
DTEND;TZID=Europe/Helsinki:20240115T093000
DTSTAMP:20260420T022530
CREATED:20240114T200655Z
LAST-MODIFIED:20240114T200655Z
UID:11149-1705311000-1705311000@parafia.czerwonawoda.pl
SUMMARY:Wizyta duszpasterska - ul. Kolejowa 1 - 11
DESCRIPTION:
URL:http://parafia.czerwonawoda.pl/event/wizyta-duszpasterska-ul-kolejowa-1-11/
END:VEVENT
BEGIN:VEVENT
DTSTART;TZID=Europe/Helsinki:20240115T143000
DTEND;TZID=Europe/Helsinki:20240115T143000
DTSTAMP:20260420T022530
CREATED:20240114T200722Z
LAST-MODIFIED:20240114T200722Z
UID:11151-1705329000-1705329000@parafia.czerwonawoda.pl
SUMMARY:Wizyta duszpasterska - ul. Kolejowa 12 do końca
DESCRIPTION:
URL:http://parafia.czerwonawoda.pl/event/wizyta-duszpasterska-ul-kolejowa-12-do-konca/
END:VEVENT
END:VCALENDAR