BEGIN:VCALENDAR
VERSION:2.0
PRODID:-//Parafia pw. Wniebowzięcia NMP w Czerwonej Wodzie - ECPv6.8.1//NONSGML v1.0//EN
CALSCALE:GREGORIAN
METHOD:PUBLISH
X-ORIGINAL-URL:http://parafia.czerwonawoda.pl
X-WR-CALDESC:Events for Parafia pw. Wniebowzięcia NMP w Czerwonej Wodzie
REFRESH-INTERVAL;VALUE=DURATION:PT1H
X-Robots-Tag:noindex
X-PUBLISHED-TTL:PT1H
BEGIN:VTIMEZONE
TZID:Europe/Helsinki
BEGIN:DAYLIGHT
TZOFFSETFROM:+0200
TZOFFSETTO:+0300
TZNAME:EEST
DTSTART:20250330T010000
END:DAYLIGHT
BEGIN:STANDARD
TZOFFSETFROM:+0300
TZOFFSETTO:+0200
TZNAME:EET
DTSTART:20251026T010000
END:STANDARD
END:VTIMEZONE
BEGIN:VEVENT
DTSTART;VALUE=DATE:20250406
DTEND;VALUE=DATE:20250409
DTSTAMP:20260420T111853
CREATED:20250309T211926Z
LAST-MODIFIED:20250309T211926Z
UID:13448-1743897600-1744156799@parafia.czerwonawoda.pl
SUMMARY:Rekolekcje wielkopostne
DESCRIPTION:
URL:http://parafia.czerwonawoda.pl/event/rekolekcje-wielkopostne-7/
END:VEVENT
BEGIN:VEVENT
DTSTART;VALUE=DATE:20250406
DTEND;VALUE=DATE:20250413
DTSTAMP:20260420T111853
CREATED:20250406T125941Z
LAST-MODIFIED:20250406T125941Z
UID:13590-1743897600-1744502399@parafia.czerwonawoda.pl
SUMMARY:Parafialna Świąteczna Zbiórka Żywności
DESCRIPTION:
URL:http://parafia.czerwonawoda.pl/event/parafialna-swiateczna-zbiorka-zywnosci-5/
END:VEVENT
BEGIN:VEVENT
DTSTART;TZID=Europe/Helsinki:20250411T170000
DTEND;TZID=Europe/Helsinki:20250411T170000
DTSTAMP:20260420T111853
CREATED:20250406T125741Z
LAST-MODIFIED:20250406T125741Z
UID:13586-1744390800-1744390800@parafia.czerwonawoda.pl
SUMMARY:Droga Krzyżowa ulicami Czerwonej Wody
DESCRIPTION:
URL:http://parafia.czerwonawoda.pl/event/droga-krzyzowa-ulicami-czerwonej-wody-5/
END:VEVENT
BEGIN:VEVENT
DTSTART;TZID=Europe/Helsinki:20250412T100000
DTEND;TZID=Europe/Helsinki:20250412T100000
DTSTAMP:20260420T111853
CREATED:20250406T130025Z
LAST-MODIFIED:20250406T130025Z
UID:13592-1744452000-1744452000@parafia.czerwonawoda.pl
SUMMARY:Spotkanie dla młodzieży\, która w tym roku ma przystąpić do sakramentu bierzmowania
DESCRIPTION:
URL:http://parafia.czerwonawoda.pl/event/spotkanie-dla-mlodziezy-ktora-w-tym-roku-ma-przystapic-do-sakramentu-bierzmowania-3/
END:VEVENT
BEGIN:VEVENT
DTSTART;TZID=Europe/Helsinki:20250412T113000
DTEND;TZID=Europe/Helsinki:20250412T113000
DTSTAMP:20260420T111853
CREATED:20250412T191004Z
LAST-MODIFIED:20250412T191004Z
UID:13616-1744457400-1744457400@parafia.czerwonawoda.pl
SUMMARY:Poświęcenie pokarmów - Czerwona Woda
DESCRIPTION:
URL:http://parafia.czerwonawoda.pl/event/poswiecenie-pokarmow-czerwona-woda-2/
END:VEVENT
BEGIN:VEVENT
DTSTART;TZID=Europe/Helsinki:20250413T113000
DTEND;TZID=Europe/Helsinki:20250413T113000
DTSTAMP:20260420T111853
CREATED:20250406T125841Z
LAST-MODIFIED:20250406T125841Z
UID:13588-1744543800-1744543800@parafia.czerwonawoda.pl
SUMMARY:Zbiórka ministrantów i lektorów
DESCRIPTION:
URL:http://parafia.czerwonawoda.pl/event/zbiorka-ministrantow-i-lektorow-2/
END:VEVENT
BEGIN:VEVENT
DTSTART;TZID=Europe/Helsinki:20250417T180000
DTEND;TZID=Europe/Helsinki:20250417T180000
DTSTAMP:20260420T111853
CREATED:20250412T190625Z
LAST-MODIFIED:20250412T190625Z
UID:13607-1744912800-1744912800@parafia.czerwonawoda.pl
SUMMARY:Msza Wieczerzy Pańskiej
DESCRIPTION:
URL:http://parafia.czerwonawoda.pl/event/msza-wieczerzy-panskiej/
END:VEVENT
BEGIN:VEVENT
DTSTART;TZID=Europe/Helsinki:20250418T180000
DTEND;TZID=Europe/Helsinki:20250418T180000
DTSTAMP:20260420T111853
CREATED:20250412T190722Z
LAST-MODIFIED:20250412T190722Z
UID:13610-1744999200-1744999200@parafia.czerwonawoda.pl
SUMMARY:Adoracja Krzyża i Komunia Święta
DESCRIPTION:
URL:http://parafia.czerwonawoda.pl/event/adoracja-krzyza-i-komunia-swieta/
END:VEVENT
BEGIN:VEVENT
DTSTART;TZID=Europe/Helsinki:20250419T100000
DTEND;TZID=Europe/Helsinki:20250419T100000
DTSTAMP:20260420T111853
CREATED:20250412T190849Z
LAST-MODIFIED:20250412T190849Z
UID:13614-1745056800-1745056800@parafia.czerwonawoda.pl
SUMMARY:Poświęcenie pokarmów - Czerwona Woda
DESCRIPTION:
URL:http://parafia.czerwonawoda.pl/event/poswiecenie-pokarmow-czerwona-woda/
END:VEVENT
BEGIN:VEVENT
DTSTART;TZID=Europe/Helsinki:20250419T103000
DTEND;TZID=Europe/Helsinki:20250419T103000
DTSTAMP:20260420T111853
CREATED:20250412T191114Z
LAST-MODIFIED:20250412T191114Z
UID:13618-1745058600-1745058600@parafia.czerwonawoda.pl
SUMMARY:Poświęcenie pokarmów - Bielawa Górna
DESCRIPTION:
URL:http://parafia.czerwonawoda.pl/event/poswiecenie-pokarmow-bielawa-gorna/
END:VEVENT
BEGIN:VEVENT
DTSTART;TZID=Europe/Helsinki:20250419T104500
DTEND;TZID=Europe/Helsinki:20250419T104500
DTSTAMP:20260420T111853
CREATED:20250412T191223Z
LAST-MODIFIED:20250412T191223Z
UID:13620-1745059500-1745059500@parafia.czerwonawoda.pl
SUMMARY:Poświęcenie pokarmów - Strzelno
DESCRIPTION:
URL:http://parafia.czerwonawoda.pl/event/poswiecenie-pokarmow-strzelno/
END:VEVENT
BEGIN:VEVENT
DTSTART;TZID=Europe/Helsinki:20250419T200000
DTEND;TZID=Europe/Helsinki:20250419T200000
DTSTAMP:20260420T111853
CREATED:20250412T190803Z
LAST-MODIFIED:20250412T190803Z
UID:13612-1745092800-1745092800@parafia.czerwonawoda.pl
SUMMARY:Liturgia Wigilii Paschalnej
DESCRIPTION:
URL:http://parafia.czerwonawoda.pl/event/liturgia-wigilii-paschalnej/
END:VEVENT
BEGIN:VEVENT
DTSTART;TZID=Europe/Helsinki:20250422T151500
DTEND;TZID=Europe/Helsinki:20250422T151500
DTSTAMP:20260420T111853
CREATED:20250422T091047Z
LAST-MODIFIED:20250422T091047Z
UID:13752-1745334900-1745334900@parafia.czerwonawoda.pl
SUMMARY:Spotkanie dla dzieci komunijnych
DESCRIPTION:
URL:http://parafia.czerwonawoda.pl/event/spotkanie-dla-dzieci-komunijnych-2/
END:VEVENT
BEGIN:VEVENT
DTSTART;TZID=Europe/Helsinki:20250423T160000
DTEND;TZID=Europe/Helsinki:20250423T160000
DTSTAMP:20260420T111853
CREATED:20250422T090922Z
LAST-MODIFIED:20250422T090922Z
UID:13748-1745424000-1745424000@parafia.czerwonawoda.pl
SUMMARY:Spotkanie dla młodzieży\, która ma przystąpić w tym roku do bierzmowania
DESCRIPTION:
URL:http://parafia.czerwonawoda.pl/event/spotkanie-dla-mlodziezy-ktora-ma-przystapic-w-tym-roku-do-bierzmowania/
END:VEVENT
BEGIN:VEVENT
DTSTART;TZID=Europe/Helsinki:20250429T151500
DTEND;TZID=Europe/Helsinki:20250429T151500
DTSTAMP:20260420T111853
CREATED:20250427T172247Z
LAST-MODIFIED:20250427T172247Z
UID:13826-1745939700-1745939700@parafia.czerwonawoda.pl
SUMMARY:Spotkanie dla dzieci komunijnych
DESCRIPTION:
URL:http://parafia.czerwonawoda.pl/event/spotkanie-dla-dzieci-komunijnych-3/
END:VEVENT
BEGIN:VEVENT
DTSTART;TZID=Europe/Helsinki:20250504T150000
DTEND;TZID=Europe/Helsinki:20250504T150000
DTSTAMP:20260420T111853
CREATED:20250422T091009Z
LAST-MODIFIED:20250422T091009Z
UID:13750-1746370800-1746370800@parafia.czerwonawoda.pl
SUMMARY:(Nowogrodziec) Spowiedź święta przed bierzmowanie i próba młodzieży i ich świadków
DESCRIPTION:
URL:http://parafia.czerwonawoda.pl/event/nowogrodziec-spowiedz-swieta-przed-bierzmowanie-i-proba-mlodziezy-i-ich-swiadkow/
END:VEVENT
BEGIN:VEVENT
DTSTART;TZID=Europe/Helsinki:20250506T151500
DTEND;TZID=Europe/Helsinki:20250506T151500
DTSTAMP:20260420T111853
CREATED:20250504T174315Z
LAST-MODIFIED:20250504T174315Z
UID:13833-1746544500-1746544500@parafia.czerwonawoda.pl
SUMMARY:Spotkanie dla dzieci komunijnych
DESCRIPTION:
URL:http://parafia.czerwonawoda.pl/event/spotkanie-dla-dzieci-komunijnych-4/
END:VEVENT
BEGIN:VEVENT
DTSTART;TZID=Europe/Helsinki:20250507T180000
DTEND;TZID=Europe/Helsinki:20250507T180000
DTSTAMP:20260420T111853
CREATED:20250209T154543Z
LAST-MODIFIED:20250209T154543Z
UID:13344-1746640800-1746640800@parafia.czerwonawoda.pl
SUMMARY:Nowogrodziec. Sakrament bierzmowania dla młodzieży z parafii Czerwona Woda
DESCRIPTION:
URL:http://parafia.czerwonawoda.pl/event/nowogrodziec-sakrament-bierzmowania-dla-mlodziezy-z-parafii-czerwona-woda/
LOCATION:Parafia rzymskokatolicka pw. Św. Apostołów Piotra i Pawła w Nowogrodźcu\, Kościelna 1\, Nowogrodziec\, 59-730\, Poland
END:VEVENT
BEGIN:VEVENT
DTSTART;TZID=Europe/Helsinki:20250508T151500
DTEND;TZID=Europe/Helsinki:20250508T151500
DTSTAMP:20260420T111853
CREATED:20250504T174342Z
LAST-MODIFIED:20250504T174342Z
UID:13835-1746717300-1746717300@parafia.czerwonawoda.pl
SUMMARY:Spotkanie dla dzieci komunijnych
DESCRIPTION:
URL:http://parafia.czerwonawoda.pl/event/spotkanie-dla-dzieci-komunijnych-5/
END:VEVENT
BEGIN:VEVENT
DTSTART;TZID=Europe/Helsinki:20250512T151500
DTEND;TZID=Europe/Helsinki:20250512T151500
DTSTAMP:20260420T111853
CREATED:20250511T161617Z
LAST-MODIFIED:20250511T161617Z
UID:13846-1747062900-1747062900@parafia.czerwonawoda.pl
SUMMARY:Spotkanie dla dzieci komunijnych
DESCRIPTION:
URL:http://parafia.czerwonawoda.pl/event/spotkanie-dla-dzieci-komunijnych-6/
END:VEVENT
BEGIN:VEVENT
DTSTART;TZID=Europe/Helsinki:20250514T151500
DTEND;TZID=Europe/Helsinki:20250514T151500
DTSTAMP:20260420T111853
CREATED:20250511T161710Z
LAST-MODIFIED:20250511T161710Z
UID:13848-1747235700-1747235700@parafia.czerwonawoda.pl
SUMMARY:Spotkanie dla dzieci komunijnych
DESCRIPTION:
URL:http://parafia.czerwonawoda.pl/event/spotkanie-dla-dzieci-komunijnych-7/
END:VEVENT
BEGIN:VEVENT
DTSTART;TZID=Europe/Helsinki:20250516T151500
DTEND;TZID=Europe/Helsinki:20250516T151500
DTSTAMP:20260420T111853
CREATED:20250511T161741Z
LAST-MODIFIED:20250511T161741Z
UID:13850-1747408500-1747408500@parafia.czerwonawoda.pl
SUMMARY:Spotkanie dla dzieci komunijnych
DESCRIPTION:
URL:http://parafia.czerwonawoda.pl/event/spotkanie-dla-dzieci-komunijnych-8/
END:VEVENT
BEGIN:VEVENT
DTSTART;TZID=Europe/Helsinki:20250519T151500
DTEND;TZID=Europe/Helsinki:20250519T151500
DTSTAMP:20260420T111853
CREATED:20250517T160847Z
LAST-MODIFIED:20250517T160847Z
UID:13858-1747667700-1747667700@parafia.czerwonawoda.pl
SUMMARY:Spotkanie dla dzieci komunijnych
DESCRIPTION:
URL:http://parafia.czerwonawoda.pl/event/spotkanie-dla-dzieci-komunijnych-9/
END:VEVENT
BEGIN:VEVENT
DTSTART;TZID=Europe/Helsinki:20250521T151500
DTEND;TZID=Europe/Helsinki:20250521T151500
DTSTAMP:20260420T111853
CREATED:20250517T160912Z
LAST-MODIFIED:20250517T160912Z
UID:13860-1747840500-1747840500@parafia.czerwonawoda.pl
SUMMARY:Spotkanie dla dzieci komunijnych
DESCRIPTION:
URL:http://parafia.czerwonawoda.pl/event/spotkanie-dla-dzieci-komunijnych-10/
END:VEVENT
BEGIN:VEVENT
DTSTART;TZID=Europe/Helsinki:20250523T151500
DTEND;TZID=Europe/Helsinki:20250523T151500
DTSTAMP:20260420T111853
CREATED:20250517T160939Z
LAST-MODIFIED:20250517T160939Z
UID:13862-1748013300-1748013300@parafia.czerwonawoda.pl
SUMMARY:Spotkanie dla dzieci komunijnych
DESCRIPTION:
URL:http://parafia.czerwonawoda.pl/event/spotkanie-dla-dzieci-komunijnych-11/
END:VEVENT
BEGIN:VEVENT
DTSTART;TZID=Europe/Helsinki:20250525T100000
DTEND;TZID=Europe/Helsinki:20250525T100000
DTSTAMP:20260420T111853
CREATED:20240908T153318Z
LAST-MODIFIED:20240908T153318Z
UID:12295-1748167200-1748167200@parafia.czerwonawoda.pl
SUMMARY:Uroczystość Pierwszej Komunii Świętej
DESCRIPTION:
URL:http://parafia.czerwonawoda.pl/event/uroczystosc-pierwszej-komunii-swietej-3/
END:VEVENT
BEGIN:VEVENT
DTSTART;TZID=Europe/Helsinki:20250610T160000
DTEND;TZID=Europe/Helsinki:20250610T160000
DTSTAMP:20260420T111853
CREATED:20250608T175621Z
LAST-MODIFIED:20250608T175621Z
UID:13918-1749571200-1749571200@parafia.czerwonawoda.pl
SUMMARY:Spotkanie dla młodzieży\, która pragnie przystąpić do sakramentu bierzmowania
DESCRIPTION:
URL:http://parafia.czerwonawoda.pl/event/spotkanie-dla-mlodziezy-ktora-pragnie-przystapic-do-sakramentu-bierzmowania-3/
END:VEVENT
BEGIN:VEVENT
DTSTART;TZID=Europe/Helsinki:20250612T170000
DTEND;TZID=Europe/Helsinki:20250612T170000
DTSTAMP:20260420T111853
CREATED:20250608T175655Z
LAST-MODIFIED:20250608T175655Z
UID:13920-1749747600-1749747600@parafia.czerwonawoda.pl
SUMMARY:Spotkanie dla rodziców i ich dzieci\, które w przyszłym roku pragną przystąpić do Pierwszej Spowiedzi i Pierwszej Komunii Świętej
DESCRIPTION:
URL:http://parafia.czerwonawoda.pl/event/spotkanie-dla-rodzicow-i-ich-dzieci-ktore-w-przyszlym-roku-pragna-przystapic-do-pierwszej-spowiedzi-i-pierwszej-komunii-swietej/
END:VEVENT
BEGIN:VEVENT
DTSTART;TZID=Europe/Helsinki:20250614T210000
DTEND;TZID=Europe/Helsinki:20250614T210000
DTSTAMP:20260420T111853
CREATED:20250608T175807Z
LAST-MODIFIED:20250608T175807Z
UID:13922-1749934800-1749934800@parafia.czerwonawoda.pl
SUMMARY:Apel Jasnogórski w Kaplicy Cudownego Obrazu na Jasnej Górze z udziałem Scholi Boże Nutki
DESCRIPTION:
URL:http://parafia.czerwonawoda.pl/event/apel-jasnogorski-w-kaplicy-cudownego-obrazu-na-jasnej-gorze-z-udzialem-scholi-boze-nutki/
END:VEVENT
BEGIN:VEVENT
DTSTART;TZID=Europe/Helsinki:20250616T150000
DTEND;TZID=Europe/Helsinki:20250616T150000
DTSTAMP:20260420T111853
CREATED:20250615T172213Z
LAST-MODIFIED:20250615T172213Z
UID:13933-1750086000-1750086000@parafia.czerwonawoda.pl
SUMMARY:Próba dla dzieci rocznicowych
DESCRIPTION:
URL:http://parafia.czerwonawoda.pl/event/proba-dla-dzieci-rocznicowych/
END:VEVENT
END:VCALENDAR