BEGIN:VCALENDAR
VERSION:2.0
PRODID:-//Parafia pw. Wniebowzięcia NMP w Czerwonej Wodzie - ECPv6.8.1//NONSGML v1.0//EN
CALSCALE:GREGORIAN
METHOD:PUBLISH
X-ORIGINAL-URL:http://parafia.czerwonawoda.pl
X-WR-CALDESC:Events for Parafia pw. Wniebowzięcia NMP w Czerwonej Wodzie
REFRESH-INTERVAL;VALUE=DURATION:PT1H
X-Robots-Tag:noindex
X-PUBLISHED-TTL:PT1H
BEGIN:VTIMEZONE
TZID:Europe/Helsinki
BEGIN:DAYLIGHT
TZOFFSETFROM:+0200
TZOFFSETTO:+0300
TZNAME:EEST
DTSTART:20260329T010000
END:DAYLIGHT
BEGIN:STANDARD
TZOFFSETFROM:+0300
TZOFFSETTO:+0200
TZNAME:EET
DTSTART:20261025T010000
END:STANDARD
END:VTIMEZONE
BEGIN:VEVENT
DTSTART;TZID=Europe/Helsinki:20260102T090000
DTEND;TZID=Europe/Helsinki:20260102T090000
DTSTAMP:20260419T182954
CREATED:20251227T205445Z
LAST-MODIFIED:20251227T205445Z
UID:14709-1767344400-1767344400@parafia.czerwonawoda.pl
SUMMARY:Wizyta duszpasterska (kolęda) - ul. 5-go Grudnia 1-14
DESCRIPTION:
URL:http://parafia.czerwonawoda.pl/event/wizyta-duszpasterska-koleda-ul-5-go-grudnia-1-14/
END:VEVENT
BEGIN:VEVENT
DTSTART;TZID=Europe/Helsinki:20260103T093000
DTEND;TZID=Europe/Helsinki:20260103T093000
DTSTAMP:20260419T182954
CREATED:20251227T205515Z
LAST-MODIFIED:20251227T205515Z
UID:14711-1767432600-1767432600@parafia.czerwonawoda.pl
SUMMARY:Wizyta duszpasterska (kolęda) - ul. 5-go Grudnia 15 do końca
DESCRIPTION:
URL:http://parafia.czerwonawoda.pl/event/wizyta-duszpasterska-koleda-ul-5-go-grudnia-15-do-konca/
END:VEVENT
BEGIN:VEVENT
DTSTART;TZID=Europe/Helsinki:20260104T140000
DTEND;TZID=Europe/Helsinki:20260104T140000
DTSTAMP:20260419T182954
CREATED:20251227T205541Z
LAST-MODIFIED:20251227T205541Z
UID:14713-1767535200-1767535200@parafia.czerwonawoda.pl
SUMMARY:Wizyta duszpasterska (kolęda) - ul. Kuźniczyska
DESCRIPTION:
URL:http://parafia.czerwonawoda.pl/event/wizyta-duszpasterska-koleda-ul-kuzniczyska/
END:VEVENT
BEGIN:VEVENT
DTSTART;TZID=Europe/Helsinki:20260105T140000
DTEND;TZID=Europe/Helsinki:20260105T140000
DTSTAMP:20260419T182954
CREATED:20260103T185215Z
LAST-MODIFIED:20260103T185215Z
UID:14868-1767621600-1767621600@parafia.czerwonawoda.pl
SUMMARY:Wizyta duszpasterska (kolęda) - ul. Zgorzelecka 1 - 17
DESCRIPTION:
URL:http://parafia.czerwonawoda.pl/event/wizyta-duszpasterska-koleda-ul-zgorzelecka-1-17/
END:VEVENT
BEGIN:VEVENT
DTSTART;TZID=Europe/Helsinki:20260107T140000
DTEND;TZID=Europe/Helsinki:20260107T140000
DTSTAMP:20260419T182954
CREATED:20260103T185302Z
LAST-MODIFIED:20260103T185302Z
UID:14870-1767794400-1767794400@parafia.czerwonawoda.pl
SUMMARY:Wizyta duszpasterska (kolęda) - ul. Zgorzelecka - dokończenie
DESCRIPTION:
URL:http://parafia.czerwonawoda.pl/event/wizyta-duszpasterska-koleda-ul-zgorzelecka-dokonczenie/
END:VEVENT
BEGIN:VEVENT
DTSTART;TZID=Europe/Helsinki:20260108T093000
DTEND;TZID=Europe/Helsinki:20260108T093000
DTSTAMP:20260419T182954
CREATED:20260103T185414Z
LAST-MODIFIED:20260103T185414Z
UID:14872-1767864600-1767864600@parafia.czerwonawoda.pl
SUMMARY:Wizyta duszpasterska (kolęda) - ul. Górna
DESCRIPTION:
URL:http://parafia.czerwonawoda.pl/event/wizyta-duszpasterska-koleda-ul-gorna/
END:VEVENT
BEGIN:VEVENT
DTSTART;TZID=Europe/Helsinki:20260109T140000
DTEND;TZID=Europe/Helsinki:20260109T140000
DTSTAMP:20260419T182954
CREATED:20260103T185453Z
LAST-MODIFIED:20260103T185453Z
UID:14874-1767967200-1767967200@parafia.czerwonawoda.pl
SUMMARY:Wizyta duszpasterska (kolęda) - ul. Kościuszki 1 - 19
DESCRIPTION:
URL:http://parafia.czerwonawoda.pl/event/wizyta-duszpasterska-koleda-ul-kosciuszki-1-19/
END:VEVENT
BEGIN:VEVENT
DTSTART;TZID=Europe/Helsinki:20260110T093000
DTEND;TZID=Europe/Helsinki:20260110T093000
DTSTAMP:20260419T182954
CREATED:20260103T185529Z
LAST-MODIFIED:20260103T185529Z
UID:14876-1768037400-1768037400@parafia.czerwonawoda.pl
SUMMARY:Wizyta duszpasterska (kolęda) - ul. Kościuszki - dokończenie
DESCRIPTION:
URL:http://parafia.czerwonawoda.pl/event/wizyta-duszpasterska-koleda-ul-kosciuszki-dokonczenie/
END:VEVENT
BEGIN:VEVENT
DTSTART;TZID=Europe/Helsinki:20260112T090000
DTEND;TZID=Europe/Helsinki:20260112T090000
DTSTAMP:20260419T182954
CREATED:20260111T183700Z
LAST-MODIFIED:20260111T183700Z
UID:15014-1768208400-1768208400@parafia.czerwonawoda.pl
SUMMARY:Wizyta duszpasterska (kolęda) – ul. Kolejowa - I część
DESCRIPTION:
URL:http://parafia.czerwonawoda.pl/event/wizyta-duszpasterska-koleda-ul-kolejowa-i-czesc/
END:VEVENT
BEGIN:VEVENT
DTSTART;TZID=Europe/Helsinki:20260112T140000
DTEND;TZID=Europe/Helsinki:20260112T140000
DTSTAMP:20260419T182954
CREATED:20260111T183731Z
LAST-MODIFIED:20260111T183731Z
UID:15016-1768226400-1768226400@parafia.czerwonawoda.pl
SUMMARY:Wizyta duszpasterska (kolęda) – ul. Kolejowa - II część
DESCRIPTION:
URL:http://parafia.czerwonawoda.pl/event/wizyta-duszpasterska-koleda-ul-kolejowa-ii-czesc/
END:VEVENT
BEGIN:VEVENT
DTSTART;TZID=Europe/Helsinki:20260113T140000
DTEND;TZID=Europe/Helsinki:20260113T140000
DTSTAMP:20260419T182954
CREATED:20260111T183842Z
LAST-MODIFIED:20260111T183842Z
UID:15018-1768312800-1768312800@parafia.czerwonawoda.pl
SUMMARY:Wizyta duszpasterska (kolęda) – ul. Leśna 1 - 14
DESCRIPTION:
URL:http://parafia.czerwonawoda.pl/event/wizyta-duszpasterska-koleda-ul-lesna-1-14/
END:VEVENT
BEGIN:VEVENT
DTSTART;TZID=Europe/Helsinki:20260114T140000
DTEND;TZID=Europe/Helsinki:20260114T140000
DTSTAMP:20260419T182954
CREATED:20260111T183919Z
LAST-MODIFIED:20260111T183919Z
UID:15020-1768399200-1768399200@parafia.czerwonawoda.pl
SUMMARY:Wizyta duszpasterska (kolęda) – ul. Leśna dokończenie
DESCRIPTION:
URL:http://parafia.czerwonawoda.pl/event/wizyta-duszpasterska-koleda-ul-lesna-dokonczenie/
END:VEVENT
BEGIN:VEVENT
DTSTART;TZID=Europe/Helsinki:20260115T140000
DTEND;TZID=Europe/Helsinki:20260115T140000
DTSTAMP:20260419T182954
CREATED:20260111T184007Z
LAST-MODIFIED:20260111T184007Z
UID:15022-1768485600-1768485600@parafia.czerwonawoda.pl
SUMMARY:Wizyta duszpasterska (kolęda) – ul. Czerwionki 1 - 24
DESCRIPTION:
URL:http://parafia.czerwonawoda.pl/event/wizyta-duszpasterska-koleda-ul-czerwionki-1-24/
END:VEVENT
BEGIN:VEVENT
DTSTART;TZID=Europe/Helsinki:20260116T140000
DTEND;TZID=Europe/Helsinki:20260116T140000
DTSTAMP:20260419T182954
CREATED:20260111T184037Z
LAST-MODIFIED:20260111T184037Z
UID:15024-1768572000-1768572000@parafia.czerwonawoda.pl
SUMMARY:Wizyta duszpasterska (kolęda) – ul. Czerwionki dokończenie
DESCRIPTION:
URL:http://parafia.czerwonawoda.pl/event/wizyta-duszpasterska-koleda-ul-czerwionki-dokonczenie/
END:VEVENT
BEGIN:VEVENT
DTSTART;TZID=Europe/Helsinki:20260117T090000
DTEND;TZID=Europe/Helsinki:20260117T090000
DTSTAMP:20260419T182954
CREATED:20260111T184108Z
LAST-MODIFIED:20260111T184108Z
UID:15026-1768640400-1768640400@parafia.czerwonawoda.pl
SUMMARY:Wizyta duszpasterska (kolęda) – ul. 3-go Maja 1 - 8
DESCRIPTION:
URL:http://parafia.czerwonawoda.pl/event/wizyta-duszpasterska-koleda-ul-3-go-maja-1-8/
END:VEVENT
BEGIN:VEVENT
DTSTART;TZID=Europe/Helsinki:20260117T130000
DTEND;TZID=Europe/Helsinki:20260117T130000
DTSTAMP:20260419T182954
CREATED:20260111T184136Z
LAST-MODIFIED:20260111T184136Z
UID:15028-1768654800-1768654800@parafia.czerwonawoda.pl
SUMMARY:Wizyta duszpasterska (kolęda) – ul. Kościelnik
DESCRIPTION:
URL:http://parafia.czerwonawoda.pl/event/wizyta-duszpasterska-koleda-ul-koscielnik/
END:VEVENT
BEGIN:VEVENT
DTSTART;TZID=Europe/Helsinki:20260119T090000
DTEND;TZID=Europe/Helsinki:20260119T090000
DTSTAMP:20260419T182954
CREATED:20260118T100027Z
LAST-MODIFIED:20260117T194843Z
UID:15039-1768813200-1768813200@parafia.czerwonawoda.pl
SUMMARY:Wizyta duszpasterska (kolęda) – ul. 3-go Maja 9 - 32
DESCRIPTION:
URL:http://parafia.czerwonawoda.pl/event/wizyta-duszpasterska-koleda-ul-3-go-maja-9-32/
END:VEVENT
BEGIN:VEVENT
DTSTART;TZID=Europe/Helsinki:20260119T140000
DTEND;TZID=Europe/Helsinki:20260119T140000
DTSTAMP:20260419T182954
CREATED:20260118T100049Z
LAST-MODIFIED:20260117T194924Z
UID:15041-1768831200-1768831200@parafia.czerwonawoda.pl
SUMMARY:Wizyta duszpasterska (kolęda) – ul. 3-go Maja 9 - 32
DESCRIPTION:
URL:http://parafia.czerwonawoda.pl/event/wizyta-duszpasterska-koleda-ul-3-go-maja-9-32-2/
END:VEVENT
BEGIN:VEVENT
DTSTART;TZID=Europe/Helsinki:20260120T140000
DTEND;TZID=Europe/Helsinki:20260120T140000
DTSTAMP:20260419T182954
CREATED:20260118T100030Z
LAST-MODIFIED:20260117T195022Z
UID:15043-1768917600-1768917600@parafia.czerwonawoda.pl
SUMMARY:Wizyta duszpasterska (kolęda) – ul. 3-go Maja dokończenie
DESCRIPTION:
URL:http://parafia.czerwonawoda.pl/event/wizyta-duszpasterska-koleda-ul-3-go-maja-dokonczenie/
END:VEVENT
BEGIN:VEVENT
DTSTART;TZID=Europe/Helsinki:20260121T090000
DTEND;TZID=Europe/Helsinki:20260121T090000
DTSTAMP:20260419T182954
CREATED:20260118T100036Z
LAST-MODIFIED:20260117T195210Z
UID:15045-1768986000-1768986000@parafia.czerwonawoda.pl
SUMMARY:Wizyta duszpasterska (kolęda) – ul. Wesoła
DESCRIPTION:
URL:http://parafia.czerwonawoda.pl/event/wizyta-duszpasterska-koleda-ul-wesola/
END:VEVENT
BEGIN:VEVENT
DTSTART;TZID=Europe/Helsinki:20260121T140000
DTEND;TZID=Europe/Helsinki:20260121T140000
DTSTAMP:20260419T182954
CREATED:20260118T100013Z
LAST-MODIFIED:20260117T195240Z
UID:15047-1769004000-1769004000@parafia.czerwonawoda.pl
SUMMARY:Wizyta duszpasterska (kolęda) – ul. Wesoła
DESCRIPTION:
URL:http://parafia.czerwonawoda.pl/event/wizyta-duszpasterska-koleda-ul-wesola-2/
END:VEVENT
BEGIN:VEVENT
DTSTART;TZID=Europe/Helsinki:20260122T140000
DTEND;TZID=Europe/Helsinki:20260122T140000
DTSTAMP:20260419T182954
CREATED:20260118T100053Z
LAST-MODIFIED:20260117T195326Z
UID:15049-1769090400-1769090400@parafia.czerwonawoda.pl
SUMMARY:Wizyta duszpasterska (kolęda) – ul. Lubańska 1 - 16
DESCRIPTION:
URL:http://parafia.czerwonawoda.pl/event/wizyta-duszpasterska-koleda-ul-lubanska-1-16/
END:VEVENT
BEGIN:VEVENT
DTSTART;TZID=Europe/Helsinki:20260123T140000
DTEND;TZID=Europe/Helsinki:20260123T140000
DTSTAMP:20260419T182954
CREATED:20260118T100032Z
LAST-MODIFIED:20260117T195405Z
UID:15051-1769176800-1769176800@parafia.czerwonawoda.pl
SUMMARY:Wizyta duszpasterska (kolęda) – ul. Lubańska - dokończenie
DESCRIPTION:
URL:http://parafia.czerwonawoda.pl/event/wizyta-duszpasterska-koleda-ul-lubanska-dokonczenie/
END:VEVENT
BEGIN:VEVENT
DTSTART;TZID=Europe/Helsinki:20260201T113000
DTEND;TZID=Europe/Helsinki:20260201T113000
DTSTAMP:20260419T182954
CREATED:20260125T160732Z
LAST-MODIFIED:20260125T160732Z
UID:15060-1769945400-1769945400@parafia.czerwonawoda.pl
SUMMARY:Poświęcenie i wręczenie świec dla dzieci pierwszokomunijnych
DESCRIPTION:
URL:http://parafia.czerwonawoda.pl/event/poswiecenie-i-wreczenie-swiec-dla-dzieci-pierwszokomunijnych-3/
END:VEVENT
BEGIN:VEVENT
DTSTART;TZID=Europe/Helsinki:20260219T170000
DTEND;TZID=Europe/Helsinki:20260219T170000
DTSTAMP:20260419T182954
CREATED:20260215T181717Z
LAST-MODIFIED:20260215T181717Z
UID:15151-1771520400-1771520400@parafia.czerwonawoda.pl
SUMMARY:Spotkanie Parafialnej Rady Duszpasterskiej i Ekonomicznej
DESCRIPTION:
URL:http://parafia.czerwonawoda.pl/event/spotkanie-parafialnej-rady-duszpasterskiej-i-ekonomicznej-4/
END:VEVENT
BEGIN:VEVENT
DTSTART;TZID=Europe/Helsinki:20260225T154500
DTEND;TZID=Europe/Helsinki:20260225T154500
DTSTAMP:20260419T182954
CREATED:20260222T155134Z
LAST-MODIFIED:20260222T155134Z
UID:15160-1772034300-1772034300@parafia.czerwonawoda.pl
SUMMARY:Spotkanie dla młodzieży\, która w tym roku ma przystąpić do sakramentu bierzmowania
DESCRIPTION:
URL:http://parafia.czerwonawoda.pl/event/spotkanie-dla-mlodziezy-ktora-w-tym-roku-ma-przystapic-do-sakramentu-bierzmowania-4/
END:VEVENT
BEGIN:VEVENT
DTSTART;TZID=Europe/Helsinki:20260228T100000
DTEND;TZID=Europe/Helsinki:20260228T100000
DTSTAMP:20260419T182954
CREATED:20260222T155219Z
LAST-MODIFIED:20260222T155219Z
UID:15162-1772272800-1772272800@parafia.czerwonawoda.pl
SUMMARY:Katecheza dla dzieci z klasy III w salce na plebani
DESCRIPTION:
URL:http://parafia.czerwonawoda.pl/event/katecheza-dla-dzieci-z-klasy-iii-w-salce-na-plebani/
END:VEVENT
BEGIN:VEVENT
DTSTART;TZID=Europe/Helsinki:20260304T160000
DTEND;TZID=Europe/Helsinki:20260304T160000
DTSTAMP:20260419T182954
CREATED:20260301T154200Z
LAST-MODIFIED:20260301T154200Z
UID:15177-1772640000-1772640000@parafia.czerwonawoda.pl
SUMMARY:Spotkanie dla młodzieży z klasy 7
DESCRIPTION:
URL:http://parafia.czerwonawoda.pl/event/spotkanie-dla-mlodziezy-z-klasy-7/
END:VEVENT
BEGIN:VEVENT
DTSTART;TZID=Europe/Helsinki:20260307T093000
DTEND;TZID=Europe/Helsinki:20260307T093000
DTSTAMP:20260419T182954
CREATED:20260222T155327Z
LAST-MODIFIED:20260222T155327Z
UID:15164-1772875800-1772875800@parafia.czerwonawoda.pl
SUMMARY:Egzamin przed I Komunią i Spowiedzią Świętą
DESCRIPTION:
URL:http://parafia.czerwonawoda.pl/event/egzamin-przed-i-komunia-i-spowiedzia-swieta/
END:VEVENT
BEGIN:VEVENT
DTSTART;TZID=Europe/Helsinki:20260320T150000
DTEND;TZID=Europe/Helsinki:20260321T130000
DTSTAMP:20260419T182954
CREATED:20260315T183314Z
LAST-MODIFIED:20260315T183314Z
UID:15200-1774018800-1774098000@parafia.czerwonawoda.pl
SUMMARY:24 godziny dla Pana
DESCRIPTION:
URL:http://parafia.czerwonawoda.pl/event/24-godziny-dla-pana/
END:VEVENT
END:VCALENDAR