BEGIN:VCALENDAR
VERSION:2.0
PRODID:-//Parafia pw. Wniebowzięcia NMP w Czerwonej Wodzie - ECPv6.8.1//NONSGML v1.0//EN
CALSCALE:GREGORIAN
METHOD:PUBLISH
X-ORIGINAL-URL:http://parafia.czerwonawoda.pl
X-WR-CALDESC:Events for Parafia pw. Wniebowzięcia NMP w Czerwonej Wodzie
REFRESH-INTERVAL;VALUE=DURATION:PT1H
X-Robots-Tag:noindex
X-PUBLISHED-TTL:PT1H
BEGIN:VTIMEZONE
TZID:Europe/Helsinki
BEGIN:DAYLIGHT
TZOFFSETFROM:+0200
TZOFFSETTO:+0300
TZNAME:EEST
DTSTART:20240331T010000
END:DAYLIGHT
BEGIN:STANDARD
TZOFFSETFROM:+0300
TZOFFSETTO:+0200
TZNAME:EET
DTSTART:20241027T010000
END:STANDARD
END:VTIMEZONE
BEGIN:VEVENT
DTSTART;VALUE=DATE:20240322
DTEND;VALUE=DATE:20240323
DTSTAMP:20260420T052001
CREATED:20240130T171740Z
LAST-MODIFIED:20240316T173945Z
UID:11339-1711065600-1711151999@parafia.czerwonawoda.pl
SUMMARY:Droga Krzyżowa ulicami Czerwonej Wody
DESCRIPTION:
URL:http://parafia.czerwonawoda.pl/event/droga-krzyzowa-ulicami-czerwonej-wody-4/
LOCATION:Czerwona Woda\, Kościuszki 2a\, Czerwona Woda\, 59-942\, Polska
END:VEVENT
BEGIN:VEVENT
DTSTART;TZID=Europe/Helsinki:20240323T090000
DTEND;TZID=Europe/Helsinki:20240323T090000
DTSTAMP:20260420T052001
CREATED:20240316T173918Z
LAST-MODIFIED:20240316T173918Z
UID:11527-1711184400-1711184400@parafia.czerwonawoda.pl
SUMMARY:Spotkanie dla młodzieży z klasy ósmej i ich rodziców
DESCRIPTION:
URL:http://parafia.czerwonawoda.pl/event/spotkanie-dla-mlodziezy-z-klasy-osmej-i-ich-rodzicow/
LOCATION:Czerwona Woda\, Kościuszki 2a\, Czerwona Woda\, 59-942\, Polska
END:VEVENT
BEGIN:VEVENT
DTSTART;TZID=Europe/Helsinki:20240324T113000
DTEND;TZID=Europe/Helsinki:20240324T113000
DTSTAMP:20260420T052001
CREATED:20240316T173749Z
LAST-MODIFIED:20240316T173749Z
UID:11523-1711279800-1711279800@parafia.czerwonawoda.pl
SUMMARY:Zbiórka ministrantów
DESCRIPTION:
URL:http://parafia.czerwonawoda.pl/event/zbiorka-ministrantow-9/
LOCATION:Czerwona Woda\, Kościuszki 2a\, Czerwona Woda\, 59-942\, Polska
ORGANIZER;CN="":MAILTO:lsiemaszko@poczta.fm
END:VEVENT
BEGIN:VEVENT
DTSTART;TZID=Europe/Helsinki:20240409T150000
DTEND;TZID=Europe/Helsinki:20240409T150000
DTSTAMP:20260420T052001
CREATED:20240408T175603Z
LAST-MODIFIED:20240408T190833Z
UID:11685-1712674800-1712674800@parafia.czerwonawoda.pl
SUMMARY:Spotkanie dla dzieci pierwszokomunijnych wraz z rodzicami
DESCRIPTION:
URL:http://parafia.czerwonawoda.pl/event/spotkanie-dla-dzieci-pierwszokomunijnych-wraz-z-rodzicami-2/
END:VEVENT
BEGIN:VEVENT
DTSTART;TZID=Europe/Helsinki:20240411T160000
DTEND;TZID=Europe/Helsinki:20240411T160000
DTSTAMP:20260420T052001
CREATED:20240408T175636Z
LAST-MODIFIED:20240408T190820Z
UID:11687-1712851200-1712851200@parafia.czerwonawoda.pl
SUMMARY:Spotkanie dla młodzieży\, która ma przystąpić do sakramentu bierzmowania
DESCRIPTION:
URL:http://parafia.czerwonawoda.pl/event/spotkanie-dla-mlodziezy-ktora-ma-przystapic-do-sakramentu-bierzmowania-6/
END:VEVENT
BEGIN:VEVENT
DTSTART;TZID=Europe/Helsinki:20240418T151500
DTEND;TZID=Europe/Helsinki:20240418T151500
DTSTAMP:20260420T052001
CREATED:20240414T135902Z
LAST-MODIFIED:20240414T135902Z
UID:11698-1713453300-1713453300@parafia.czerwonawoda.pl
SUMMARY:Spotkanie dla dzieci pierwszokomunijnych
DESCRIPTION:
URL:http://parafia.czerwonawoda.pl/event/spotkanie-dla-dzieci-pierwszokomunijnych-6/
END:VEVENT
BEGIN:VEVENT
DTSTART;TZID=Europe/Helsinki:20240418T170000
DTEND;TZID=Europe/Helsinki:20240418T170000
DTSTAMP:20260420T052001
CREATED:20240414T135937Z
LAST-MODIFIED:20240414T135937Z
UID:11700-1713459600-1713459600@parafia.czerwonawoda.pl
SUMMARY:Spotkanie dla młodzieży\, która ma przystąpić do sakramentu bierzmowania
DESCRIPTION:
URL:http://parafia.czerwonawoda.pl/event/spotkanie-dla-mlodziezy-ktora-ma-przystapic-do-sakramentu-bierzmowania-7/
END:VEVENT
BEGIN:VEVENT
DTSTART;TZID=Europe/Helsinki:20240423T151500
DTEND;TZID=Europe/Helsinki:20240423T151500
DTSTAMP:20260420T052001
CREATED:20240420T160814Z
LAST-MODIFIED:20240420T160814Z
UID:11747-1713885300-1713885300@parafia.czerwonawoda.pl
SUMMARY:Spotkanie dla dzieci pierwszokomunijnych
DESCRIPTION:
URL:http://parafia.czerwonawoda.pl/event/spotkanie-dla-dzieci-pierwszokomunijnych-7/
END:VEVENT
BEGIN:VEVENT
DTSTART;TZID=Europe/Helsinki:20240424T160000
DTEND;TZID=Europe/Helsinki:20240424T160000
DTSTAMP:20260420T052001
CREATED:20240420T160914Z
LAST-MODIFIED:20240420T160914Z
UID:11751-1713974400-1713974400@parafia.czerwonawoda.pl
SUMMARY:Spotkanie dla młodzieży\, która przygotowuje się do sakramentu bierzmowania
DESCRIPTION:
URL:http://parafia.czerwonawoda.pl/event/spotkanie-dla-mlodziezy-ktora-przygotowuje-sie-do-sakramentu-bierzmowania/
END:VEVENT
BEGIN:VEVENT
DTSTART;TZID=Europe/Helsinki:20240425T151500
DTEND;TZID=Europe/Helsinki:20240425T151500
DTSTAMP:20260420T052001
CREATED:20240420T160845Z
LAST-MODIFIED:20240420T160845Z
UID:11749-1714058100-1714058100@parafia.czerwonawoda.pl
SUMMARY:Spotkanie dla dzieci pierwszokomunijnych
DESCRIPTION:
URL:http://parafia.czerwonawoda.pl/event/spotkanie-dla-dzieci-pierwszokomunijnych-8/
END:VEVENT
BEGIN:VEVENT
DTSTART;TZID=Europe/Helsinki:20240507T151500
DTEND;TZID=Europe/Helsinki:20240507T151500
DTSTAMP:20260420T052001
CREATED:20240505T065859Z
LAST-MODIFIED:20240505T065859Z
UID:11765-1715094900-1715094900@parafia.czerwonawoda.pl
SUMMARY:Spotkanie dla dzieci pierwszokomunijnych
DESCRIPTION:
URL:http://parafia.czerwonawoda.pl/event/spotkanie-dla-dzieci-pierwszokomunijnych-9/
END:VEVENT
BEGIN:VEVENT
DTSTART;TZID=Europe/Helsinki:20240509T170000
DTEND;TZID=Europe/Helsinki:20240509T170000
DTSTAMP:20260420T052001
CREATED:20240505T065937Z
LAST-MODIFIED:20240505T065952Z
UID:11767-1715274000-1715274000@parafia.czerwonawoda.pl
SUMMARY:Spotkanie Parafialnej Rady Duszpasterskiej i Parafialnej Rady Ekonomicznej
DESCRIPTION:
URL:http://parafia.czerwonawoda.pl/event/parafialnej-rady-duszpasterskiej-i-parafialnej-rady-ekonomicznej/
END:VEVENT
BEGIN:VEVENT
DTSTART;TZID=Europe/Helsinki:20240512T120000
DTEND;TZID=Europe/Helsinki:20240512T120000
DTSTAMP:20260420T052001
CREATED:20240414T140408Z
LAST-MODIFIED:20240414T140408Z
UID:11704-1715515200-1715515200@parafia.czerwonawoda.pl
SUMMARY:Nowogrodziec. Promocja lektorska dla ministrantów z parafii Czerwona Woda
DESCRIPTION:
URL:http://parafia.czerwonawoda.pl/event/nowogrodziec-promocja-lektorska-dla-ministrantow-z-parafii-czerwona-woda/
END:VEVENT
BEGIN:VEVENT
DTSTART;TZID=Europe/Helsinki:20240514T151500
DTEND;TZID=Europe/Helsinki:20240514T151500
DTSTAMP:20260420T052001
CREATED:20240512T183552Z
LAST-MODIFIED:20240512T183552Z
UID:11771-1715699700-1715699700@parafia.czerwonawoda.pl
SUMMARY:Próba dla dzieci pierwszokomunijnych
DESCRIPTION:
URL:http://parafia.czerwonawoda.pl/event/proba-dla-dzieci-pierwszokomunijnych-3/
END:VEVENT
BEGIN:VEVENT
DTSTART;TZID=Europe/Helsinki:20240515T150000
DTEND;TZID=Europe/Helsinki:20240515T150000
DTSTAMP:20260420T052001
CREATED:20240512T183716Z
LAST-MODIFIED:20240512T183716Z
UID:11777-1715785200-1715785200@parafia.czerwonawoda.pl
SUMMARY:Spotkanie dla dzieci rocznicowych i ich rodziców
DESCRIPTION:
URL:http://parafia.czerwonawoda.pl/event/spotkanie-dla-dzieci-rocznicowych-i-ich-rodzicow-2/
END:VEVENT
BEGIN:VEVENT
DTSTART;TZID=Europe/Helsinki:20240515T161500
DTEND;TZID=Europe/Helsinki:20240515T161500
DTSTAMP:20260420T052001
CREATED:20240512T183811Z
LAST-MODIFIED:20240512T183811Z
UID:11781-1715789700-1715789700@parafia.czerwonawoda.pl
SUMMARY:Zbiórka dla kandydatów na ministrantów
DESCRIPTION:
URL:http://parafia.czerwonawoda.pl/event/zbiorka-dla-kandydatow-na-ministrantow-4/
END:VEVENT
BEGIN:VEVENT
DTSTART;TZID=Europe/Helsinki:20240515T170000
DTEND;TZID=Europe/Helsinki:20240515T170000
DTSTAMP:20260420T052001
CREATED:20240512T183742Z
LAST-MODIFIED:20240512T183742Z
UID:11779-1715792400-1715792400@parafia.czerwonawoda.pl
SUMMARY:Spotkanie dla bierzmowanych
DESCRIPTION:
URL:http://parafia.czerwonawoda.pl/event/spotkanie-dla-bierzmowanych/
END:VEVENT
BEGIN:VEVENT
DTSTART;TZID=Europe/Helsinki:20240516T151500
DTEND;TZID=Europe/Helsinki:20240516T151500
DTSTAMP:20260420T052001
CREATED:20240512T183614Z
LAST-MODIFIED:20240512T183614Z
UID:11773-1715872500-1715872500@parafia.czerwonawoda.pl
SUMMARY:Próba dla dzieci pierwszokomunijnych
DESCRIPTION:
URL:http://parafia.czerwonawoda.pl/event/proba-dla-dzieci-pierwszokomunijnych-4/
END:VEVENT
BEGIN:VEVENT
DTSTART;TZID=Europe/Helsinki:20240516T170000
DTEND;TZID=Europe/Helsinki:20240516T170000
DTSTAMP:20260420T052001
CREATED:20240414T140024Z
LAST-MODIFIED:20240428T185447Z
UID:11702-1715878800-1715878800@parafia.czerwonawoda.pl
SUMMARY:Zebrzydowa. Sakrament bierzmowania dla młodzieży z parafii Czerwona Woda
DESCRIPTION:
URL:http://parafia.czerwonawoda.pl/event/zebrzydowa-sakrament-bierzmowania-dla-mlodziezy-z-parafii-czerwona-woda/
END:VEVENT
BEGIN:VEVENT
DTSTART;TZID=Europe/Helsinki:20240518T093000
DTEND;TZID=Europe/Helsinki:20240518T093000
DTSTAMP:20260420T052001
CREATED:20240512T183640Z
LAST-MODIFIED:20240512T183640Z
UID:11775-1716024600-1716024600@parafia.czerwonawoda.pl
SUMMARY:Spowiedź dla dzieci komunijnych\, ich rodziców i najbliższych
DESCRIPTION:
URL:http://parafia.czerwonawoda.pl/event/spowiedz-dla-dzieci-komunijnych-ich-rodzicow-i-najblizszych-2/
END:VEVENT
BEGIN:VEVENT
DTSTART;TZID=Europe/Helsinki:20240519T100000
DTEND;TZID=Europe/Helsinki:20240519T100000
DTSTAMP:20260420T052001
CREATED:20240414T140456Z
LAST-MODIFIED:20240428T185419Z
UID:11706-1716112800-1716112800@parafia.czerwonawoda.pl
SUMMARY:Uroczystość Pierwszej Komunii Świętej
DESCRIPTION:
URL:http://parafia.czerwonawoda.pl/event/uroczystosc-pierwszej-komunii-swietej-2/
END:VEVENT
BEGIN:VEVENT
DTSTART;TZID=Europe/Helsinki:20240530T110000
DTEND;TZID=Europe/Helsinki:20240530T110000
DTSTAMP:20260420T052001
CREATED:20240414T140518Z
LAST-MODIFIED:20240428T185351Z
UID:11708-1717066800-1717066800@parafia.czerwonawoda.pl
SUMMARY:Rocznica Pierwszej Komunii Świętej
DESCRIPTION:
URL:http://parafia.czerwonawoda.pl/event/rocznica-pierwszej-komunii-swietej-2/
END:VEVENT
BEGIN:VEVENT
DTSTART;TZID=Europe/Helsinki:20240605T170000
DTEND;TZID=Europe/Helsinki:20240605T170000
DTSTAMP:20260420T052001
CREATED:20240602T203717Z
LAST-MODIFIED:20240602T203717Z
UID:11946-1717606800-1717606800@parafia.czerwonawoda.pl
SUMMARY:Zbiórka dla kandydatów na ministrantów
DESCRIPTION:
URL:http://parafia.czerwonawoda.pl/event/zbiorka-dla-kandydatow-na-ministrantow-5/
END:VEVENT
BEGIN:VEVENT
DTSTART;TZID=Europe/Helsinki:20240609T113000
DTEND;TZID=Europe/Helsinki:20240609T113000
DTSTAMP:20260420T052001
CREATED:20240602T203617Z
LAST-MODIFIED:20240602T203617Z
UID:11942-1717932600-1717932600@parafia.czerwonawoda.pl
SUMMARY:Spotkanie dla dzieci z klasy II\, które rozpoczynają bezpośrednie przygotowanie do Pierwszej Spowiedzi i Pierwszej Komunii Świętej oraz ich rodziców bądź opiekunów prawnych
DESCRIPTION:
URL:http://parafia.czerwonawoda.pl/event/spotkanie-dla-dzieci-z-klasy-ii-ktore-rozpoczynaja-bezposrednie-przygotowanie-do-pierwszej-spowiedzi-i-pierwszej-komunii-swietej-oraz-ich-rodzicow-badz-opiekunow-prawnych/
END:VEVENT
BEGIN:VEVENT
DTSTART;TZID=Europe/Helsinki:20240609T113000
DTEND;TZID=Europe/Helsinki:20240609T113000
DTSTAMP:20260420T052001
CREATED:20240602T203647Z
LAST-MODIFIED:20240602T203647Z
UID:11944-1717932600-1717932600@parafia.czerwonawoda.pl
SUMMARY:Spotkanie w sprawie organizacji festynu parafialnego
DESCRIPTION:
URL:http://parafia.czerwonawoda.pl/event/spotkanie-w-sprawie-organizacji-festynu-parafialnego-3/
END:VEVENT
BEGIN:VEVENT
DTSTART;TZID=Europe/Helsinki:20240618T163000
DTEND;TZID=Europe/Helsinki:20240618T170000
DTSTAMP:20260420T052001
CREATED:20240616T145057Z
LAST-MODIFIED:20240616T145057Z
UID:11979-1718728200-1718730000@parafia.czerwonawoda.pl
SUMMARY:Spowiedź dla dzieci i młodzieży na zakończenie roku szkolnego i katechetycznego.
DESCRIPTION:
URL:http://parafia.czerwonawoda.pl/event/spowiedz-dla-dzieci-i-mlodziezy-na-zakonczenie-roku-szkolnego-i-katechetycznego-2/
END:VEVENT
BEGIN:VEVENT
DTSTART;TZID=Europe/Helsinki:20240619T163000
DTEND;TZID=Europe/Helsinki:20240619T170000
DTSTAMP:20260420T052001
CREATED:20240616T145114Z
LAST-MODIFIED:20240616T145114Z
UID:11981-1718814600-1718816400@parafia.czerwonawoda.pl
SUMMARY:Spowiedź dla dzieci i młodzieży na zakończenie roku szkolnego i katechetycznego.
DESCRIPTION:
URL:http://parafia.czerwonawoda.pl/event/spowiedz-dla-dzieci-i-mlodziezy-na-zakonczenie-roku-szkolnego-i-katechetycznego-3/
END:VEVENT
BEGIN:VEVENT
DTSTART;TZID=Europe/Helsinki:20240620T083000
DTEND;TZID=Europe/Helsinki:20240620T083000
DTSTAMP:20260420T052001
CREATED:20240616T145008Z
LAST-MODIFIED:20240616T202144Z
UID:11977-1718872200-1718872200@parafia.czerwonawoda.pl
SUMMARY:Msza Święta na zakończenie roku szkolnego i katechetycznego
DESCRIPTION:
URL:http://parafia.czerwonawoda.pl/event/msza-swieta-na-zakonczenie-roku-szkolnego-i-katechetycznego-3/
LOCATION:Czerwona Woda\, Kościuszki 2a\, Czerwona Woda\, 59-942\, Polska
END:VEVENT
BEGIN:VEVENT
DTSTART;VALUE=DATE:20240815
DTEND;VALUE=DATE:20240816
DTSTAMP:20260420T052001
CREATED:20240414T140537Z
LAST-MODIFIED:20240414T140537Z
UID:11710-1723680000-1723766399@parafia.czerwonawoda.pl
SUMMARY:Odpust parafialny
DESCRIPTION:
URL:http://parafia.czerwonawoda.pl/event/odpust-parafialny-6/
END:VEVENT
BEGIN:VEVENT
DTSTART;VALUE=DATE:20240815
DTEND;VALUE=DATE:20240816
DTSTAMP:20260420T052001
CREATED:20240609T164709Z
LAST-MODIFIED:20240609T164709Z
UID:11968-1723680000-1723766399@parafia.czerwonawoda.pl
SUMMARY:VI Parafialny Festyn Rodzinny
DESCRIPTION:
URL:http://parafia.czerwonawoda.pl/event/vi-parafialny-festyn-rodzinny/
END:VEVENT
END:VCALENDAR