BEGIN:VCALENDAR
VERSION:2.0
PRODID:-//Parafia pw. Wniebowzięcia NMP w Czerwonej Wodzie - ECPv6.8.1//NONSGML v1.0//EN
CALSCALE:GREGORIAN
METHOD:PUBLISH
X-ORIGINAL-URL:http://parafia.czerwonawoda.pl
X-WR-CALDESC:Events for Parafia pw. Wniebowzięcia NMP w Czerwonej Wodzie
REFRESH-INTERVAL;VALUE=DURATION:PT1H
X-Robots-Tag:noindex
X-PUBLISHED-TTL:PT1H
BEGIN:VTIMEZONE
TZID:Europe/Helsinki
BEGIN:DAYLIGHT
TZOFFSETFROM:+0200
TZOFFSETTO:+0300
TZNAME:EEST
DTSTART:20260329T010000
END:DAYLIGHT
BEGIN:STANDARD
TZOFFSETFROM:+0300
TZOFFSETTO:+0200
TZNAME:EET
DTSTART:20261025T010000
END:STANDARD
END:VTIMEZONE
BEGIN:VEVENT
DTSTART;TZID=Europe/Helsinki:20260320T150000
DTEND;TZID=Europe/Helsinki:20260321T130000
DTSTAMP:20260419T231124
CREATED:20260315T183314Z
LAST-MODIFIED:20260315T183314Z
UID:15200-1774018800-1774098000@parafia.czerwonawoda.pl
SUMMARY:24 godziny dla Pana
DESCRIPTION:
URL:http://parafia.czerwonawoda.pl/event/24-godziny-dla-pana/
END:VEVENT
BEGIN:VEVENT
DTSTART;VALUE=DATE:20260322
DTEND;VALUE=DATE:20260325
DTSTAMP:20260419T231124
CREATED:20260222T155404Z
LAST-MODIFIED:20260222T155404Z
UID:15166-1774137600-1774396799@parafia.czerwonawoda.pl
SUMMARY:Rekolekcje wielkopostne
DESCRIPTION:
URL:http://parafia.czerwonawoda.pl/event/rekolekcje-wielkopostne-8/
END:VEVENT
BEGIN:VEVENT
DTSTART;VALUE=DATE:20260322
DTEND;VALUE=DATE:20260330
DTSTAMP:20260419T231124
CREATED:20260315T184444Z
LAST-MODIFIED:20260315T184444Z
UID:15206-1774137600-1774828799@parafia.czerwonawoda.pl
SUMMARY:Parafialna Świąteczna Zbiórka Żywności
DESCRIPTION:
URL:http://parafia.czerwonawoda.pl/event/parafialna-swiateczna-zbiorka-zywnosci-7/
END:VEVENT
BEGIN:VEVENT
DTSTART;TZID=Europe/Helsinki:20260408T154500
DTEND;TZID=Europe/Helsinki:20260408T154500
DTSTAMP:20260419T231124
CREATED:20260405T181238Z
LAST-MODIFIED:20260405T181300Z
UID:15453-1775663100-1775663100@parafia.czerwonawoda.pl
SUMMARY:Spotkanie dla młodzieży\, która ma przystąpić w tym roku do sakramentu bierzmowania
DESCRIPTION:
URL:http://parafia.czerwonawoda.pl/event/spotkanie-dla-mlodziezy-ktora-ma-przystapic-w-tym-roku-do-bierzmowania-2/
END:VEVENT
BEGIN:VEVENT
DTSTART;TZID=Europe/Helsinki:20260421T154500
DTEND;TZID=Europe/Helsinki:20260421T154500
DTSTAMP:20260419T231124
CREATED:20260419T150810Z
LAST-MODIFIED:20260419T150810Z
UID:15602-1776786300-1776786300@parafia.czerwonawoda.pl
SUMMARY:Spotkanie dla młodzieży\, która pragnie przystąpić do sakramentu bierzmowania w tym roku
DESCRIPTION:
URL:http://parafia.czerwonawoda.pl/event/spotkanie-dla-mlodziezy-ktora-pragnie-przystapic-do-sakramentu-bierzmowania-w-tym-roku/
END:VEVENT
BEGIN:VEVENT
DTSTART;TZID=Europe/Helsinki:20260422T153000
DTEND;TZID=Europe/Helsinki:20260422T153000
DTSTAMP:20260419T231124
CREATED:20260419T150716Z
LAST-MODIFIED:20260419T150716Z
UID:15600-1776871800-1776871800@parafia.czerwonawoda.pl
SUMMARY:Spotkanie dla dzieci pierwszokomunijnych i ich rodziców (bądź opiekunów prawnych)
DESCRIPTION:
URL:http://parafia.czerwonawoda.pl/event/spotkanie-dla-dzieci-pierwszokomunijnych-i-ich-rodzicow-badz-opiekunow-prawnych/
END:VEVENT
BEGIN:VEVENT
DTSTART;TZID=Europe/Helsinki:20260423T160000
DTEND;TZID=Europe/Helsinki:20260423T160000
DTSTAMP:20260419T231124
CREATED:20260419T150905Z
LAST-MODIFIED:20260419T150905Z
UID:15604-1776960000-1776960000@parafia.czerwonawoda.pl
SUMMARY:Spotkanie dla młodzieży klasy VII
DESCRIPTION:
URL:http://parafia.czerwonawoda.pl/event/spotkanie-dla-mlodziezy-klasy-vii/
END:VEVENT
BEGIN:VEVENT
DTSTART;VALUE=DATE:20260501
DTEND;VALUE=DATE:20260502
DTSTAMP:20260419T231124
CREATED:20260419T150942Z
LAST-MODIFIED:20260419T150942Z
UID:15606-1777593600-1777679999@parafia.czerwonawoda.pl
SUMMARY:Wyjazd ministrantów i scholi do Pniewa\, Rokitna i Świebodzina
DESCRIPTION:
URL:http://parafia.czerwonawoda.pl/event/wyjazd-ministrantow-i-scholi-do-pniewa-rokitna-i-swiebodzina/
END:VEVENT
END:VCALENDAR