BEGIN:VCALENDAR
VERSION:2.0
PRODID:-//Parafia pw. Wniebowzięcia NMP w Czerwonej Wodzie - ECPv6.8.1//NONSGML v1.0//EN
CALSCALE:GREGORIAN
METHOD:PUBLISH
X-ORIGINAL-URL:http://parafia.czerwonawoda.pl
X-WR-CALDESC:Events for Parafia pw. Wniebowzięcia NMP w Czerwonej Wodzie
REFRESH-INTERVAL;VALUE=DURATION:PT1H
X-Robots-Tag:noindex
X-PUBLISHED-TTL:PT1H
BEGIN:VTIMEZONE
TZID:Europe/Helsinki
BEGIN:DAYLIGHT
TZOFFSETFROM:+0200
TZOFFSETTO:+0300
TZNAME:EEST
DTSTART:20200329T010000
END:DAYLIGHT
BEGIN:STANDARD
TZOFFSETFROM:+0300
TZOFFSETTO:+0200
TZNAME:EET
DTSTART:20201025T010000
END:STANDARD
END:VTIMEZONE
BEGIN:VEVENT
DTSTART;VALUE=DATE:20201206
DTEND;VALUE=DATE:20201214
DTSTAMP:20260421T213031
CREATED:20201205T222235Z
LAST-MODIFIED:20201205T222430Z
UID:6372-1607212800-1607903999@parafia.czerwonawoda.pl
SUMMARY:Parafialna Świąteczna Zbiórka Żywności
DESCRIPTION:
URL:http://parafia.czerwonawoda.pl/event/parafialna-swiateczna-zbiorka-zywnosci/
END:VEVENT
BEGIN:VEVENT
DTSTART;TZID=Europe/Helsinki:20201206T113000
DTEND;TZID=Europe/Helsinki:20201206T113000
DTSTAMP:20260421T213031
CREATED:20201205T222721Z
LAST-MODIFIED:20201205T222721Z
UID:6376-1607254200-1607254200@parafia.czerwonawoda.pl
SUMMARY:Poświęcenie tajemniczek różańcowych dla Dziecięcej Róży Różańcowej
DESCRIPTION:
URL:http://parafia.czerwonawoda.pl/event/poswiecenie-tajemniczek-rozancowych-dla-dzieciecej-rozy-rozancowej/
END:VEVENT
BEGIN:VEVENT
DTSTART;TZID=Europe/Helsinki:20201229T170000
DTEND;TZID=Europe/Helsinki:20201229T170000
DTSTAMP:20260421T213031
CREATED:20201227T122917Z
LAST-MODIFIED:20201227T122917Z
UID:6412-1609261200-1609261200@parafia.czerwonawoda.pl
SUMMARY:Msza Święta Kolędowa - Bielawa Górna - W intencji Parafian z Bielawy Górnej
DESCRIPTION:
URL:http://parafia.czerwonawoda.pl/event/msza-swieta-koledowa-bielawa-gorna-w-intencji-parafian-z-bielawy-gornej/
END:VEVENT
BEGIN:VEVENT
DTSTART;TZID=Europe/Helsinki:20201230T170000
DTEND;TZID=Europe/Helsinki:20201230T170000
DTSTAMP:20260421T213031
CREATED:20201227T122956Z
LAST-MODIFIED:20201227T122956Z
UID:6414-1609347600-1609347600@parafia.czerwonawoda.pl
SUMMARY:Msza Święta Kolędowa - Bielawa Górna - W intencji Parafian ze Strzelna
DESCRIPTION:
URL:http://parafia.czerwonawoda.pl/event/msza-swieta-koledowa-bielawa-gorna-w-intencji-parafian-ze-strzelna/
END:VEVENT
END:VCALENDAR