BEGIN:VCALENDAR
VERSION:2.0
PRODID:-//Parafia pw. Wniebowzięcia NMP w Czerwonej Wodzie - ECPv6.8.1//NONSGML v1.0//EN
CALSCALE:GREGORIAN
METHOD:PUBLISH
X-ORIGINAL-URL:http://parafia.czerwonawoda.pl
X-WR-CALDESC:Events for Parafia pw. Wniebowzięcia NMP w Czerwonej Wodzie
REFRESH-INTERVAL;VALUE=DURATION:PT1H
X-Robots-Tag:noindex
X-PUBLISHED-TTL:PT1H
BEGIN:VTIMEZONE
TZID:Europe/Helsinki
BEGIN:DAYLIGHT
TZOFFSETFROM:+0200
TZOFFSETTO:+0300
TZNAME:EEST
DTSTART:20210328T010000
END:DAYLIGHT
BEGIN:STANDARD
TZOFFSETFROM:+0300
TZOFFSETTO:+0200
TZNAME:EET
DTSTART:20211031T010000
END:STANDARD
END:VTIMEZONE
BEGIN:VEVENT
DTSTART;TZID=Europe/Helsinki:20210306T100000
DTEND;TZID=Europe/Helsinki:20210306T100000
DTSTAMP:20260421T162155
CREATED:20210228T194303Z
LAST-MODIFIED:20210228T194303Z
UID:6493-1615024800-1615024800@parafia.czerwonawoda.pl
SUMMARY:Egzamin dla dzieci\, które przygotowują się do Pierwszej Spowiedzi i Pierwszej Komunii Świętej
DESCRIPTION:
URL:http://parafia.czerwonawoda.pl/event/egzamin-dla-dzieci-ktore-przygotowuja-sie-do-pierwszej-spowiedzi-i-pierwszej-komunii-swietej/
CATEGORIES:Komunia
END:VEVENT
BEGIN:VEVENT
DTSTART;VALUE=DATE:20210314
DTEND;VALUE=DATE:20210315
DTSTAMP:20260421T162155
CREATED:20210307T191720Z
LAST-MODIFIED:20210307T191720Z
UID:6506-1615680000-1615766399@parafia.czerwonawoda.pl
SUMMARY:Kiermasz palm i baranków wielkanocnych - Czerwona Woda
DESCRIPTION:
URL:http://parafia.czerwonawoda.pl/event/kiermasz-palm-i-barankow-wielkanocnych-czerwona-woda/
END:VEVENT
BEGIN:VEVENT
DTSTART;VALUE=DATE:20210314
DTEND;VALUE=DATE:20210321
DTSTAMP:20260421T162155
CREATED:20210228T194404Z
LAST-MODIFIED:20210228T194404Z
UID:6495-1615680000-1616284799@parafia.czerwonawoda.pl
SUMMARY:Zbiórka darów żywnościowych dla osób potrzebujących pomocy z naszej parafii
DESCRIPTION:
URL:http://parafia.czerwonawoda.pl/event/zbiorka-darow-zywnosciowych-dla-osob-potrzebujacych-pomocy-z-naszej-parafii/
END:VEVENT
BEGIN:VEVENT
DTSTART;VALUE=DATE:20210321
DTEND;VALUE=DATE:20210322
DTSTAMP:20260421T162155
CREATED:20210307T191754Z
LAST-MODIFIED:20210307T191754Z
UID:6508-1616284800-1616371199@parafia.czerwonawoda.pl
SUMMARY:Kiermasz palm i baranków wielkanocnych - Czerwona Woda
DESCRIPTION:
URL:http://parafia.czerwonawoda.pl/event/kiermasz-palm-i-barankow-wielkanocnych-czerwona-woda-2/
END:VEVENT
BEGIN:VEVENT
DTSTART;VALUE=DATE:20210321
DTEND;VALUE=DATE:20210322
DTSTAMP:20260421T162155
CREATED:20210307T191821Z
LAST-MODIFIED:20210307T191821Z
UID:6510-1616284800-1616371199@parafia.czerwonawoda.pl
SUMMARY:Kiermasz ciast - Czerwona Woda
DESCRIPTION:
URL:http://parafia.czerwonawoda.pl/event/kiermasz-ciast-czerwona-woda/
END:VEVENT
BEGIN:VEVENT
DTSTART;VALUE=DATE:20210321
DTEND;VALUE=DATE:20210322
DTSTAMP:20260421T162155
CREATED:20210307T192030Z
LAST-MODIFIED:20210307T192030Z
UID:6515-1616284800-1616371199@parafia.czerwonawoda.pl
SUMMARY:Kiermasz świąteczny - Bielawa Górna
DESCRIPTION:
URL:http://parafia.czerwonawoda.pl/event/kiermasz-swiateczny-bielawa-gorna-2/
END:VEVENT
BEGIN:VEVENT
DTSTART;VALUE=DATE:20210328
DTEND;VALUE=DATE:20210329
DTSTAMP:20260421T162155
CREATED:20210307T191938Z
LAST-MODIFIED:20210307T191951Z
UID:6512-1616889600-1616975999@parafia.czerwonawoda.pl
SUMMARY:Kiermasz ciast - Bielawa Górna
DESCRIPTION:
URL:http://parafia.czerwonawoda.pl/event/kiermasz-swiateczny-bielawa-gorna/
END:VEVENT
END:VCALENDAR