BEGIN:VCALENDAR
VERSION:2.0
PRODID:-//Parafia pw. Wniebowzięcia NMP w Czerwonej Wodzie - ECPv6.8.1//NONSGML v1.0//EN
CALSCALE:GREGORIAN
METHOD:PUBLISH
X-ORIGINAL-URL:http://parafia.czerwonawoda.pl
X-WR-CALDESC:Events for Parafia pw. Wniebowzięcia NMP w Czerwonej Wodzie
REFRESH-INTERVAL;VALUE=DURATION:PT1H
X-Robots-Tag:noindex
X-PUBLISHED-TTL:PT1H
BEGIN:VTIMEZONE
TZID:Europe/Helsinki
BEGIN:DAYLIGHT
TZOFFSETFROM:+0200
TZOFFSETTO:+0300
TZNAME:EEST
DTSTART:20210328T010000
END:DAYLIGHT
BEGIN:STANDARD
TZOFFSETFROM:+0300
TZOFFSETTO:+0200
TZNAME:EET
DTSTART:20211031T010000
END:STANDARD
END:VTIMEZONE
BEGIN:VEVENT
DTSTART;TZID=Europe/Helsinki:20211221T090000
DTEND;TZID=Europe/Helsinki:20211221T093000
DTSTAMP:20260421T020523
CREATED:20211218T222839Z
LAST-MODIFIED:20211218T222839Z
UID:7544-1640077200-1640079000@parafia.czerwonawoda.pl
SUMMARY:Spowiedź adwentowa - Czerwona Woda
DESCRIPTION:
URL:http://parafia.czerwonawoda.pl/event/spowiedz-adwentowa-czerwona-woda-3/
END:VEVENT
BEGIN:VEVENT
DTSTART;TZID=Europe/Helsinki:20211221T160000
DTEND;TZID=Europe/Helsinki:20211221T161500
DTSTAMP:20260421T020523
CREATED:20211218T222949Z
LAST-MODIFIED:20211218T222949Z
UID:7548-1640102400-1640103300@parafia.czerwonawoda.pl
SUMMARY:Spowiedź adwentowa - Bielawa Górna
DESCRIPTION:
URL:http://parafia.czerwonawoda.pl/event/spowiedz-adwentowa-bielawa-gorna-2/
END:VEVENT
BEGIN:VEVENT
DTSTART;TZID=Europe/Helsinki:20211221T161500
DTEND;TZID=Europe/Helsinki:20211221T173000
DTSTAMP:20260421T020523
CREATED:20211218T222915Z
LAST-MODIFIED:20211218T222915Z
UID:7546-1640103300-1640107800@parafia.czerwonawoda.pl
SUMMARY:Spowiedź adwentowa - Czerwona Woda
DESCRIPTION:
URL:http://parafia.czerwonawoda.pl/event/spowiedz-adwentowa-czerwona-woda-4/
END:VEVENT
BEGIN:VEVENT
DTSTART;TZID=Europe/Helsinki:20211228T180000
DTEND;TZID=Europe/Helsinki:20211228T180000
DTSTAMP:20260421T020523
CREATED:20211227T153211Z
LAST-MODIFIED:20211227T153211Z
UID:7582-1640714400-1640714400@parafia.czerwonawoda.pl
SUMMARY:Bielawa Górna - Msza Święta Kolędowa - w intencji parafian ze Strzelna
DESCRIPTION:
URL:http://parafia.czerwonawoda.pl/event/bielawa-gorna-msza-swieta-koledowa-w-intencji-parafian-ze-strzelna/
END:VEVENT
BEGIN:VEVENT
DTSTART;TZID=Europe/Helsinki:20211229T180000
DTEND;TZID=Europe/Helsinki:20211229T180000
DTSTAMP:20260421T020523
CREATED:20211227T153244Z
LAST-MODIFIED:20211227T153244Z
UID:7584-1640800800-1640800800@parafia.czerwonawoda.pl
SUMMARY:Bielawa Górna - Msza Święta Kolędowa - w intencji parafian z Bielawy Górnej
DESCRIPTION:
URL:http://parafia.czerwonawoda.pl/event/bielawa-gorna-msza-swieta-koledowa-w-intencji-parafian-z-bielawy-gornej/
END:VEVENT
END:VCALENDAR