BEGIN:VCALENDAR
VERSION:2.0
PRODID:-//Parafia pw. Wniebowzięcia NMP w Czerwonej Wodzie - ECPv6.8.1//NONSGML v1.0//EN
CALSCALE:GREGORIAN
METHOD:PUBLISH
X-ORIGINAL-URL:http://parafia.czerwonawoda.pl
X-WR-CALDESC:Events for Parafia pw. Wniebowzięcia NMP w Czerwonej Wodzie
REFRESH-INTERVAL;VALUE=DURATION:PT1H
X-Robots-Tag:noindex
X-PUBLISHED-TTL:PT1H
BEGIN:VTIMEZONE
TZID:Europe/Helsinki
BEGIN:DAYLIGHT
TZOFFSETFROM:+0200
TZOFFSETTO:+0300
TZNAME:EEST
DTSTART:20220327T010000
END:DAYLIGHT
BEGIN:STANDARD
TZOFFSETFROM:+0300
TZOFFSETTO:+0200
TZNAME:EET
DTSTART:20221030T010000
END:STANDARD
END:VTIMEZONE
BEGIN:VEVENT
DTSTART;TZID=Europe/Helsinki:20220903T150000
DTEND;TZID=Europe/Helsinki:20220903T150000
DTSTAMP:20260420T123735
CREATED:20220828T185636Z
LAST-MODIFIED:20220828T185636Z
UID:8602-1662217200-1662217200@parafia.czerwonawoda.pl
SUMMARY:Zbiórka ministrantów i lektorów oraz podsumowanie konkursu na „Ministranta wakacji 2022”
DESCRIPTION:
URL:http://parafia.czerwonawoda.pl/event/zbiorka-ministrantow-i-lektorow-oraz-podsumowanie-konkursu-na-ministranta-wakacji-2022/
END:VEVENT
BEGIN:VEVENT
DTSTART;TZID=Europe/Helsinki:20220904T113000
DTEND;TZID=Europe/Helsinki:20220904T113000
DTSTAMP:20260420T123735
CREATED:20220828T185457Z
LAST-MODIFIED:20220828T185457Z
UID:8598-1662291000-1662291000@parafia.czerwonawoda.pl
SUMMARY:Poświęcenie tornistrów i przyborów szkolnych dla klasy pierwszej\, która rozpoczyna edukację w szkole
DESCRIPTION:
URL:http://parafia.czerwonawoda.pl/event/poswiecenie-tornistrow-i-przyborow-szkolnych-dla-klasy-pierwszej-ktora-rozpoczyna-edukacje-w-szkole/
END:VEVENT
BEGIN:VEVENT
DTSTART;TZID=Europe/Helsinki:20220904T113000
DTEND;TZID=Europe/Helsinki:20220904T113000
DTSTAMP:20260420T123735
CREATED:20220828T185556Z
LAST-MODIFIED:20220828T185556Z
UID:8600-1662291000-1662291000@parafia.czerwonawoda.pl
SUMMARY:Spotkanie dla dzieci\, które pragną przystąpić do Pierwszej Spowiedzi i Komunii Świętej oraz ich rodziców
DESCRIPTION:
URL:http://parafia.czerwonawoda.pl/event/spotkanie-dla-dzieci-ktore-pragna-przystapic-do-pierwszej-spowiedzi-i-komunii-swietej-oraz-ich-rodzicow/
END:VEVENT
END:VCALENDAR