BEGIN:VCALENDAR
VERSION:2.0
PRODID:-//Parafia pw. Wniebowzięcia NMP w Czerwonej Wodzie - ECPv6.8.1//NONSGML v1.0//EN
CALSCALE:GREGORIAN
METHOD:PUBLISH
X-ORIGINAL-URL:http://parafia.czerwonawoda.pl
X-WR-CALDESC:Events for Parafia pw. Wniebowzięcia NMP w Czerwonej Wodzie
REFRESH-INTERVAL;VALUE=DURATION:PT1H
X-Robots-Tag:noindex
X-PUBLISHED-TTL:PT1H
BEGIN:VTIMEZONE
TZID:Europe/Helsinki
BEGIN:DAYLIGHT
TZOFFSETFROM:+0200
TZOFFSETTO:+0300
TZNAME:EEST
DTSTART:20220327T010000
END:DAYLIGHT
BEGIN:STANDARD
TZOFFSETFROM:+0300
TZOFFSETTO:+0200
TZNAME:EET
DTSTART:20221030T010000
END:STANDARD
END:VTIMEZONE
BEGIN:VEVENT
DTSTART;TZID=Europe/Helsinki:20221115T160000
DTEND;TZID=Europe/Helsinki:20221115T160000
DTSTAMP:20260420T094359
CREATED:20221113T185625Z
LAST-MODIFIED:20221113T185625Z
UID:8821-1668528000-1668528000@parafia.czerwonawoda.pl
SUMMARY:Spotkanie dla młodzieży z klasy VII\, która przygotowuje się sakramentu bierzmowania
DESCRIPTION:
URL:http://parafia.czerwonawoda.pl/event/spotkanie-dla-mlodziezy-z-klasy-vii-ktora-przygotowuje-sie-sakramentu-bierzmowania/
END:VEVENT
BEGIN:VEVENT
DTSTART;TZID=Europe/Helsinki:20221116T160000
DTEND;TZID=Europe/Helsinki:20221116T160000
DTSTAMP:20260420T094359
CREATED:20221113T185603Z
LAST-MODIFIED:20221113T185603Z
UID:8819-1668614400-1668614400@parafia.czerwonawoda.pl
SUMMARY:Spotkanie dla młodzieży z klasy VIII\, która przygotowuje się sakramentu bierzmowania
DESCRIPTION:
URL:http://parafia.czerwonawoda.pl/event/spotkanie-dla-mlodziezy-z-klasy-viii-ktora-przygotowuje-sie-sakramentu-bierzmowania/
END:VEVENT
BEGIN:VEVENT
DTSTART;TZID=Europe/Helsinki:20221120T113000
DTEND;TZID=Europe/Helsinki:20221120T113000
DTSTAMP:20260420T094359
CREATED:20221113T185524Z
LAST-MODIFIED:20221113T185524Z
UID:8817-1668943800-1668943800@parafia.czerwonawoda.pl
SUMMARY:Poświęcenie książeczek dla dzieci pierwszokomunijnych(klasa III) i spotkanie z rodzicami tych dzieci
DESCRIPTION:
URL:http://parafia.czerwonawoda.pl/event/poswiecenie-ksiazeczek-dla-dzieci-pierwszokomunijnychklasa-iii-i-spotkanie-z-rodzicami-tych-dzieci/
END:VEVENT
BEGIN:VEVENT
DTSTART;VALUE=DATE:20221127
DTEND;VALUE=DATE:20221205
DTSTAMP:20260420T094359
CREATED:20221120T193732Z
LAST-MODIFIED:20221120T193732Z
UID:8839-1669507200-1670198399@parafia.czerwonawoda.pl
SUMMARY:Świąteczna zbiórka artykułów żywnościowych dla osób potrzebujących pomocy z naszej wspólnoty
DESCRIPTION:
URL:http://parafia.czerwonawoda.pl/event/swiateczna-zbiorka-artykulow-zywnosciowych-dla-osob-potrzebujacych-pomocy-z-naszej-wspolnoty/
END:VEVENT
BEGIN:VEVENT
DTSTART;TZID=Europe/Helsinki:20221127T080000
DTEND;TZID=Europe/Helsinki:20221127T080000
DTSTAMP:20260420T094359
CREATED:20221120T194259Z
LAST-MODIFIED:20221120T194259Z
UID:8841-1669536000-1669536000@parafia.czerwonawoda.pl
SUMMARY:I Niedziela adwentu - poświęcenie wieńca adwentowego i opłatków wigilijnych
DESCRIPTION:
URL:http://parafia.czerwonawoda.pl/event/i-niedziela-adwentu-poswiecenie-wienca-adwentowego-i-oplatkow-wigilijnych/
END:VEVENT
END:VCALENDAR