BEGIN:VCALENDAR
VERSION:2.0
PRODID:-//Parafia pw. Wniebowzięcia NMP w Czerwonej Wodzie - ECPv6.8.1//NONSGML v1.0//EN
CALSCALE:GREGORIAN
METHOD:PUBLISH
X-ORIGINAL-URL:http://parafia.czerwonawoda.pl
X-WR-CALDESC:Events for Parafia pw. Wniebowzięcia NMP w Czerwonej Wodzie
REFRESH-INTERVAL;VALUE=DURATION:PT1H
X-Robots-Tag:noindex
X-PUBLISHED-TTL:PT1H
BEGIN:VTIMEZONE
TZID:Europe/Helsinki
BEGIN:DAYLIGHT
TZOFFSETFROM:+0200
TZOFFSETTO:+0300
TZNAME:EEST
DTSTART:20220327T010000
END:DAYLIGHT
BEGIN:STANDARD
TZOFFSETFROM:+0300
TZOFFSETTO:+0200
TZNAME:EET
DTSTART:20221030T010000
END:STANDARD
END:VTIMEZONE
BEGIN:VEVENT
DTSTART;VALUE=DATE:20221127
DTEND;VALUE=DATE:20221205
DTSTAMP:20260420T081515
CREATED:20221120T193732Z
LAST-MODIFIED:20221120T193732Z
UID:8839-1669507200-1670198399@parafia.czerwonawoda.pl
SUMMARY:Świąteczna zbiórka artykułów żywnościowych dla osób potrzebujących pomocy z naszej wspólnoty
DESCRIPTION:
URL:http://parafia.czerwonawoda.pl/event/swiateczna-zbiorka-artykulow-zywnosciowych-dla-osob-potrzebujacych-pomocy-z-naszej-wspolnoty/
END:VEVENT
BEGIN:VEVENT
DTSTART;TZID=Europe/Helsinki:20221221T090000
DTEND;TZID=Europe/Helsinki:20221221T090000
DTSTAMP:20260420T081515
CREATED:20221218T200058Z
LAST-MODIFIED:20221218T200058Z
UID:8874-1671613200-1671613200@parafia.czerwonawoda.pl
SUMMARY:Spowiedź adwentowa - Czerwona Woda
DESCRIPTION:
URL:http://parafia.czerwonawoda.pl/event/spowiedz-adwentowa-czerwona-woda-5/
END:VEVENT
BEGIN:VEVENT
DTSTART;TZID=Europe/Helsinki:20221221T160000
DTEND;TZID=Europe/Helsinki:20221221T160000
DTSTAMP:20260420T081515
CREATED:20221218T200120Z
LAST-MODIFIED:20221218T200120Z
UID:8876-1671638400-1671638400@parafia.czerwonawoda.pl
SUMMARY:Spowiedź adwentowa - Czerwona Woda
DESCRIPTION:
URL:http://parafia.czerwonawoda.pl/event/spowiedz-adwentowa-czerwona-woda-6/
END:VEVENT
BEGIN:VEVENT
DTSTART;TZID=Europe/Helsinki:20221221T160000
DTEND;TZID=Europe/Helsinki:20221221T160000
DTSTAMP:20260420T081515
CREATED:20221218T200154Z
LAST-MODIFIED:20221218T200154Z
UID:8878-1671638400-1671638400@parafia.czerwonawoda.pl
SUMMARY:Spowiedź adwentowa - Bielawa Górna
DESCRIPTION:
URL:http://parafia.czerwonawoda.pl/event/spowiedz-adwentowa-bielawa-gorna-3/
END:VEVENT
BEGIN:VEVENT
DTSTART;TZID=Europe/Helsinki:20221224T220000
DTEND;TZID=Europe/Helsinki:20221224T220000
DTSTAMP:20260420T081515
CREATED:20221218T195941Z
LAST-MODIFIED:20221218T195941Z
UID:8870-1671919200-1671919200@parafia.czerwonawoda.pl
SUMMARY:Msza Święta Pasterska - Bielawa Górna
DESCRIPTION:
URL:http://parafia.czerwonawoda.pl/event/msza-swieta-pasterska-bielawa-gorna/
END:VEVENT
BEGIN:VEVENT
DTSTART;TZID=Europe/Helsinki:20221225T000000
DTEND;TZID=Europe/Helsinki:20221225T000000
DTSTAMP:20260420T081515
CREATED:20221218T200018Z
LAST-MODIFIED:20221218T200218Z
UID:8872-1671926400-1671926400@parafia.czerwonawoda.pl
SUMMARY:Msza Święta Pasterska - Czerwona Woda
DESCRIPTION:
URL:http://parafia.czerwonawoda.pl/event/msza-swieta-pasterska-czerwona-woda/
END:VEVENT
END:VCALENDAR