BEGIN:VCALENDAR
VERSION:2.0
PRODID:-//Parafia pw. Wniebowzięcia NMP w Czerwonej Wodzie - ECPv6.8.1//NONSGML v1.0//EN
CALSCALE:GREGORIAN
METHOD:PUBLISH
X-ORIGINAL-URL:http://parafia.czerwonawoda.pl
X-WR-CALDESC:Events for Parafia pw. Wniebowzięcia NMP w Czerwonej Wodzie
REFRESH-INTERVAL;VALUE=DURATION:PT1H
X-Robots-Tag:noindex
X-PUBLISHED-TTL:PT1H
BEGIN:VTIMEZONE
TZID:Europe/Helsinki
BEGIN:DAYLIGHT
TZOFFSETFROM:+0200
TZOFFSETTO:+0300
TZNAME:EEST
DTSTART:20230326T010000
END:DAYLIGHT
BEGIN:STANDARD
TZOFFSETFROM:+0300
TZOFFSETTO:+0200
TZNAME:EET
DTSTART:20231029T010000
END:STANDARD
END:VTIMEZONE
BEGIN:VEVENT
DTSTART;TZID=Europe/Helsinki:20230301T180000
DTEND;TZID=Europe/Helsinki:20230301T180000
DTSTAMP:20260420T032800
CREATED:20230225T201430Z
LAST-MODIFIED:20230225T201430Z
UID:9243-1677693600-1677693600@parafia.czerwonawoda.pl
SUMMARY:Spotkanie dla młodzieży\, która ma przystąpić do sakramentu bierzmowania
DESCRIPTION:
URL:http://parafia.czerwonawoda.pl/event/spotkanie-dla-mlodziezy-ktora-ma-przystapic-do-sakramentu-bierzmowania/
END:VEVENT
BEGIN:VEVENT
DTSTART;TZID=Europe/Helsinki:20230304T123000
DTEND;TZID=Europe/Helsinki:20230304T123000
DTSTAMP:20260420T032800
CREATED:20230225T201537Z
LAST-MODIFIED:20230225T201537Z
UID:9245-1677933000-1677933000@parafia.czerwonawoda.pl
SUMMARY:Egzamin dopuszczający dzieci z klasy III do I Spowiedzi i I Komunii Świętej
DESCRIPTION:
URL:http://parafia.czerwonawoda.pl/event/egzamin-dopuszczajacy-dzieci-z-klasy-iii-do-i-spowiedzi-i-i-komunii-swietej/
END:VEVENT
BEGIN:VEVENT
DTSTART;TZID=Europe/Helsinki:20230308T170000
DTEND;TZID=Europe/Helsinki:20230308T170000
DTSTAMP:20260420T032800
CREATED:20230304T174836Z
LAST-MODIFIED:20230304T174836Z
UID:9263-1678294800-1678294800@parafia.czerwonawoda.pl
SUMMARY:Spotkanie dla młodzieży\, która ma przystąpić do sakramentu bierzmowania
DESCRIPTION:
URL:http://parafia.czerwonawoda.pl/event/spotkanie-dla-mlodziezy-ktora-ma-przystapic-do-sakramentu-bierzmowania-2/
END:VEVENT
BEGIN:VEVENT
DTSTART;TZID=Europe/Helsinki:20230311T100000
DTEND;TZID=Europe/Helsinki:20230311T100000
DTSTAMP:20260420T032800
CREATED:20230304T174911Z
LAST-MODIFIED:20230304T174911Z
UID:9265-1678528800-1678528800@parafia.czerwonawoda.pl
SUMMARY:Zbiórka wszystkich kandydatów na ministrantów\, ministrantów i lektorów
DESCRIPTION:
URL:http://parafia.czerwonawoda.pl/event/zbiorka-wszystkich-kandydatow-na-ministrantow-ministrantow-i-lektorow/
END:VEVENT
BEGIN:VEVENT
DTSTART;TZID=Europe/Helsinki:20230316T170000
DTEND;TZID=Europe/Helsinki:20230316T170000
DTSTAMP:20260420T032800
CREATED:20230311T215104Z
LAST-MODIFIED:20230311T215104Z
UID:9284-1678986000-1678986000@parafia.czerwonawoda.pl
SUMMARY:Spotkanie dla młodzieży\, która ma przystąpić do sakramentu bierzmowania
DESCRIPTION:
URL:http://parafia.czerwonawoda.pl/event/spotkanie-dla-mlodziezy-ktora-ma-przystapic-do-sakramentu-bierzmowania-3/
END:VEVENT
BEGIN:VEVENT
DTSTART;VALUE=DATE:20230326
DTEND;VALUE=DATE:20230327
DTSTAMP:20260420T032800
CREATED:20230304T175000Z
LAST-MODIFIED:20230304T175000Z
UID:9267-1679788800-1679875199@parafia.czerwonawoda.pl
SUMMARY:Kiermasz świąteczny – palmy\, baranki zajączki i ozdoby świąteczne
DESCRIPTION:
URL:http://parafia.czerwonawoda.pl/event/kiermasz-swiateczny-palmy-baranki-zajaczki-i-ozdoby-swiateczne/
END:VEVENT
BEGIN:VEVENT
DTSTART;VALUE=DATE:20230326
DTEND;VALUE=DATE:20230329
DTSTAMP:20260420T032800
CREATED:20230304T175138Z
LAST-MODIFIED:20230304T175138Z
UID:9271-1679788800-1680047999@parafia.czerwonawoda.pl
SUMMARY:Rekolekcje wielkopostne
DESCRIPTION:
URL:http://parafia.czerwonawoda.pl/event/rekolekcje-wielkopostne-5/
END:VEVENT
BEGIN:VEVENT
DTSTART;VALUE=DATE:20230326
DTEND;VALUE=DATE:20230402
DTSTAMP:20260420T032800
CREATED:20230321T195023Z
LAST-MODIFIED:20230321T195023Z
UID:9299-1679788800-1680393599@parafia.czerwonawoda.pl
SUMMARY:Parafialna Świąteczna Zbiórka Żywności
DESCRIPTION:
URL:http://parafia.czerwonawoda.pl/event/parafialna-swiateczna-zbiorka-zywnosci-2/
END:VEVENT
BEGIN:VEVENT
DTSTART;TZID=Europe/Helsinki:20230330T170000
DTEND;TZID=Europe/Helsinki:20230330T170000
DTSTAMP:20260420T032800
CREATED:20230325T203557Z
LAST-MODIFIED:20230325T203557Z
UID:9312-1680195600-1680195600@parafia.czerwonawoda.pl
SUMMARY:Spotkanie dla młodzieży\, która ma przystąpić do sakramentu bierzmowania
DESCRIPTION:
URL:http://parafia.czerwonawoda.pl/event/spotkanie-dla-mlodziezy-ktora-ma-przystapic-do-sakramentu-bierzmowania-4/
END:VEVENT
BEGIN:VEVENT
DTSTART;TZID=Europe/Helsinki:20230331T180000
DTEND;TZID=Europe/Helsinki:20230331T180000
DTSTAMP:20260420T032800
CREATED:20230325T203220Z
LAST-MODIFIED:20230325T203220Z
UID:9306-1680285600-1680285600@parafia.czerwonawoda.pl
SUMMARY:Droga Krzyżowa ulicami Czerwonej Wody
DESCRIPTION:
URL:http://parafia.czerwonawoda.pl/event/droga-krzyzowa-ulicami-czerwonej-wody-3/
END:VEVENT
END:VCALENDAR