BEGIN:VCALENDAR
VERSION:2.0
PRODID:-//Parafia pw. Wniebowzięcia NMP w Czerwonej Wodzie - ECPv6.8.1//NONSGML v1.0//EN
CALSCALE:GREGORIAN
METHOD:PUBLISH
X-ORIGINAL-URL:http://parafia.czerwonawoda.pl
X-WR-CALDESC:Events for Parafia pw. Wniebowzięcia NMP w Czerwonej Wodzie
REFRESH-INTERVAL;VALUE=DURATION:PT1H
X-Robots-Tag:noindex
X-PUBLISHED-TTL:PT1H
BEGIN:VTIMEZONE
TZID:Europe/Helsinki
BEGIN:DAYLIGHT
TZOFFSETFROM:+0200
TZOFFSETTO:+0300
TZNAME:EEST
DTSTART:20230326T010000
END:DAYLIGHT
BEGIN:STANDARD
TZOFFSETFROM:+0300
TZOFFSETTO:+0200
TZNAME:EET
DTSTART:20231029T010000
END:STANDARD
END:VTIMEZONE
BEGIN:VEVENT
DTSTART;TZID=Europe/Helsinki:20230506T150000
DTEND;TZID=Europe/Helsinki:20230506T150000
DTSTAMP:20260420T003433
CREATED:20221113T185739Z
LAST-MODIFIED:20230410T200500Z
UID:8823-1683385200-1683385200@parafia.czerwonawoda.pl
SUMMARY:Uroczystość 75-lecia Ochotniczej Straży Pożarnej w Czerwonej Wodzie
DESCRIPTION:
URL:http://parafia.czerwonawoda.pl/event/uroczystosc-75-lecia-ochotniczej-strazy-pozarnej-w-czerwonej-wodzie/
END:VEVENT
BEGIN:VEVENT
DTSTART;TZID=Europe/Helsinki:20230508T153000
DTEND;TZID=Europe/Helsinki:20230508T153000
DTSTAMP:20260420T003433
CREATED:20230507T183515Z
LAST-MODIFIED:20230507T183515Z
UID:9759-1683559800-1683559800@parafia.czerwonawoda.pl
SUMMARY:Spotkanie dla dzieci pierwszokomunijnych
DESCRIPTION:
URL:http://parafia.czerwonawoda.pl/event/spotkanie-dla-dzieci-pierwszokomunijnych-3/
END:VEVENT
BEGIN:VEVENT
DTSTART;TZID=Europe/Helsinki:20230510T153000
DTEND;TZID=Europe/Helsinki:20230510T153000
DTSTAMP:20260420T003433
CREATED:20230507T183541Z
LAST-MODIFIED:20230507T183644Z
UID:9761-1683732600-1683732600@parafia.czerwonawoda.pl
SUMMARY:Spotkanie dla dzieci pierwszokomunijnych
DESCRIPTION:
URL:http://parafia.czerwonawoda.pl/event/spotkanie-dla-dzieci-pierwszokomunijnych-4/
END:VEVENT
BEGIN:VEVENT
DTSTART;TZID=Europe/Helsinki:20230511T173000
DTEND;TZID=Europe/Helsinki:20230511T173000
DTSTAMP:20260420T003433
CREATED:20230507T183614Z
LAST-MODIFIED:20230507T183614Z
UID:9763-1683826200-1683826200@parafia.czerwonawoda.pl
SUMMARY:Zbiórka wszystkich lektorów\, ministrantów i kandydatów
DESCRIPTION:
URL:http://parafia.czerwonawoda.pl/event/zbiorka-wszystkich-lektorow-ministrantow-i-kandydatow-2/
END:VEVENT
BEGIN:VEVENT
DTSTART;TZID=Europe/Helsinki:20230512T180000
DTEND;TZID=Europe/Helsinki:20230512T180000
DTSTAMP:20260420T003433
CREATED:20230502T070052Z
LAST-MODIFIED:20230502T070052Z
UID:9378-1683914400-1683914400@parafia.czerwonawoda.pl
SUMMARY:Śluby wieczyste pustelnika br. Elizeusza Janikowskiego
DESCRIPTION:
URL:http://parafia.czerwonawoda.pl/event/sluby-wieczyste-pustelnika-br-elizeusza-janikowskiego/
END:VEVENT
BEGIN:VEVENT
DTSTART;TZID=Europe/Helsinki:20230523T130000
DTEND;TZID=Europe/Helsinki:20230523T130000
DTSTAMP:20260420T003433
CREATED:20230521T154025Z
LAST-MODIFIED:20230521T154025Z
UID:9909-1684846800-1684846800@parafia.czerwonawoda.pl
SUMMARY:Spotkanie dla dzieci pierwszokomunijnych
DESCRIPTION:
URL:http://parafia.czerwonawoda.pl/event/spotkanie-dla-dzieci-pierwszokomunijnych-5/
END:VEVENT
BEGIN:VEVENT
DTSTART;TZID=Europe/Helsinki:20230524T153000
DTEND;TZID=Europe/Helsinki:20230524T153000
DTSTAMP:20260420T003433
CREATED:20230521T154130Z
LAST-MODIFIED:20230521T154130Z
UID:9913-1684942200-1684942200@parafia.czerwonawoda.pl
SUMMARY:Spotkanie dla dzieci rocznicowych i ich rodziców
DESCRIPTION:
URL:http://parafia.czerwonawoda.pl/event/spotkanie-dla-dzieci-rocznicowych-i-ich-rodzicow/
END:VEVENT
BEGIN:VEVENT
DTSTART;TZID=Europe/Helsinki:20230524T161500
DTEND;TZID=Europe/Helsinki:20230524T161500
DTSTAMP:20260420T003433
CREATED:20230521T154206Z
LAST-MODIFIED:20230521T154206Z
UID:9915-1684944900-1684944900@parafia.czerwonawoda.pl
SUMMARY:Zbiórka dla kandydatów na ministrantów
DESCRIPTION:
URL:http://parafia.czerwonawoda.pl/event/zbiorka-dla-kandydatow-na-ministrantow-2/
END:VEVENT
BEGIN:VEVENT
DTSTART;TZID=Europe/Helsinki:20230525T140000
DTEND;TZID=Europe/Helsinki:20230525T140000
DTSTAMP:20260420T003433
CREATED:20230521T154057Z
LAST-MODIFIED:20230521T154057Z
UID:9911-1685023200-1685023200@parafia.czerwonawoda.pl
SUMMARY:Spotkanie dla dzieci pierwszokomunijnych - próba generalna
DESCRIPTION:
URL:http://parafia.czerwonawoda.pl/event/spotkanie-dla-dzieci-pierwszokomunijnych-proba-generalna/
END:VEVENT
BEGIN:VEVENT
DTSTART;TZID=Europe/Helsinki:20230527T093000
DTEND;TZID=Europe/Helsinki:20230527T093000
DTSTAMP:20260420T003433
CREATED:20230521T154442Z
LAST-MODIFIED:20230521T154442Z
UID:9917-1685179800-1685179800@parafia.czerwonawoda.pl
SUMMARY:Spowiedź dla dzieci komunijnych\, ich rodziców i najbliższych
DESCRIPTION:
URL:http://parafia.czerwonawoda.pl/event/spowiedz-dla-dzieci-komunijnych-ich-rodzicow-i-najblizszych/
END:VEVENT
BEGIN:VEVENT
DTSTART;TZID=Europe/Helsinki:20230528T100000
DTEND;TZID=Europe/Helsinki:20230528T100000
DTSTAMP:20260420T003433
CREATED:20221113T185813Z
LAST-MODIFIED:20221113T185813Z
UID:8825-1685268000-1685268000@parafia.czerwonawoda.pl
SUMMARY:Uroczystość Pierwszej Komunii Świętej
DESCRIPTION:
URL:http://parafia.czerwonawoda.pl/event/uroczystosc-pierwszej-komunii-swietej/
END:VEVENT
BEGIN:VEVENT
DTSTART;TZID=Europe/Helsinki:20230531T163000
DTEND;TZID=Europe/Helsinki:20230531T163000
DTSTAMP:20260420T003433
CREATED:20230528T192527Z
LAST-MODIFIED:20230528T192527Z
UID:9925-1685550600-1685550600@parafia.czerwonawoda.pl
SUMMARY:Zbiórka dla kandydatów na ministrantów
DESCRIPTION:
URL:http://parafia.czerwonawoda.pl/event/zbiorka-dla-kandydatow-na-ministrantow-3/
END:VEVENT
END:VCALENDAR