BEGIN:VCALENDAR
VERSION:2.0
PRODID:-//Parafia pw. Wniebowzięcia NMP w Czerwonej Wodzie - ECPv6.8.1//NONSGML v1.0//EN
CALSCALE:GREGORIAN
METHOD:PUBLISH
X-ORIGINAL-URL:http://parafia.czerwonawoda.pl
X-WR-CALDESC:Events for Parafia pw. Wniebowzięcia NMP w Czerwonej Wodzie
REFRESH-INTERVAL;VALUE=DURATION:PT1H
X-Robots-Tag:noindex
X-PUBLISHED-TTL:PT1H
BEGIN:VTIMEZONE
TZID:Europe/Helsinki
BEGIN:DAYLIGHT
TZOFFSETFROM:+0200
TZOFFSETTO:+0300
TZNAME:EEST
DTSTART:20240331T010000
END:DAYLIGHT
BEGIN:STANDARD
TZOFFSETFROM:+0300
TZOFFSETTO:+0200
TZNAME:EET
DTSTART:20241027T010000
END:STANDARD
END:VTIMEZONE
BEGIN:VEVENT
DTSTART;TZID=Europe/Helsinki:20240204T113000
DTEND;TZID=Europe/Helsinki:20240204T113000
DTSTAMP:20260419T182646
CREATED:20240128T190955Z
LAST-MODIFIED:20240128T190955Z
UID:11328-1707046200-1707046200@parafia.czerwonawoda.pl
SUMMARY:Poświęcenie i wręczenie świec dla dzieci pierwszokomunijnych
DESCRIPTION:
URL:http://parafia.czerwonawoda.pl/event/poswiecenie-i-wreczenie-swiec-dla-dzieci-pierwszokomunijnych/
END:VEVENT
BEGIN:VEVENT
DTSTART;TZID=Europe/Helsinki:20240205T090000
DTEND;TZID=Europe/Helsinki:20240205T090000
DTSTAMP:20260419T182646
CREATED:20240204T205317Z
LAST-MODIFIED:20240204T205317Z
UID:11361-1707123600-1707123600@parafia.czerwonawoda.pl
SUMMARY:Św. Agaty\, dziewicy i męczennicy - błogosławienie chleba i wody
DESCRIPTION:
URL:http://parafia.czerwonawoda.pl/event/sw-agaty-dziewicy-i-meczennicy-blogoslawienie-chleba-i-wody/
END:VEVENT
BEGIN:VEVENT
DTSTART;TZID=Europe/Helsinki:20240210T090000
DTEND;TZID=Europe/Helsinki:20240210T090000
DTSTAMP:20260419T182646
CREATED:20240204T205156Z
LAST-MODIFIED:20240204T205156Z
UID:11359-1707555600-1707555600@parafia.czerwonawoda.pl
SUMMARY:Św. Scholastyki - Msza Święta z udzielaniem sakramentu chorych
DESCRIPTION:
URL:http://parafia.czerwonawoda.pl/event/sw-scholastyki-msza-swieta-z-udzielaniem-sakramentu-chorych/
END:VEVENT
BEGIN:VEVENT
DTSTART;VALUE=DATE:20240211
DTEND;VALUE=DATE:20240212
DTSTAMP:20260419T182646
CREATED:20240201T202948Z
LAST-MODIFIED:20240201T202948Z
UID:11347-1707609600-1707695999@parafia.czerwonawoda.pl
SUMMARY:Wybory do Parafialnej Rady Ekonomicznej
DESCRIPTION:
URL:http://parafia.czerwonawoda.pl/event/wybory-do-parafialnej-rady-ekonomicznej/
END:VEVENT
BEGIN:VEVENT
DTSTART;TZID=Europe/Helsinki:20240218T163000
DTEND;TZID=Europe/Helsinki:20240218T163000
DTSTAMP:20260419T182646
CREATED:20240217T105014Z
LAST-MODIFIED:20240217T125729Z
UID:11431-1708273800-1708273800@parafia.czerwonawoda.pl
SUMMARY:Nauki przedmałżeńskie
DESCRIPTION:
URL:http://parafia.czerwonawoda.pl/event/nauki-przedmalzenskie-5/
END:VEVENT
BEGIN:VEVENT
DTSTART;TZID=Europe/Helsinki:20240222T160000
DTEND;TZID=Europe/Helsinki:20240222T160000
DTSTAMP:20260419T182646
CREATED:20240217T105119Z
LAST-MODIFIED:20240217T105119Z
UID:11433-1708617600-1708617600@parafia.czerwonawoda.pl
SUMMARY:Spotkanie dla młodzieży klasy ósmej
DESCRIPTION:
URL:http://parafia.czerwonawoda.pl/event/spotkanie-dla-mlodziezy-klasy-osmej-2/
END:VEVENT
BEGIN:VEVENT
DTSTART;TZID=Europe/Helsinki:20240223T160000
DTEND;TZID=Europe/Helsinki:20240223T160000
DTSTAMP:20260419T182646
CREATED:20240217T105153Z
LAST-MODIFIED:20240217T105153Z
UID:11435-1708704000-1708704000@parafia.czerwonawoda.pl
SUMMARY:Spotkanie dla młodzieży klasy siódmej
DESCRIPTION:
URL:http://parafia.czerwonawoda.pl/event/spotkanie-dla-mlodziezy-klasy-siodmej/
END:VEVENT
BEGIN:VEVENT
DTSTART;TZID=Europe/Helsinki:20240225T150000
DTEND;TZID=Europe/Helsinki:20240225T150000
DTSTAMP:20260419T182646
CREATED:20240224T173259Z
LAST-MODIFIED:20240224T173259Z
UID:11482-1708873200-1708873200@parafia.czerwonawoda.pl
SUMMARY:Wystawienie Najświętszego Sakramentu\, koronka do Bożego Miłosierdzia\, modlitwy Róż Różańcowych\, Margaretek\, Czcicieli pierwszych sobót miesiąca\, wspólnoty Krwi Chrystusa w intencji naszej Ojczyzny
DESCRIPTION:
URL:http://parafia.czerwonawoda.pl/event/wystawienie-najswietszego-sakramentu-koronka-do-bozego-milosierdzia-modlitwy-roz-rozancowych-margaretek-czcicieli-pierwszych-sobot-miesiaca-wspolnoty-krwi-chrystusa-w-intencji-naszej-ojczyzny/
END:VEVENT
BEGIN:VEVENT
DTSTART;TZID=Europe/Helsinki:20240225T163000
DTEND;TZID=Europe/Helsinki:20240225T163000
DTSTAMP:20260419T182646
CREATED:20240224T173741Z
LAST-MODIFIED:20240224T173844Z
UID:11484-1708878600-1708878600@parafia.czerwonawoda.pl
SUMMARY:Nauki przedmałżeńskie
DESCRIPTION:
URL:http://parafia.czerwonawoda.pl/event/nauki-przedmalzenskie-6/
ATTACH;FMTTYPE=image/png:http://parafia.czerwonawoda.pl/wp-content/uploads/2024/02/nauki2.png
END:VEVENT
END:VCALENDAR