BEGIN:VCALENDAR
VERSION:2.0
PRODID:-//Parafia pw. Wniebowzięcia NMP w Czerwonej Wodzie - ECPv6.8.1//NONSGML v1.0//EN
CALSCALE:GREGORIAN
METHOD:PUBLISH
X-ORIGINAL-URL:http://parafia.czerwonawoda.pl
X-WR-CALDESC:Events for Parafia pw. Wniebowzięcia NMP w Czerwonej Wodzie
REFRESH-INTERVAL;VALUE=DURATION:PT1H
X-Robots-Tag:noindex
X-PUBLISHED-TTL:PT1H
BEGIN:VTIMEZONE
TZID:Europe/Helsinki
BEGIN:DAYLIGHT
TZOFFSETFROM:+0200
TZOFFSETTO:+0300
TZNAME:EEST
DTSTART:20240331T010000
END:DAYLIGHT
BEGIN:STANDARD
TZOFFSETFROM:+0300
TZOFFSETTO:+0200
TZNAME:EET
DTSTART:20241027T010000
END:STANDARD
END:VTIMEZONE
BEGIN:VEVENT
DTSTART;TZID=Europe/Helsinki:20240306T170000
DTEND;TZID=Europe/Helsinki:20240306T170000
DTSTAMP:20260419T195439
CREATED:20240306T094725Z
LAST-MODIFIED:20240306T094725Z
UID:11494-1709744400-1709744400@parafia.czerwonawoda.pl
SUMMARY:Spotkanie Parafialnej Rady Ekonomicznej
DESCRIPTION:
URL:http://parafia.czerwonawoda.pl/event/spotkanie-parafialnej-rady-ekonomicznej/
END:VEVENT
BEGIN:VEVENT
DTSTART;VALUE=DATE:20240316
DTEND;VALUE=DATE:20240325
DTSTAMP:20260419T195439
CREATED:20240309T203105Z
LAST-MODIFIED:20240309T203105Z
UID:11511-1710547200-1711324799@parafia.czerwonawoda.pl
SUMMARY:Nowenna w intencji Ojczyzny\, zgody narodowej i poszanowania życia ludzkiego
DESCRIPTION:
URL:http://parafia.czerwonawoda.pl/event/nowenna-w-intencji-ojczyzny-zgody-narodowej-i-poszanowania-zycia-ludzkiego/
END:VEVENT
BEGIN:VEVENT
DTSTART;TZID=Europe/Helsinki:20240316T110000
DTEND;TZID=Europe/Helsinki:20240316T110000
DTSTAMP:20260419T195439
CREATED:20240309T203005Z
LAST-MODIFIED:20240309T203005Z
UID:11509-1710586800-1710586800@parafia.czerwonawoda.pl
SUMMARY:Zbiórka wszystkich ministrantów
DESCRIPTION:
URL:http://parafia.czerwonawoda.pl/event/zbiorka-wszystkich-ministrantow/
END:VEVENT
BEGIN:VEVENT
DTSTART;VALUE=DATE:20240317
DTEND;VALUE=DATE:20240318
DTSTAMP:20260419T195439
CREATED:20240130T171705Z
LAST-MODIFIED:20240130T171705Z
UID:11337-1710633600-1710719999@parafia.czerwonawoda.pl
SUMMARY:Parafialna Świąteczna Zbiórka Żywności
DESCRIPTION:
URL:http://parafia.czerwonawoda.pl/event/parafialna-swiateczna-zbiorka-zywnosci-3/
END:VEVENT
BEGIN:VEVENT
DTSTART;VALUE=DATE:20240317
DTEND;VALUE=DATE:20240320
DTSTAMP:20260419T195439
CREATED:20240130T171811Z
LAST-MODIFIED:20240130T171811Z
UID:11341-1710633600-1710892799@parafia.czerwonawoda.pl
SUMMARY:Rekolekcje wielkopostne
DESCRIPTION:
URL:http://parafia.czerwonawoda.pl/event/rekolekcje-wielkopostne-6/
END:VEVENT
BEGIN:VEVENT
DTSTART;VALUE=DATE:20240319
DTEND;VALUE=DATE:20240320
DTSTAMP:20260419T195439
CREATED:20240217T105232Z
LAST-MODIFIED:20240217T105232Z
UID:11437-1710806400-1710892799@parafia.czerwonawoda.pl
SUMMARY:Spowiedź wielkopostna
DESCRIPTION:
URL:http://parafia.czerwonawoda.pl/event/spowiedz-wielkopostna/
END:VEVENT
BEGIN:VEVENT
DTSTART;VALUE=DATE:20240322
DTEND;VALUE=DATE:20240323
DTSTAMP:20260419T195439
CREATED:20240130T171740Z
LAST-MODIFIED:20240316T173945Z
UID:11339-1711065600-1711151999@parafia.czerwonawoda.pl
SUMMARY:Droga Krzyżowa ulicami Czerwonej Wody
DESCRIPTION:
URL:http://parafia.czerwonawoda.pl/event/droga-krzyzowa-ulicami-czerwonej-wody-4/
LOCATION:Czerwona Woda\, Kościuszki 2a\, Czerwona Woda\, 59-942\, Polska
END:VEVENT
BEGIN:VEVENT
DTSTART;TZID=Europe/Helsinki:20240323T090000
DTEND;TZID=Europe/Helsinki:20240323T090000
DTSTAMP:20260419T195439
CREATED:20240316T173918Z
LAST-MODIFIED:20240316T173918Z
UID:11527-1711184400-1711184400@parafia.czerwonawoda.pl
SUMMARY:Spotkanie dla młodzieży z klasy ósmej i ich rodziców
DESCRIPTION:
URL:http://parafia.czerwonawoda.pl/event/spotkanie-dla-mlodziezy-z-klasy-osmej-i-ich-rodzicow/
LOCATION:Czerwona Woda\, Kościuszki 2a\, Czerwona Woda\, 59-942\, Polska
END:VEVENT
BEGIN:VEVENT
DTSTART;TZID=Europe/Helsinki:20240324T113000
DTEND;TZID=Europe/Helsinki:20240324T113000
DTSTAMP:20260419T195439
CREATED:20240316T173749Z
LAST-MODIFIED:20240316T173749Z
UID:11523-1711279800-1711279800@parafia.czerwonawoda.pl
SUMMARY:Zbiórka ministrantów
DESCRIPTION:
URL:http://parafia.czerwonawoda.pl/event/zbiorka-ministrantow-9/
LOCATION:Czerwona Woda\, Kościuszki 2a\, Czerwona Woda\, 59-942\, Polska
ORGANIZER;CN="":MAILTO:lsiemaszko@poczta.fm
END:VEVENT
END:VCALENDAR