BEGIN:VCALENDAR
VERSION:2.0
PRODID:-//Parafia pw. Wniebowzięcia NMP w Czerwonej Wodzie - ECPv6.8.1//NONSGML v1.0//EN
CALSCALE:GREGORIAN
METHOD:PUBLISH
X-ORIGINAL-URL:http://parafia.czerwonawoda.pl
X-WR-CALDESC:Events for Parafia pw. Wniebowzięcia NMP w Czerwonej Wodzie
REFRESH-INTERVAL;VALUE=DURATION:PT1H
X-Robots-Tag:noindex
X-PUBLISHED-TTL:PT1H
BEGIN:VTIMEZONE
TZID:Europe/Helsinki
BEGIN:DAYLIGHT
TZOFFSETFROM:+0200
TZOFFSETTO:+0300
TZNAME:EEST
DTSTART:20240331T010000
END:DAYLIGHT
BEGIN:STANDARD
TZOFFSETFROM:+0300
TZOFFSETTO:+0200
TZNAME:EET
DTSTART:20241027T010000
END:STANDARD
END:VTIMEZONE
BEGIN:VEVENT
DTSTART;TZID=Europe/Helsinki:20240605T170000
DTEND;TZID=Europe/Helsinki:20240605T170000
DTSTAMP:20260420T003433
CREATED:20240602T203717Z
LAST-MODIFIED:20240602T203717Z
UID:11946-1717606800-1717606800@parafia.czerwonawoda.pl
SUMMARY:Zbiórka dla kandydatów na ministrantów
DESCRIPTION:
URL:http://parafia.czerwonawoda.pl/event/zbiorka-dla-kandydatow-na-ministrantow-5/
END:VEVENT
BEGIN:VEVENT
DTSTART;TZID=Europe/Helsinki:20240609T113000
DTEND;TZID=Europe/Helsinki:20240609T113000
DTSTAMP:20260420T003433
CREATED:20240602T203617Z
LAST-MODIFIED:20240602T203617Z
UID:11942-1717932600-1717932600@parafia.czerwonawoda.pl
SUMMARY:Spotkanie dla dzieci z klasy II\, które rozpoczynają bezpośrednie przygotowanie do Pierwszej Spowiedzi i Pierwszej Komunii Świętej oraz ich rodziców bądź opiekunów prawnych
DESCRIPTION:
URL:http://parafia.czerwonawoda.pl/event/spotkanie-dla-dzieci-z-klasy-ii-ktore-rozpoczynaja-bezposrednie-przygotowanie-do-pierwszej-spowiedzi-i-pierwszej-komunii-swietej-oraz-ich-rodzicow-badz-opiekunow-prawnych/
END:VEVENT
BEGIN:VEVENT
DTSTART;TZID=Europe/Helsinki:20240609T113000
DTEND;TZID=Europe/Helsinki:20240609T113000
DTSTAMP:20260420T003433
CREATED:20240602T203647Z
LAST-MODIFIED:20240602T203647Z
UID:11944-1717932600-1717932600@parafia.czerwonawoda.pl
SUMMARY:Spotkanie w sprawie organizacji festynu parafialnego
DESCRIPTION:
URL:http://parafia.czerwonawoda.pl/event/spotkanie-w-sprawie-organizacji-festynu-parafialnego-3/
END:VEVENT
BEGIN:VEVENT
DTSTART;TZID=Europe/Helsinki:20240618T163000
DTEND;TZID=Europe/Helsinki:20240618T170000
DTSTAMP:20260420T003433
CREATED:20240616T145057Z
LAST-MODIFIED:20240616T145057Z
UID:11979-1718728200-1718730000@parafia.czerwonawoda.pl
SUMMARY:Spowiedź dla dzieci i młodzieży na zakończenie roku szkolnego i katechetycznego.
DESCRIPTION:
URL:http://parafia.czerwonawoda.pl/event/spowiedz-dla-dzieci-i-mlodziezy-na-zakonczenie-roku-szkolnego-i-katechetycznego-2/
END:VEVENT
BEGIN:VEVENT
DTSTART;TZID=Europe/Helsinki:20240619T163000
DTEND;TZID=Europe/Helsinki:20240619T170000
DTSTAMP:20260420T003433
CREATED:20240616T145114Z
LAST-MODIFIED:20240616T145114Z
UID:11981-1718814600-1718816400@parafia.czerwonawoda.pl
SUMMARY:Spowiedź dla dzieci i młodzieży na zakończenie roku szkolnego i katechetycznego.
DESCRIPTION:
URL:http://parafia.czerwonawoda.pl/event/spowiedz-dla-dzieci-i-mlodziezy-na-zakonczenie-roku-szkolnego-i-katechetycznego-3/
END:VEVENT
BEGIN:VEVENT
DTSTART;TZID=Europe/Helsinki:20240620T083000
DTEND;TZID=Europe/Helsinki:20240620T083000
DTSTAMP:20260420T003433
CREATED:20240616T145008Z
LAST-MODIFIED:20240616T202144Z
UID:11977-1718872200-1718872200@parafia.czerwonawoda.pl
SUMMARY:Msza Święta na zakończenie roku szkolnego i katechetycznego
DESCRIPTION:
URL:http://parafia.czerwonawoda.pl/event/msza-swieta-na-zakonczenie-roku-szkolnego-i-katechetycznego-3/
LOCATION:Czerwona Woda\, Kościuszki 2a\, Czerwona Woda\, 59-942\, Polska
END:VEVENT
END:VCALENDAR