BEGIN:VCALENDAR
VERSION:2.0
PRODID:-//Parafia pw. Wniebowzięcia NMP w Czerwonej Wodzie - ECPv6.8.1//NONSGML v1.0//EN
CALSCALE:GREGORIAN
METHOD:PUBLISH
X-ORIGINAL-URL:http://parafia.czerwonawoda.pl
X-WR-CALDESC:Events for Parafia pw. Wniebowzięcia NMP w Czerwonej Wodzie
REFRESH-INTERVAL;VALUE=DURATION:PT1H
X-Robots-Tag:noindex
X-PUBLISHED-TTL:PT1H
BEGIN:VTIMEZONE
TZID:Europe/Helsinki
BEGIN:DAYLIGHT
TZOFFSETFROM:+0200
TZOFFSETTO:+0300
TZNAME:EEST
DTSTART:20240331T010000
END:DAYLIGHT
BEGIN:STANDARD
TZOFFSETFROM:+0300
TZOFFSETTO:+0200
TZNAME:EET
DTSTART:20241027T010000
END:STANDARD
END:VTIMEZONE
BEGIN:VEVENT
DTSTART;TZID=Europe/Helsinki:20241006T120000
DTEND;TZID=Europe/Helsinki:20241006T120000
DTSTAMP:20260420T063452
CREATED:20240908T153543Z
LAST-MODIFIED:20240908T153543Z
UID:12301-1728216000-1728216000@parafia.czerwonawoda.pl
SUMMARY:Odpust w kościele filialnym w Bielawie Górnej z racji wspomnienia NMP Różańcowej
DESCRIPTION:
URL:http://parafia.czerwonawoda.pl/event/odpust-w-kosciele-filialnym-w-bielawie-gornej-z-racji-wspomnienia-nmp-rozancowej/
END:VEVENT
END:VCALENDAR