BEGIN:VCALENDAR
VERSION:2.0
PRODID:-//Parafia pw. Wniebowzięcia NMP w Czerwonej Wodzie - ECPv6.8.1//NONSGML v1.0//EN
CALSCALE:GREGORIAN
METHOD:PUBLISH
X-ORIGINAL-URL:http://parafia.czerwonawoda.pl
X-WR-CALDESC:Events for Parafia pw. Wniebowzięcia NMP w Czerwonej Wodzie
REFRESH-INTERVAL;VALUE=DURATION:PT1H
X-Robots-Tag:noindex
X-PUBLISHED-TTL:PT1H
BEGIN:VTIMEZONE
TZID:Europe/Helsinki
BEGIN:DAYLIGHT
TZOFFSETFROM:+0200
TZOFFSETTO:+0300
TZNAME:EEST
DTSTART:20240331T010000
END:DAYLIGHT
BEGIN:STANDARD
TZOFFSETFROM:+0300
TZOFFSETTO:+0200
TZNAME:EET
DTSTART:20241027T010000
END:STANDARD
END:VTIMEZONE
BEGIN:VEVENT
DTSTART;VALUE=DATE:20241201
DTEND;VALUE=DATE:20241214
DTSTAMP:20260420T094359
CREATED:20241201T152810Z
LAST-MODIFIED:20241201T152810Z
UID:12736-1733011200-1734134399@parafia.czerwonawoda.pl
SUMMARY:Parafialna świąteczna zbiórka żywności
DESCRIPTION:
URL:http://parafia.czerwonawoda.pl/event/parafialna-swiateczna-zbiorka-zywnosci-4/
END:VEVENT
BEGIN:VEVENT
DTSTART;TZID=Europe/Helsinki:20241208T113000
DTEND;TZID=Europe/Helsinki:20241208T113000
DTSTAMP:20260420T094359
CREATED:20241201T152951Z
LAST-MODIFIED:20241201T152951Z
UID:12742-1733657400-1733657400@parafia.czerwonawoda.pl
SUMMARY:Poświęcenie medalików dla dzieci komunijnych.
DESCRIPTION:
URL:http://parafia.czerwonawoda.pl/event/poswiecenie-medalikow-dla-dzieci-komunijnych/
END:VEVENT
BEGIN:VEVENT
DTSTART;VALUE=DATE:20241215
DTEND;VALUE=DATE:20241216
DTSTAMP:20260420T094359
CREATED:20241208T135444Z
LAST-MODIFIED:20241208T135444Z
UID:12752-1734220800-1734307199@parafia.czerwonawoda.pl
SUMMARY:Kiermasz wypieków świątecznych
DESCRIPTION:
URL:http://parafia.czerwonawoda.pl/event/kiermasz-wypiekow-swiatecznych/
END:VEVENT
BEGIN:VEVENT
DTSTART;TZID=Europe/Helsinki:20241219T083000
DTEND;TZID=Europe/Helsinki:20241219T084500
DTSTAMP:20260420T094359
CREATED:20241201T152859Z
LAST-MODIFIED:20241215T170124Z
UID:12740-1734597000-1734597900@parafia.czerwonawoda.pl
SUMMARY:Spowiedź przed Świętami Bożego Narodzenia - Czerwona Woda
DESCRIPTION:
URL:http://parafia.czerwonawoda.pl/event/spowiedz-przed-swietami-bozego-narodzenia-2/
END:VEVENT
BEGIN:VEVENT
DTSTART;TZID=Europe/Helsinki:20241219T154500
DTEND;TZID=Europe/Helsinki:20241219T154500
DTSTAMP:20260420T094359
CREATED:20241215T170229Z
LAST-MODIFIED:20241215T170229Z
UID:12763-1734623100-1734623100@parafia.czerwonawoda.pl
SUMMARY:Spowiedź przed Świętami Bożego Narodzenia - Bielawa Górna
DESCRIPTION:
URL:http://parafia.czerwonawoda.pl/event/spowiedz-przed-swietami-bozego-narodzenia-bielawa-gorna-2/
END:VEVENT
BEGIN:VEVENT
DTSTART;TZID=Europe/Helsinki:20241219T160000
DTEND;TZID=Europe/Helsinki:20241219T170000
DTSTAMP:20260420T094359
CREATED:20241215T170151Z
LAST-MODIFIED:20241215T170151Z
UID:12761-1734624000-1734627600@parafia.czerwonawoda.pl
SUMMARY:Spowiedź przed Świętami Bożego Narodzenia - Czerwona Woda
DESCRIPTION:
URL:http://parafia.czerwonawoda.pl/event/spowiedz-przed-swietami-bozego-narodzenia-czerwona-woda-2/
END:VEVENT
END:VCALENDAR