BEGIN:VCALENDAR
VERSION:2.0
PRODID:-//Parafia pw. Wniebowzięcia NMP w Czerwonej Wodzie - ECPv6.8.1//NONSGML v1.0//EN
CALSCALE:GREGORIAN
METHOD:PUBLISH
X-ORIGINAL-URL:http://parafia.czerwonawoda.pl
X-WR-CALDESC:Events for Parafia pw. Wniebowzięcia NMP w Czerwonej Wodzie
REFRESH-INTERVAL;VALUE=DURATION:PT1H
X-Robots-Tag:noindex
X-PUBLISHED-TTL:PT1H
BEGIN:VTIMEZONE
TZID:Europe/Helsinki
BEGIN:DAYLIGHT
TZOFFSETFROM:+0200
TZOFFSETTO:+0300
TZNAME:EEST
DTSTART:20250330T010000
END:DAYLIGHT
BEGIN:STANDARD
TZOFFSETFROM:+0300
TZOFFSETTO:+0200
TZNAME:EET
DTSTART:20251026T010000
END:STANDARD
END:VTIMEZONE
BEGIN:VEVENT
DTSTART;TZID=Europe/Helsinki:20250610T160000
DTEND;TZID=Europe/Helsinki:20250610T160000
DTSTAMP:20260420T032800
CREATED:20250608T175621Z
LAST-MODIFIED:20250608T175621Z
UID:13918-1749571200-1749571200@parafia.czerwonawoda.pl
SUMMARY:Spotkanie dla młodzieży\, która pragnie przystąpić do sakramentu bierzmowania
DESCRIPTION:
URL:http://parafia.czerwonawoda.pl/event/spotkanie-dla-mlodziezy-ktora-pragnie-przystapic-do-sakramentu-bierzmowania-3/
END:VEVENT
BEGIN:VEVENT
DTSTART;TZID=Europe/Helsinki:20250612T170000
DTEND;TZID=Europe/Helsinki:20250612T170000
DTSTAMP:20260420T032800
CREATED:20250608T175655Z
LAST-MODIFIED:20250608T175655Z
UID:13920-1749747600-1749747600@parafia.czerwonawoda.pl
SUMMARY:Spotkanie dla rodziców i ich dzieci\, które w przyszłym roku pragną przystąpić do Pierwszej Spowiedzi i Pierwszej Komunii Świętej
DESCRIPTION:
URL:http://parafia.czerwonawoda.pl/event/spotkanie-dla-rodzicow-i-ich-dzieci-ktore-w-przyszlym-roku-pragna-przystapic-do-pierwszej-spowiedzi-i-pierwszej-komunii-swietej/
END:VEVENT
BEGIN:VEVENT
DTSTART;TZID=Europe/Helsinki:20250614T210000
DTEND;TZID=Europe/Helsinki:20250614T210000
DTSTAMP:20260420T032800
CREATED:20250608T175807Z
LAST-MODIFIED:20250608T175807Z
UID:13922-1749934800-1749934800@parafia.czerwonawoda.pl
SUMMARY:Apel Jasnogórski w Kaplicy Cudownego Obrazu na Jasnej Górze z udziałem Scholi Boże Nutki
DESCRIPTION:
URL:http://parafia.czerwonawoda.pl/event/apel-jasnogorski-w-kaplicy-cudownego-obrazu-na-jasnej-gorze-z-udzialem-scholi-boze-nutki/
END:VEVENT
BEGIN:VEVENT
DTSTART;TZID=Europe/Helsinki:20250616T150000
DTEND;TZID=Europe/Helsinki:20250616T150000
DTSTAMP:20260420T032800
CREATED:20250615T172213Z
LAST-MODIFIED:20250615T172213Z
UID:13933-1750086000-1750086000@parafia.czerwonawoda.pl
SUMMARY:Próba dla dzieci rocznicowych
DESCRIPTION:
URL:http://parafia.czerwonawoda.pl/event/proba-dla-dzieci-rocznicowych/
END:VEVENT
BEGIN:VEVENT
DTSTART;TZID=Europe/Helsinki:20250617T150000
DTEND;TZID=Europe/Helsinki:20250617T150000
DTSTAMP:20260420T032800
CREATED:20250615T172242Z
LAST-MODIFIED:20250615T172242Z
UID:13935-1750172400-1750172400@parafia.czerwonawoda.pl
SUMMARY:Próba dla dzieci rocznicowych
DESCRIPTION:
URL:http://parafia.czerwonawoda.pl/event/proba-dla-dzieci-rocznicowych-2/
END:VEVENT
BEGIN:VEVENT
DTSTART;TZID=Europe/Helsinki:20250618T160000
DTEND;TZID=Europe/Helsinki:20250618T160000
DTSTAMP:20260420T032800
CREATED:20250615T172335Z
LAST-MODIFIED:20250615T172335Z
UID:13937-1750262400-1750262400@parafia.czerwonawoda.pl
SUMMARY:Spowiedź dla dzieci rocznicowych\, ich rodziców i najbliższych
DESCRIPTION:
URL:http://parafia.czerwonawoda.pl/event/spowiedz-dla-dzieci-rocznicowych-ich-rodzicow-i-najblizszych/
END:VEVENT
BEGIN:VEVENT
DTSTART;TZID=Europe/Helsinki:20250618T160000
DTEND;TZID=Europe/Helsinki:20250618T160000
DTSTAMP:20260420T032800
CREATED:20250615T172412Z
LAST-MODIFIED:20250615T172412Z
UID:13939-1750262400-1750262400@parafia.czerwonawoda.pl
SUMMARY:Próba dla dziewczynek\, które będą sypały kwiatki podczas procesji Bożego Ciała.
DESCRIPTION:
URL:http://parafia.czerwonawoda.pl/event/proba-dla-dziewczynek-ktore-beda-sypaly-kwiatki-podczas-procesji-bozego-ciala-4/
END:VEVENT
BEGIN:VEVENT
DTSTART;TZID=Europe/Helsinki:20250619T110000
DTEND;TZID=Europe/Helsinki:20250619T110000
DTSTAMP:20260420T032800
CREATED:20240908T153358Z
LAST-MODIFIED:20250608T175524Z
UID:12297-1750330800-1750330800@parafia.czerwonawoda.pl
SUMMARY:Rocznica Pierwszej Komunii Świętej
DESCRIPTION:
URL:http://parafia.czerwonawoda.pl/event/rocznica-pierwszej-komunii-swietej-3/
END:VEVENT
BEGIN:VEVENT
DTSTART;TZID=Europe/Helsinki:20250621T120000
DTEND;TZID=Europe/Helsinki:20250621T120000
DTSTAMP:20260420T032800
CREATED:20250615T172525Z
LAST-MODIFIED:20250615T172525Z
UID:13943-1750507200-1750507200@parafia.czerwonawoda.pl
SUMMARY:Dekanalna Pielgrzymka do Bazyliki Mniejszej w Bolesławcu w ramach Roku Jubileuszowego.
DESCRIPTION:
URL:http://parafia.czerwonawoda.pl/event/dekanalna-pielgrzymka-do-bazyliki-mniejszej-w-boleslawcu-w-ramach-roku-jubileuszowego/
END:VEVENT
BEGIN:VEVENT
DTSTART;TZID=Europe/Helsinki:20250622T150000
DTEND;TZID=Europe/Helsinki:20250622T150000
DTSTAMP:20260420T032800
CREATED:20250615T172559Z
LAST-MODIFIED:20250615T172559Z
UID:13945-1750604400-1750604400@parafia.czerwonawoda.pl
SUMMARY:Spotkanie dla ministrantów i scholi
DESCRIPTION:
URL:http://parafia.czerwonawoda.pl/event/spotkanie-dla-ministrantow-i-scholi/
END:VEVENT
BEGIN:VEVENT
DTSTART;TZID=Europe/Helsinki:20250625T170000
DTEND;TZID=Europe/Helsinki:20250625T170000
DTSTAMP:20260420T032800
CREATED:20250622T180013Z
LAST-MODIFIED:20250622T180013Z
UID:13960-1750870800-1750870800@parafia.czerwonawoda.pl
SUMMARY:Spotkanie dla młodzieży\, która pragnie przystąpić do sakramentu bierzmowania
DESCRIPTION:
URL:http://parafia.czerwonawoda.pl/event/spotkanie-dla-mlodziezy-ktora-pragnie-przystapic-do-sakramentu-bierzmowania-4/
END:VEVENT
BEGIN:VEVENT
DTSTART;TZID=Europe/Helsinki:20250627T083000
DTEND;TZID=Europe/Helsinki:20250627T083000
DTSTAMP:20260420T032800
CREATED:20250622T175943Z
LAST-MODIFIED:20250622T175943Z
UID:13958-1751013000-1751013000@parafia.czerwonawoda.pl
SUMMARY:Msza święta na zakończenie roku szkolnego i katechetycznego
DESCRIPTION:
URL:http://parafia.czerwonawoda.pl/event/msza-swieta-na-zakonczenie-roku-szkolnego-i-katechetycznego-4/
END:VEVENT
END:VCALENDAR