BEGIN:VCALENDAR
VERSION:2.0
PRODID:-//Parafia pw. Wniebowzięcia NMP w Czerwonej Wodzie - ECPv6.8.1//NONSGML v1.0//EN
CALSCALE:GREGORIAN
METHOD:PUBLISH
X-ORIGINAL-URL:http://parafia.czerwonawoda.pl
X-WR-CALDESC:Events for Parafia pw. Wniebowzięcia NMP w Czerwonej Wodzie
REFRESH-INTERVAL;VALUE=DURATION:PT1H
X-Robots-Tag:noindex
X-PUBLISHED-TTL:PT1H
BEGIN:VTIMEZONE
TZID:Europe/Helsinki
BEGIN:DAYLIGHT
TZOFFSETFROM:+0200
TZOFFSETTO:+0300
TZNAME:EEST
DTSTART:20250330T010000
END:DAYLIGHT
BEGIN:STANDARD
TZOFFSETFROM:+0300
TZOFFSETTO:+0200
TZNAME:EET
DTSTART:20251026T010000
END:STANDARD
END:VTIMEZONE
BEGIN:VEVENT
DTSTART;TZID=Europe/Helsinki:20250811T180000
DTEND;TZID=Europe/Helsinki:20250811T180000
DTSTAMP:20260420T003433
CREATED:20250810T190441Z
LAST-MODIFIED:20250810T190441Z
UID:14094-1754935200-1754935200@parafia.czerwonawoda.pl
SUMMARY:Parafialna pielgrzymka z okazji Roku Jubileuszowego do kościoła Jubileuszowego Świętego Józefa w Zgorzelcu
DESCRIPTION:
URL:http://parafia.czerwonawoda.pl/event/parafialna-pielgrzymka-z-okazji-roku-jubileuszowego-do-kosciola-jubileuszowego-swietego-jozefa-w-zgorzelcu/
END:VEVENT
BEGIN:VEVENT
DTSTART;TZID=Europe/Helsinki:20250815T130000
DTEND;TZID=Europe/Helsinki:20250815T130000
DTSTAMP:20260420T003433
CREATED:20250622T180118Z
LAST-MODIFIED:20250810T190537Z
UID:13962-1755262800-1755262800@parafia.czerwonawoda.pl
SUMMARY:Odpust parafialny
DESCRIPTION:
URL:http://parafia.czerwonawoda.pl/event/odpust-parafialny-7/
LOCATION:Czerwona Woda\, Kościuszki 2a\, Czerwona Woda\, 59-942\, Polska
END:VEVENT
BEGIN:VEVENT
DTSTART;TZID=Europe/Helsinki:20250831T113000
DTEND;TZID=Europe/Helsinki:20250831T113000
DTSTAMP:20260420T003433
CREATED:20250830T164122Z
LAST-MODIFIED:20250830T164122Z
UID:14236-1756639800-1756639800@parafia.czerwonawoda.pl
SUMMARY:Poświęcenie tornistrów\, plecaków i przyborów szkolnych dla dzieci\, które rozpoczynają edukację w szkole
DESCRIPTION:
URL:http://parafia.czerwonawoda.pl/event/poswiecenie-tornistrow-plecakow-i-przyborow-szkolnych-dla-dzieci-ktore-rozpoczynaja-edukacje-w-szkole/
END:VEVENT
BEGIN:VEVENT
DTSTART;TZID=Europe/Helsinki:20250831T143000
DTEND;TZID=Europe/Helsinki:20250831T143000
DTSTAMP:20260420T003433
CREATED:20250830T164156Z
LAST-MODIFIED:20250830T164156Z
UID:14238-1756650600-1756650600@parafia.czerwonawoda.pl
SUMMARY:Zbiórka  ministrantów – podsumowanie konkursu – Ministrant wakacji 2025
DESCRIPTION:
URL:http://parafia.czerwonawoda.pl/event/zbiorka-ministrantow-podsumowanie-konkursu-ministrant-wakacji-2025/
END:VEVENT
END:VCALENDAR