BEGIN:VCALENDAR
VERSION:2.0
PRODID:-//Parafia pw. Wniebowzięcia NMP w Czerwonej Wodzie - ECPv6.8.1//NONSGML v1.0//EN
CALSCALE:GREGORIAN
METHOD:PUBLISH
X-ORIGINAL-URL:http://parafia.czerwonawoda.pl
X-WR-CALDESC:Events for Parafia pw. Wniebowzięcia NMP w Czerwonej Wodzie
REFRESH-INTERVAL;VALUE=DURATION:PT1H
X-Robots-Tag:noindex
X-PUBLISHED-TTL:PT1H
BEGIN:VTIMEZONE
TZID:Europe/Helsinki
BEGIN:DAYLIGHT
TZOFFSETFROM:+0200
TZOFFSETTO:+0300
TZNAME:EEST
DTSTART:20250330T010000
END:DAYLIGHT
BEGIN:STANDARD
TZOFFSETFROM:+0300
TZOFFSETTO:+0200
TZNAME:EET
DTSTART:20251026T010000
END:STANDARD
END:VTIMEZONE
BEGIN:VEVENT
DTSTART;TZID=Europe/Helsinki:20250907T113000
DTEND;TZID=Europe/Helsinki:20250907T113000
DTSTAMP:20260419T230555
CREATED:20250830T164238Z
LAST-MODIFIED:20250830T164238Z
UID:14240-1757244600-1757244600@parafia.czerwonawoda.pl
SUMMARY:Spotkanie dla dzieci z klasy III\, które przygotowują się do Pierwszej Spowiedzi i Pierwszej Komunii Świętej oraz dla ich rodziców i opiekunów prawnych
DESCRIPTION:
URL:http://parafia.czerwonawoda.pl/event/spotkanie-dla-dzieci-z-klasy-iii-ktore-przygotowuja-sie-do-pierwszej-spowiedzi-i-pierwszej-komunii-swietej-oraz-dla-ich-rodzicow-i-opiekunow-prawnych/
END:VEVENT
BEGIN:VEVENT
DTSTART;TZID=Europe/Helsinki:20250918T170000
DTEND;TZID=Europe/Helsinki:20250918T170000
DTSTAMP:20260419T230555
CREATED:20250914T175958Z
LAST-MODIFIED:20250914T175958Z
UID:14290-1758214800-1758214800@parafia.czerwonawoda.pl
SUMMARY:Spotkanie rodziców i młodzieży\, która pragnie przystąpić do sakramentu bierzmowania
DESCRIPTION:
URL:http://parafia.czerwonawoda.pl/event/spotkanie-rodzicow-i-mlodziezy-ktora-pragnie-przystapic-do-sakramentu-bierzmowania/
CATEGORIES:Bierzmowanie
END:VEVENT
BEGIN:VEVENT
DTSTART;TZID=Europe/Helsinki:20250924T160000
DTEND;TZID=Europe/Helsinki:20250924T160000
DTSTAMP:20260419T230555
CREATED:20250921T170208Z
LAST-MODIFIED:20250921T170208Z
UID:14302-1758729600-1758729600@parafia.czerwonawoda.pl
SUMMARY:Spotkanie dla młodzieży\, która pragnie przystąpić do sakramentu bierzmowania
DESCRIPTION:
URL:http://parafia.czerwonawoda.pl/event/spotkanie-dla-mlodziezy-ktora-pragnie-przystapic-do-sakramentu-bierzmowania-5/
END:VEVENT
BEGIN:VEVENT
DTSTART;TZID=Europe/Helsinki:20250927T100000
DTEND;TZID=Europe/Helsinki:20250927T100000
DTSTAMP:20260419T230555
CREATED:20250907T182342Z
LAST-MODIFIED:20250907T182342Z
UID:14274-1758967200-1758967200@parafia.czerwonawoda.pl
SUMMARY:Diecezjalny dzień skupienia Służby Liturgicznej
DESCRIPTION:
URL:http://parafia.czerwonawoda.pl/event/diecezjalny-dzien-skupienia-sluzby-liturgicznej/
ATTACH;FMTTYPE=image/jpeg:http://parafia.czerwonawoda.pl/wp-content/uploads/2025/09/1756895175-0426d6732019a7278ad597fb4c0a0e19_hd-scaled.jpeg
END:VEVENT
BEGIN:VEVENT
DTSTART;TZID=Europe/Helsinki:20250928T113000
DTEND;TZID=Europe/Helsinki:20250928T113000
DTSTAMP:20260419T230555
CREATED:20250921T170119Z
LAST-MODIFIED:20250921T170119Z
UID:14300-1759059000-1759059000@parafia.czerwonawoda.pl
SUMMARY:Poświęcenie i rozdanie różańców dla dzieci klasy III\, które przygotowują się do Pierwszej Spowiedzi i Pierwszej Komunii Świętej
DESCRIPTION:
URL:http://parafia.czerwonawoda.pl/event/poswiecenie-i-rozdanie-rozancow-dla-dzieci-klasy-iii-ktore-przygotowuja-sie-do-pierwszej-spowiedzi-i-pierwszej-komunii-swietej/
END:VEVENT
END:VCALENDAR