BEGIN:VCALENDAR
VERSION:2.0
PRODID:-//Parafia pw. Wniebowzięcia NMP w Czerwonej Wodzie - ECPv6.8.1//NONSGML v1.0//EN
CALSCALE:GREGORIAN
METHOD:PUBLISH
X-ORIGINAL-URL:http://parafia.czerwonawoda.pl
X-WR-CALDESC:Events for Parafia pw. Wniebowzięcia NMP w Czerwonej Wodzie
REFRESH-INTERVAL;VALUE=DURATION:PT1H
X-Robots-Tag:noindex
X-PUBLISHED-TTL:PT1H
BEGIN:VTIMEZONE
TZID:Europe/Helsinki
BEGIN:DAYLIGHT
TZOFFSETFROM:+0200
TZOFFSETTO:+0300
TZNAME:EEST
DTSTART:20250330T010000
END:DAYLIGHT
BEGIN:STANDARD
TZOFFSETFROM:+0300
TZOFFSETTO:+0200
TZNAME:EET
DTSTART:20251026T010000
END:STANDARD
END:VTIMEZONE
BEGIN:VEVENT
DTSTART;TZID=Europe/Helsinki:20251109T113000
DTEND;TZID=Europe/Helsinki:20251109T113000
DTSTAMP:20260419T195551
CREATED:20251102T200632Z
LAST-MODIFIED:20251102T200632Z
UID:14433-1762687800-1762687800@parafia.czerwonawoda.pl
SUMMARY:Poświecenie modlitewników dla dzieci pierwszokomunijnych
DESCRIPTION:
URL:http://parafia.czerwonawoda.pl/event/poswiecenie-modlitewnikow-dla-dzieci-pierwszokomunijnych-2/
END:VEVENT
BEGIN:VEVENT
DTSTART;TZID=Europe/Helsinki:20251112T160000
DTEND;TZID=Europe/Helsinki:20251112T160000
DTSTAMP:20260419T195551
CREATED:20251110T080706Z
LAST-MODIFIED:20251110T080706Z
UID:14443-1762963200-1762963200@parafia.czerwonawoda.pl
SUMMARY:Spotkanie dla młodzieży\, która przygotowuje się do sakramentu bierzmowania. Sprawdzenie wiadomości z przeczytanej Ewangelii według św. Marka.
DESCRIPTION:
URL:http://parafia.czerwonawoda.pl/event/spotkanie-dla-mlodziezy-ktora-przygotowuje-sie-do-sakramentu-bierzmowania-sprawdzenie-wiadomosci-z-przeczytanej-ewangelii-wedlug-sw-marka/
END:VEVENT
BEGIN:VEVENT
DTSTART;TZID=Europe/Helsinki:20251120T170000
DTEND;TZID=Europe/Helsinki:20251120T170000
DTSTAMP:20260419T195551
CREATED:20251116T184012Z
LAST-MODIFIED:20251116T184012Z
UID:14451-1763658000-1763658000@parafia.czerwonawoda.pl
SUMMARY:Spotkanie Parafialnej Rady Duszpasterskiej i Ekonomicznej
DESCRIPTION:
URL:http://parafia.czerwonawoda.pl/event/spotkanie-parafialnej-rady-duszpasterskiej-i-ekonomicznej-3/
END:VEVENT
END:VCALENDAR