BEGIN:VCALENDAR
VERSION:2.0
PRODID:-//Parafia pw. Wniebowzięcia NMP w Czerwonej Wodzie - ECPv6.8.1//NONSGML v1.0//EN
CALSCALE:GREGORIAN
METHOD:PUBLISH
X-ORIGINAL-URL:https://parafia.czerwonawoda.pl
X-WR-CALDESC:Events for Parafia pw. Wniebowzięcia NMP w Czerwonej Wodzie
REFRESH-INTERVAL;VALUE=DURATION:PT1H
X-Robots-Tag:noindex
X-PUBLISHED-TTL:PT1H
BEGIN:VTIMEZONE
TZID:Europe/Helsinki
BEGIN:DAYLIGHT
TZOFFSETFROM:+0200
TZOFFSETTO:+0300
TZNAME:EEST
DTSTART:20180325T010000
END:DAYLIGHT
BEGIN:STANDARD
TZOFFSETFROM:+0300
TZOFFSETTO:+0200
TZNAME:EET
DTSTART:20181028T010000
END:STANDARD
BEGIN:DAYLIGHT
TZOFFSETFROM:+0200
TZOFFSETTO:+0300
TZNAME:EEST
DTSTART:20190331T010000
END:DAYLIGHT
BEGIN:STANDARD
TZOFFSETFROM:+0300
TZOFFSETTO:+0200
TZNAME:EET
DTSTART:20191027T010000
END:STANDARD
BEGIN:DAYLIGHT
TZOFFSETFROM:+0200
TZOFFSETTO:+0300
TZNAME:EEST
DTSTART:20200329T010000
END:DAYLIGHT
BEGIN:STANDARD
TZOFFSETFROM:+0300
TZOFFSETTO:+0200
TZNAME:EET
DTSTART:20201025T010000
END:STANDARD
BEGIN:DAYLIGHT
TZOFFSETFROM:+0200
TZOFFSETTO:+0300
TZNAME:EEST
DTSTART:20210328T010000
END:DAYLIGHT
BEGIN:STANDARD
TZOFFSETFROM:+0300
TZOFFSETTO:+0200
TZNAME:EET
DTSTART:20211031T010000
END:STANDARD
BEGIN:DAYLIGHT
TZOFFSETFROM:+0200
TZOFFSETTO:+0300
TZNAME:EEST
DTSTART:20220327T010000
END:DAYLIGHT
BEGIN:STANDARD
TZOFFSETFROM:+0300
TZOFFSETTO:+0200
TZNAME:EET
DTSTART:20221030T010000
END:STANDARD
BEGIN:DAYLIGHT
TZOFFSETFROM:+0200
TZOFFSETTO:+0300
TZNAME:EEST
DTSTART:20230326T010000
END:DAYLIGHT
BEGIN:STANDARD
TZOFFSETFROM:+0300
TZOFFSETTO:+0200
TZNAME:EET
DTSTART:20231029T010000
END:STANDARD
BEGIN:DAYLIGHT
TZOFFSETFROM:+0200
TZOFFSETTO:+0300
TZNAME:EEST
DTSTART:20240331T010000
END:DAYLIGHT
BEGIN:STANDARD
TZOFFSETFROM:+0300
TZOFFSETTO:+0200
TZNAME:EET
DTSTART:20241027T010000
END:STANDARD
BEGIN:DAYLIGHT
TZOFFSETFROM:+0200
TZOFFSETTO:+0300
TZNAME:EEST
DTSTART:20250330T010000
END:DAYLIGHT
BEGIN:STANDARD
TZOFFSETFROM:+0300
TZOFFSETTO:+0200
TZNAME:EET
DTSTART:20251026T010000
END:STANDARD
END:VTIMEZONE
BEGIN:VEVENT
DTSTART;TZID=Europe/Helsinki:20250918T170000
DTEND;TZID=Europe/Helsinki:20250918T170000
DTSTAMP:20260420T161044
CREATED:20250914T175958Z
LAST-MODIFIED:20250914T175958Z
UID:14290-1758214800-1758214800@parafia.czerwonawoda.pl
SUMMARY:Spotkanie rodziców i młodzieży\, która pragnie przystąpić do sakramentu bierzmowania
DESCRIPTION:
URL:https://parafia.czerwonawoda.pl/event/spotkanie-rodzicow-i-mlodziezy-ktora-pragnie-przystapic-do-sakramentu-bierzmowania/
CATEGORIES:Bierzmowanie
END:VEVENT
BEGIN:VEVENT
DTSTART;TZID=Europe/Helsinki:20220502T120000
DTEND;TZID=Europe/Helsinki:20220502T120000
DTSTAMP:20260420T161044
CREATED:20220218T204215Z
LAST-MODIFIED:20220218T204215Z
UID:7705-1651492800-1651492800@parafia.czerwonawoda.pl
SUMMARY:Eucharystia w 50-lecie parafii połączona z udzieleniem Sakramentu Bierzmowania
DESCRIPTION:
URL:https://parafia.czerwonawoda.pl/event/eucharystia-w-50-lecie-parafii-polaczona-z-udzieleniem-sakramentu-bierzmowania/
CATEGORIES:Bierzmowanie
END:VEVENT
BEGIN:VEVENT
DTSTART;TZID=Europe/Helsinki:20200229T090000
DTEND;TZID=Europe/Helsinki:20200229T090000
DTSTAMP:20260420T161044
CREATED:20200222T151214Z
LAST-MODIFIED:20200222T151214Z
UID:5932-1582966800-1582966800@parafia.czerwonawoda.pl
SUMMARY:Spotkanie dla młodzieży przygotowującej się do sakramentu bierzmowania z klasy ósmej i starszych w Czerwonej Wodzie
DESCRIPTION:
URL:https://parafia.czerwonawoda.pl/event/spotkanie-dla-mlodziezy-przygotowujacej-sie-do-sakramentu-bierzmowania-z-klasy-osmej-i-starszych-w-czerwonej-wodzie/
CATEGORIES:Bierzmowanie
END:VEVENT
BEGIN:VEVENT
DTSTART;TZID=Europe/Helsinki:20200227T180000
DTEND;TZID=Europe/Helsinki:20200227T180000
DTSTAMP:20260420T161044
CREATED:20200222T151309Z
LAST-MODIFIED:20200222T151309Z
UID:5934-1582826400-1582826400@parafia.czerwonawoda.pl
SUMMARY:Spotkanie dla młodzieży przygotowującej się do sakramentu bierzmowania z klasy ósmej i starszych w Bielawie Górnej
DESCRIPTION:
URL:https://parafia.czerwonawoda.pl/event/spotkanie-dla-mlodziezy-przygotowujacej-sie-do-sakramentu-bierzmowania-z-klasy-osmej-i-starszych-w-bielawie-gornej/
CATEGORIES:Bierzmowanie
END:VEVENT
BEGIN:VEVENT
DTSTART;TZID=Europe/Helsinki:20191109T110000
DTEND;TZID=Europe/Helsinki:20191109T110000
DTSTAMP:20260420T161044
CREATED:20191103T220400Z
LAST-MODIFIED:20191103T220400Z
UID:5574-1573297200-1573297200@parafia.czerwonawoda.pl
SUMMARY:Spotkanie dla młodzieży klasy ósmej w Bielawie Górnej
DESCRIPTION:
URL:https://parafia.czerwonawoda.pl/event/spotkanie-dla-mlodziezy-klasy-osmej-w-bielawie-gornej/
CATEGORIES:Bierzmowanie
END:VEVENT
BEGIN:VEVENT
DTSTART;TZID=Europe/Helsinki:20191107T173000
DTEND;TZID=Europe/Helsinki:20191107T173000
DTSTAMP:20260420T161044
CREATED:20191103T220326Z
LAST-MODIFIED:20191103T220326Z
UID:5572-1573147800-1573147800@parafia.czerwonawoda.pl
SUMMARY:Spotkanie dla młodzieży klasy ósmej w Czerwonej Wodzie
DESCRIPTION:
URL:https://parafia.czerwonawoda.pl/event/spotkanie-dla-mlodziezy-klasy-osmej-w-czerwonej-wodzie/
CATEGORIES:Bierzmowanie
END:VEVENT
BEGIN:VEVENT
DTSTART;TZID=Europe/Helsinki:20190921T093000
DTEND;TZID=Europe/Helsinki:20190921T093000
DTSTAMP:20260420T161044
CREATED:20190914T203234Z
LAST-MODIFIED:20190914T203234Z
UID:5412-1569058200-1569058200@parafia.czerwonawoda.pl
SUMMARY:Spotkanie dla młodzieży\, która pragnie przystąpić do sakramentu bierzmowania
DESCRIPTION:
URL:https://parafia.czerwonawoda.pl/event/spotkanie-dla-mlodziezy-ktora-pragnie-przystapic-do-sakramentu-bierzmowania-2/
CATEGORIES:Bierzmowanie
END:VEVENT
BEGIN:VEVENT
DTSTART;TZID=Europe/Helsinki:20190915T121500
DTEND;TZID=Europe/Helsinki:20190915T121500
DTSTAMP:20260420T161044
CREATED:20190909T214158Z
LAST-MODIFIED:20190914T202903Z
UID:5399-1568549700-1568549700@parafia.czerwonawoda.pl
SUMMARY:Spotkanie dla rodziców młodzieży\, która pragnie przystąpić do sakramentu bierzmowania
DESCRIPTION:
URL:https://parafia.czerwonawoda.pl/event/spotkanie-dla-rodzicow-mlodziezy-ktora-pragnie-przystapic-do-sakramentu-bierzmowania/
CATEGORIES:Bierzmowanie
END:VEVENT
BEGIN:VEVENT
DTSTART;TZID=Europe/Helsinki:20190914T100000
DTEND;TZID=Europe/Helsinki:20190914T100000
DTSTAMP:20260420T161044
CREATED:20190909T214120Z
LAST-MODIFIED:20190909T214120Z
UID:5397-1568455200-1568455200@parafia.czerwonawoda.pl
SUMMARY:Spotkanie dla młodzieży\, która pragnie przystąpić do sakramentu bierzmowania
DESCRIPTION:
URL:https://parafia.czerwonawoda.pl/event/spotkanie-dla-mlodziezy-ktora-pragnie-przystapic-do-sakramentu-bierzmowania/
CATEGORIES:Bierzmowanie
END:VEVENT
BEGIN:VEVENT
DTSTART;TZID=Europe/Helsinki:20181026T183000
DTEND;TZID=Europe/Helsinki:20181026T183000
DTSTAMP:20260420T161044
CREATED:20181023T220734Z
LAST-MODIFIED:20181023T220734Z
UID:4405-1540578600-1540578600@parafia.czerwonawoda.pl
SUMMARY:Spotkanie dla młodzieży z klasy ósmej i III gimnazjum
DESCRIPTION:
URL:https://parafia.czerwonawoda.pl/event/spotkanie-dla-mlodziezy-z-klasy-osmej-i-iii-gimnazjum/
CATEGORIES:Bierzmowanie
END:VEVENT
BEGIN:VEVENT
DTSTART;TZID=Europe/Helsinki:20180926T183000
DTEND;TZID=Europe/Helsinki:20180926T183000
DTSTAMP:20260420T161044
CREATED:20180923T074547Z
LAST-MODIFIED:20180923T074547Z
UID:4372-1537986600-1537986600@parafia.czerwonawoda.pl
SUMMARY:Spotkanie dla młodzieży z klasy VIII i starszej\, która pragnie przystąpić do sakramentu bierzmowania
DESCRIPTION:
URL:https://parafia.czerwonawoda.pl/event/spotkanie-dla-mlodziezy-z-klasy-viii-i-starszej-ktora-pragnie-przystapic-do-sakramentu-bierzmowania/
CATEGORIES:Bierzmowanie
END:VEVENT
BEGIN:VEVENT
DTSTART;TZID=Europe/Helsinki:20180415T160000
DTEND;TZID=Europe/Helsinki:20180415T160000
DTSTAMP:20260420T161044
CREATED:20180407T213831Z
LAST-MODIFIED:20180407T213831Z
UID:3983-1523808000-1523808000@parafia.czerwonawoda.pl
SUMMARY:Spowiedź dla młodzieży bierzmowanej\, świadków do bierzmowania i ich rodziców
DESCRIPTION:
URL:https://parafia.czerwonawoda.pl/event/spowiedz-dla-mlodziezy-bierzmowanej-swiadkow-do-bierzmowania-i-ich-rodzicow/
CATEGORIES:Bierzmowanie
END:VEVENT
BEGIN:VEVENT
DTSTART;TZID=Europe/Helsinki:20180406T173000
DTEND;TZID=Europe/Helsinki:20180406T173000
DTSTAMP:20260420T161044
CREATED:20180331T224644Z
LAST-MODIFIED:20180331T224644Z
UID:3944-1523035800-1523035800@parafia.czerwonawoda.pl
SUMMARY:Spotkanie dla młodzieży przygotowującej się do przyjęcia Sakramentu Bierzmowania
DESCRIPTION:
URL:https://parafia.czerwonawoda.pl/event/spotkanie-dla-mlodziezy-przygotowujacej-sie-do-przyjecia-sakramentu-bierzmowania-3/
CATEGORIES:Bierzmowanie
END:VEVENT
BEGIN:VEVENT
DTSTART;TZID=Europe/Helsinki:20180315T193000
DTEND;TZID=Europe/Helsinki:20180315T193000
DTSTAMP:20260420T161044
CREATED:20180310T202110Z
LAST-MODIFIED:20180310T202110Z
UID:3800-1521142200-1521142200@parafia.czerwonawoda.pl
SUMMARY:Spotkanie dla młodzieży przygotowującej się do przyjęcia Sakramentu Bierzmowania
DESCRIPTION:
URL:https://parafia.czerwonawoda.pl/event/spotkanie-dla-mlodziezy-przygotowujacej-sie-do-przyjecia-sakramentu-bierzmowania-2/
CATEGORIES:Bierzmowanie
END:VEVENT
BEGIN:VEVENT
DTSTART;TZID=Europe/Helsinki:20180309T200000
DTEND;TZID=Europe/Helsinki:20180309T200000
DTSTAMP:20260420T161044
CREATED:20180303T110904Z
LAST-MODIFIED:20180303T110904Z
UID:3697-1520625600-1520625600@parafia.czerwonawoda.pl
SUMMARY:Spotkanie dla młodzieży przygotowującej się do przyjęcia Sakramentu Bierzmowania - Bielawa Górna
DESCRIPTION:
URL:https://parafia.czerwonawoda.pl/event/spotkanie-dla-mlodziezy-przygotowujacej-sie-do-przyjecia-sakramentu-bierzmowania-bielawa-gorna/
LOCATION:Bielawa Górna\, Bielawa Górna\, Poland
CATEGORIES:Bierzmowanie
END:VEVENT
BEGIN:VEVENT
DTSTART;TZID=Europe/Helsinki:20180308T193000
DTEND;TZID=Europe/Helsinki:20180308T193000
DTSTAMP:20260420T161044
CREATED:20180303T110709Z
LAST-MODIFIED:20180303T110729Z
UID:3693-1520537400-1520537400@parafia.czerwonawoda.pl
SUMMARY:Spotkanie dla młodzieży przygotowującej się do przyjęcia Sakramentu Bierzmowania - Czerwona Woda
DESCRIPTION:
URL:https://parafia.czerwonawoda.pl/event/spotkanie-dla-mlodziezy-przygotowujacej-sie-do-przyjecia-sakramentu-bierzmowania/
LOCATION:Czerwona Woda
CATEGORIES:Bierzmowanie
END:VEVENT
BEGIN:VEVENT
DTSTART;TZID=Europe/Helsinki:20180304T143000
DTEND;TZID=Europe/Helsinki:20180304T143000
DTSTAMP:20260420T161044
CREATED:20180301T164914Z
LAST-MODIFIED:20180301T164914Z
UID:3569-1520173800-1520173800@parafia.czerwonawoda.pl
SUMMARY:Spotkanie rodziców młodzieży przygotowującej się do przyjęcia Sakramentu Bierzmowania
DESCRIPTION:
URL:https://parafia.czerwonawoda.pl/event/spotkanie-rodzicow-mlodziezy-przygotowujacej-sie-do-przyjecia-sakramentu-bierzmowania/
CATEGORIES:Bierzmowanie
END:VEVENT
BEGIN:VEVENT
DTSTART;TZID=Europe/Helsinki:20180301T193000
DTEND;TZID=Europe/Helsinki:20180301T193000
DTSTAMP:20260420T161044
CREATED:20180301T161653Z
LAST-MODIFIED:20180301T161653Z
UID:3521-1519932600-1519932600@parafia.czerwonawoda.pl
SUMMARY:Spotkanie młodzieży kl. III gimnazjalnej oraz szkół licealnych przygotowujących się do przyjęcia Sakramentu Bierzmowania
DESCRIPTION:
URL:https://parafia.czerwonawoda.pl/event/spotkanie-mlodziezy-kl-iii-gimnazjalnej-oraz-szkol-licealnych-przygotowujacych-sie-do-przyjecia-sakramentu-bierzmowania/
CATEGORIES:Bierzmowanie
END:VEVENT
END:VCALENDAR