BEGIN:VCALENDAR
VERSION:2.0
PRODID:-//Parafia pw. Wniebowzięcia NMP w Czerwonej Wodzie - ECPv6.8.1//NONSGML v1.0//EN
CALSCALE:GREGORIAN
METHOD:PUBLISH
X-ORIGINAL-URL:https://parafia.czerwonawoda.pl
X-WR-CALDESC:Events for Parafia pw. Wniebowzięcia NMP w Czerwonej Wodzie
REFRESH-INTERVAL;VALUE=DURATION:PT1H
X-Robots-Tag:noindex
X-PUBLISHED-TTL:PT1H
BEGIN:VTIMEZONE
TZID:Europe/Helsinki
BEGIN:DAYLIGHT
TZOFFSETFROM:+0200
TZOFFSETTO:+0300
TZNAME:EEST
DTSTART:20180325T010000
END:DAYLIGHT
BEGIN:STANDARD
TZOFFSETFROM:+0300
TZOFFSETTO:+0200
TZNAME:EET
DTSTART:20181028T010000
END:STANDARD
END:VTIMEZONE
BEGIN:VEVENT
DTSTART;TZID=Europe/Helsinki:20180406T173000
DTEND;TZID=Europe/Helsinki:20180406T173000
DTSTAMP:20260420T200532
CREATED:20180331T224644Z
LAST-MODIFIED:20180331T224644Z
UID:3944-1523035800-1523035800@parafia.czerwonawoda.pl
SUMMARY:Spotkanie dla młodzieży przygotowującej się do przyjęcia Sakramentu Bierzmowania
DESCRIPTION:
URL:https://parafia.czerwonawoda.pl/event/spotkanie-dla-mlodziezy-przygotowujacej-sie-do-przyjecia-sakramentu-bierzmowania-3/
CATEGORIES:Bierzmowanie
END:VEVENT
BEGIN:VEVENT
DTSTART;TZID=Europe/Helsinki:20180315T193000
DTEND;TZID=Europe/Helsinki:20180315T193000
DTSTAMP:20260420T200532
CREATED:20180310T202110Z
LAST-MODIFIED:20180310T202110Z
UID:3800-1521142200-1521142200@parafia.czerwonawoda.pl
SUMMARY:Spotkanie dla młodzieży przygotowującej się do przyjęcia Sakramentu Bierzmowania
DESCRIPTION:
URL:https://parafia.czerwonawoda.pl/event/spotkanie-dla-mlodziezy-przygotowujacej-sie-do-przyjecia-sakramentu-bierzmowania-2/
CATEGORIES:Bierzmowanie
END:VEVENT
BEGIN:VEVENT
DTSTART;TZID=Europe/Helsinki:20180309T200000
DTEND;TZID=Europe/Helsinki:20180309T200000
DTSTAMP:20260420T200532
CREATED:20180303T110904Z
LAST-MODIFIED:20180303T110904Z
UID:3697-1520625600-1520625600@parafia.czerwonawoda.pl
SUMMARY:Spotkanie dla młodzieży przygotowującej się do przyjęcia Sakramentu Bierzmowania - Bielawa Górna
DESCRIPTION:
URL:https://parafia.czerwonawoda.pl/event/spotkanie-dla-mlodziezy-przygotowujacej-sie-do-przyjecia-sakramentu-bierzmowania-bielawa-gorna/
LOCATION:Bielawa Górna\, Bielawa Górna\, Poland
CATEGORIES:Bierzmowanie
END:VEVENT
BEGIN:VEVENT
DTSTART;TZID=Europe/Helsinki:20180308T193000
DTEND;TZID=Europe/Helsinki:20180308T193000
DTSTAMP:20260420T200532
CREATED:20180303T110709Z
LAST-MODIFIED:20180303T110729Z
UID:3693-1520537400-1520537400@parafia.czerwonawoda.pl
SUMMARY:Spotkanie dla młodzieży przygotowującej się do przyjęcia Sakramentu Bierzmowania - Czerwona Woda
DESCRIPTION:
URL:https://parafia.czerwonawoda.pl/event/spotkanie-dla-mlodziezy-przygotowujacej-sie-do-przyjecia-sakramentu-bierzmowania/
LOCATION:Czerwona Woda
CATEGORIES:Bierzmowanie
END:VEVENT
BEGIN:VEVENT
DTSTART;TZID=Europe/Helsinki:20180304T143000
DTEND;TZID=Europe/Helsinki:20180304T143000
DTSTAMP:20260420T200532
CREATED:20180301T164914Z
LAST-MODIFIED:20180301T164914Z
UID:3569-1520173800-1520173800@parafia.czerwonawoda.pl
SUMMARY:Spotkanie rodziców młodzieży przygotowującej się do przyjęcia Sakramentu Bierzmowania
DESCRIPTION:
URL:https://parafia.czerwonawoda.pl/event/spotkanie-rodzicow-mlodziezy-przygotowujacej-sie-do-przyjecia-sakramentu-bierzmowania/
CATEGORIES:Bierzmowanie
END:VEVENT
BEGIN:VEVENT
DTSTART;TZID=Europe/Helsinki:20180301T193000
DTEND;TZID=Europe/Helsinki:20180301T193000
DTSTAMP:20260420T200532
CREATED:20180301T161653Z
LAST-MODIFIED:20180301T161653Z
UID:3521-1519932600-1519932600@parafia.czerwonawoda.pl
SUMMARY:Spotkanie młodzieży kl. III gimnazjalnej oraz szkół licealnych przygotowujących się do przyjęcia Sakramentu Bierzmowania
DESCRIPTION:
URL:https://parafia.czerwonawoda.pl/event/spotkanie-mlodziezy-kl-iii-gimnazjalnej-oraz-szkol-licealnych-przygotowujacych-sie-do-przyjecia-sakramentu-bierzmowania/
CATEGORIES:Bierzmowanie
END:VEVENT
END:VCALENDAR